| Back to Multiple platform build/check report for BioC 3.15 |
|
This page was generated on 2022-03-18 11:08:53 -0400 (Fri, 18 Mar 2022).
| Hostname | OS | Arch (*) | R version | Installed pkgs |
|---|---|---|---|---|
| nebbiolo1 | Linux (Ubuntu 20.04.4 LTS) | x86_64 | R Under development (unstable) (2022-02-17 r81757) -- "Unsuffered Consequences" | 4334 |
| riesling1 | Windows Server 2019 Standard | x64 | R Under development (unstable) (2021-11-21 r81221) -- "Unsuffered Consequences" | 4097 |
| palomino3 | Windows Server 2022 Datacenter | x64 | R Under development (unstable) (2022-02-17 r81757 ucrt) -- "Unsuffered Consequences" | 4083 |
| merida1 | macOS 10.14.6 Mojave | x86_64 | R Under development (unstable) (2022-03-02 r81842) -- "Unsuffered Consequences" | 4134 |
| Click on any hostname to see more info about the system (e.g. compilers) (*) as reported by 'uname -p', except on Windows and Mac OS X | ||||
|
To the developers/maintainers of the trackViewer package: - Please allow up to 24 hours (and sometimes 48 hours) for your latest push to git@git.bioconductor.org:packages/trackViewer.git to reflect on this report. See How and When does the builder pull? When will my changes propagate? here for more information. - Make sure to use the following settings in order to reproduce any error or warning you see on this page. |
| Package 1985/2090 | Hostname | OS / Arch | INSTALL | BUILD | CHECK | BUILD BIN | ||||||||
| trackViewer 1.31.2 (landing page) Jianhong Ou
| nebbiolo1 | Linux (Ubuntu 20.04.4 LTS) / x86_64 | OK | OK | OK | |||||||||
| riesling1 | Windows Server 2019 Standard / x64 | OK | OK | OK | OK | |||||||||
| palomino3 | Windows Server 2022 Datacenter / x64 | OK | ERROR | skipped | skipped | |||||||||
| merida1 | macOS 10.14.6 Mojave / x86_64 | OK | OK | OK | OK | |||||||||
| Package: trackViewer |
| Version: 1.31.2 |
| Command: D:\biocbuild\bbs-3.15-bioc\R\bin\R.exe CMD INSTALL trackViewer |
| StartedAt: 2022-03-17 16:17:10 -0400 (Thu, 17 Mar 2022) |
| EndedAt: 2022-03-17 16:18:41 -0400 (Thu, 17 Mar 2022) |
| EllapsedTime: 90.1 seconds |
| RetCode: 0 |
| Status: OK |
##############################################################################
##############################################################################
###
### Running command:
###
### D:\biocbuild\bbs-3.15-bioc\R\bin\R.exe CMD INSTALL trackViewer
###
##############################################################################
##############################################################################
* installing to library 'D:/biocbuild/bbs-3.15-bioc/R/library'
* installing *source* package 'trackViewer' ...
** using staged installation
** libs
"C:/rtools40/mingw64/bin/"g++ -std=gnu++11 -I"D:/biocbuild/bbs-3.15-bioc/R/include" -DNDEBUG -I'D:/biocbuild/bbs-3.15-bioc/R/library/Rcpp/include' -I"C:/extsoft/include" -O2 -Wall -mfpmath=sse -msse2 -mstackrealign -fno-reorder-blocks-and-partition -c RcppExports.cpp -o RcppExports.o
"C:/rtools40/mingw64/bin/"g++ -std=gnu++11 -I"D:/biocbuild/bbs-3.15-bioc/R/include" -DNDEBUG -I'D:/biocbuild/bbs-3.15-bioc/R/library/Rcpp/include' -I"C:/extsoft/include" -O2 -Wall -mfpmath=sse -msse2 -mstackrealign -fno-reorder-blocks-and-partition -c hic.cpp -o hic.o
hic.cpp: In member function 'void HicFileHead::readHeader(std::ifstream&)':
hic.cpp:247:16: warning: unused variable 'nviPosition' [-Wunused-variable]
long nviPosition = readLong(ifile);
^~~~~~~~~~~
hic.cpp:248:16: warning: unused variable 'nviLength' [-Wunused-variable]
long nviLength = readLong(ifile);
^~~~~~~~~
hic.cpp: In function 'std::vector<cellData> getByCoor(std::__cxx11::string, int, int, std::__cxx11::string, int, int, int, std::__cxx11::string, std::__cxx11::string, HicFileHead&, HicFileFoot&, std::ifstream&)':
hic.cpp:751:19: warning: '*((void*)& bd +8)' may be used uninitialized in this function [-Wmaybe-uninitialized]
for(int i=0; i<data.nResolutions; i++){
~^~~~~~~~~~~~~~~~~~
hic.cpp:797:10: note: '*((void*)& bd +8)' was declared here
body bd;
^~
hic.cpp:797:10: warning: '*((void*)& bd +16)' may be used uninitialized in this function [-Wmaybe-uninitialized]
C:/rtools40/mingw64/bin/g++ -std=gnu++11 -shared -s -static-libgcc -o trackViewer.dll tmp.def RcppExports.o hic.o -lz -LC:/extsoft/lib/x64 -LC:/extsoft/lib -LD:/biocbuild/bbs-3.15-bioc/R/bin/x64 -lR
installing to D:/biocbuild/bbs-3.15-bioc/R/library/00LOCK-trackViewer/00new/trackViewer/libs/x64
** R
** inst
** byte-compile and prepare package for lazy loading
** help
*** installing help indices
converting help for package 'trackViewer'
finding HTML links ... done
GRoperator html
addArrowMark html
addGuideLine html
browseTracks-shiny html
browseTracks html
coverageGR html
dandelion.plot html
geneModelFromTxdb html
geneTrack html
getCurTrackViewport html
getGeneIDsFromTxDb html
getLocation html
gi2track html
gieStain html
gridPlot html
ideogramPlot html
importBam html
importData html
importGInteractions html
importScSeqScore html
importScore html
listChromosomes html
listResolutions html
loadIdeogram html
lolliplot html
optimizeStyle html
parse2GRanges html
parseWIG html
plotGInteractions html
plotGRanges html
plotIdeo html
plotOneIdeo html
pos-class html
trackList-class html
trackStyle-class html
trackViewer-package html
trackViewerStyle-class html
viewGene html
viewTracks html
xscale-class html
yaxisStyle-class html
** building package indices
** installing vignettes
** testing if installed package can be loaded from temporary location
** testing if installed package can be loaded from final location
** testing if installed package keeps a record of temporary installation path
* DONE (trackViewer)
Making 'packages.html' ...Warning in packageDescription(i, lib.loc = lib, fields = "Title", encoding = "UTF-8") :
DESCRIPTION file of package 'TCGAbiolinksGUI' is missing or broken
done