| Back to Multiple platform build/check report for BioC 3.15 |
|
This page was generated on 2022-10-19 13:21:00 -0400 (Wed, 19 Oct 2022).
| Hostname | OS | Arch (*) | R version | Installed pkgs |
|---|---|---|---|---|
| nebbiolo1 | Linux (Ubuntu 20.04.5 LTS) | x86_64 | 4.2.1 (2022-06-23) -- "Funny-Looking Kid" | 4386 |
| palomino3 | Windows Server 2022 Datacenter | x64 | 4.2.1 (2022-06-23 ucrt) -- "Funny-Looking Kid" | 4138 |
| merida1 | macOS 10.14.6 Mojave | x86_64 | 4.2.1 (2022-06-23) -- "Funny-Looking Kid" | 4205 |
| Click on any hostname to see more info about the system (e.g. compilers) (*) as reported by 'uname -p', except on Windows and Mac OS X | ||||
|
To the developers/maintainers of the trackViewer package: - Please allow up to 24 hours (and sometimes 48 hours) for your latest push to git@git.bioconductor.org:packages/trackViewer.git to reflect on this report. See How and When does the builder pull? When will my changes propagate? for more information. - Make sure to use the following settings in order to reproduce any error or warning you see on this page. |
| Package 2032/2140 | Hostname | OS / Arch | INSTALL | BUILD | CHECK | BUILD BIN | ||||||||
| trackViewer 1.32.1 (landing page) Jianhong Ou
| nebbiolo1 | Linux (Ubuntu 20.04.5 LTS) / x86_64 | OK | OK | OK | |||||||||
| palomino3 | Windows Server 2022 Datacenter / x64 | OK | OK | OK | OK | |||||||||
| merida1 | macOS 10.14.6 Mojave / x86_64 | OK | OK | OK | OK | |||||||||
| Package: trackViewer |
| Version: 1.32.1 |
| Command: /home/biocbuild/bbs-3.15-bioc/R/bin/R CMD check --install=check:trackViewer.install-out.txt --library=/home/biocbuild/bbs-3.15-bioc/R/library --no-vignettes --timings trackViewer_1.32.1.tar.gz |
| StartedAt: 2022-10-18 22:11:45 -0400 (Tue, 18 Oct 2022) |
| EndedAt: 2022-10-18 22:19:43 -0400 (Tue, 18 Oct 2022) |
| EllapsedTime: 477.4 seconds |
| RetCode: 0 |
| Status: OK |
| CheckDir: trackViewer.Rcheck |
| Warnings: 0 |
##############################################################################
##############################################################################
###
### Running command:
###
### /home/biocbuild/bbs-3.15-bioc/R/bin/R CMD check --install=check:trackViewer.install-out.txt --library=/home/biocbuild/bbs-3.15-bioc/R/library --no-vignettes --timings trackViewer_1.32.1.tar.gz
###
##############################################################################
##############################################################################
* using log directory ‘/home/biocbuild/bbs-3.15-bioc/meat/trackViewer.Rcheck’
* using R version 4.2.1 (2022-06-23)
* using platform: x86_64-pc-linux-gnu (64-bit)
* using session charset: UTF-8
* using option ‘--no-vignettes’
* checking for file ‘trackViewer/DESCRIPTION’ ... OK
* checking extension type ... Package
* this is package ‘trackViewer’ version ‘1.32.1’
* package encoding: UTF-8
* checking package namespace information ... OK
* checking package dependencies ... OK
* checking if this is a source package ... OK
* checking if there is a namespace ... OK
* checking for hidden files and directories ... OK
* checking for portable file names ... OK
* checking for sufficient/correct file permissions ... OK
* checking whether package ‘trackViewer’ can be installed ... OK
* checking installed package size ... OK
* checking package directory ... OK
* checking ‘build’ directory ... OK
* checking DESCRIPTION meta-information ... OK
* checking top-level files ... OK
* checking for left-over files ... OK
* checking index information ... OK
* checking package subdirectories ... OK
* checking R files for non-ASCII characters ... OK
* checking R files for syntax errors ... OK
* checking whether the package can be loaded ... OK
* checking whether the package can be loaded with stated dependencies ... OK
* checking whether the package can be unloaded cleanly ... OK
* checking whether the namespace can be loaded with stated dependencies ... OK
* checking whether the namespace can be unloaded cleanly ... OK
* checking dependencies in R code ... OK
* checking S3 generic/method consistency ... OK
* checking replacement functions ... OK
* checking foreign function calls ... OK
* checking R code for possible problems ... OK
* checking Rd files ... OK
* checking Rd metadata ... OK
* checking Rd cross-references ... OK
* checking for missing documentation entries ... OK
* checking for code/documentation mismatches ... OK
* checking Rd \usage sections ... OK
* checking Rd contents ... OK
* checking for unstated dependencies in examples ... OK
* checking line endings in C/C++/Fortran sources/headers ... OK
* checking line endings in Makefiles ... OK
* checking compilation flags in Makevars ... OK
* checking for GNU extensions in Makefiles ... OK
* checking for portable use of $(BLAS_LIBS) and $(LAPACK_LIBS) ... OK
* checking use of PKG_*FLAGS in Makefiles ... OK
* checking compiled code ... NOTE
Note: information on .o files is not available
* checking files in ‘vignettes’ ... OK
* checking examples ... OK
Examples with CPU (user + system) or elapsed time > 5s
user system elapsed
trackViewer-package 21.612 0.216 21.829
parseWIG 16.276 0.260 16.536
viewTracks 16.398 0.128 16.527
browseTracks 15.004 0.399 15.408
geneModelFromTxdb 5.615 0.408 6.023
viewGene 5.378 0.084 5.466
* checking for unstated dependencies in ‘tests’ ... OK
* checking tests ...
Running ‘runTests.R’
OK
* checking for unstated dependencies in vignettes ... OK
* checking package vignettes in ‘inst/doc’ ... OK
* checking running R code from vignettes ... SKIPPED
* checking re-building of vignette outputs ... SKIPPED
* checking PDF version of manual ... OK
* DONE
Status: 1 NOTE
See
‘/home/biocbuild/bbs-3.15-bioc/meat/trackViewer.Rcheck/00check.log’
for details.
trackViewer.Rcheck/00install.out
##############################################################################
##############################################################################
###
### Running command:
###
### /home/biocbuild/bbs-3.15-bioc/R/bin/R CMD INSTALL trackViewer
###
##############################################################################
##############################################################################
* installing to library ‘/home/biocbuild/bbs-3.15-bioc/R/library’
* installing *source* package ‘trackViewer’ ...
** using staged installation
** libs
g++ -std=gnu++14 -I"/home/biocbuild/bbs-3.15-bioc/R/include" -DNDEBUG -I'/home/biocbuild/bbs-3.15-bioc/R/library/Rcpp/include' -I/usr/local/include -fpic -g -O2 -Wall -c RcppExports.cpp -o RcppExports.o
g++ -std=gnu++14 -I"/home/biocbuild/bbs-3.15-bioc/R/include" -DNDEBUG -I'/home/biocbuild/bbs-3.15-bioc/R/library/Rcpp/include' -I/usr/local/include -fpic -g -O2 -Wall -c hic.cpp -o hic.o
hic.cpp: In member function ‘void HicFileHead::readHeader(std::ifstream&)’:
hic.cpp:247:16: warning: unused variable ‘nviPosition’ [-Wunused-variable]
247 | long nviPosition = readLong(ifile);
| ^~~~~~~~~~~
hic.cpp:248:16: warning: unused variable ‘nviLength’ [-Wunused-variable]
248 | long nviLength = readLong(ifile);
| ^~~~~~~~~
hic.cpp: In function ‘std::vector<cellData> getByCoor(std::string, int, int, std::string, int, int, int, std::string, std::string, HicFileHead&, HicFileFoot&, std::ifstream&)’:
hic.cpp:751:19: warning: ‘*((void*)(& bd)+8).resolutions::nResolutions’ may be used uninitialized in this function [-Wmaybe-uninitialized]
751 | for(int i=0; i<data.nResolutions; i++){
| ~^~~~~~~~~~~~~~~~~~
hic.cpp:797:10: note: ‘*((void*)(& bd)+8).resolutions::nResolutions’ was declared here
797 | body bd;
| ^~
hic.cpp:797:10: warning: ‘*((void*)(& bd)+8).resolutions::res’ may be used uninitialized in this function [-Wmaybe-uninitialized]
g++ -std=gnu++14 -shared -L/home/biocbuild/bbs-3.15-bioc/R/lib -L/usr/local/lib -o trackViewer.so RcppExports.o hic.o -L/home/biocbuild/bbs-3.15-bioc/R/lib -lR
installing to /home/biocbuild/bbs-3.15-bioc/R/library/00LOCK-trackViewer/00new/trackViewer/libs
** R
** inst
** byte-compile and prepare package for lazy loading
** help
*** installing help indices
** building package indices
** installing vignettes
** testing if installed package can be loaded from temporary location
** checking absolute paths in shared objects and dynamic libraries
** testing if installed package can be loaded from final location
** testing if installed package keeps a record of temporary installation path
* DONE (trackViewer)
trackViewer.Rcheck/tests/runTests.Rout
R version 4.2.1 (2022-06-23) -- "Funny-Looking Kid"
Copyright (C) 2022 The R Foundation for Statistical Computing
Platform: x86_64-pc-linux-gnu (64-bit)
R is free software and comes with ABSOLUTELY NO WARRANTY.
You are welcome to redistribute it under certain conditions.
Type 'license()' or 'licence()' for distribution details.
R is a collaborative project with many contributors.
Type 'contributors()' for more information and
'citation()' on how to cite R or R packages in publications.
Type 'demo()' for some demos, 'help()' for on-line help, or
'help.start()' for an HTML browser interface to help.
Type 'q()' to quit R.
> require("trackViewer") || stop("unable to load Package:trackViewer")
Loading required package: trackViewer
Loading required package: GenomicRanges
Loading required package: stats4
Loading required package: BiocGenerics
Attaching package: 'BiocGenerics'
The following objects are masked from 'package:stats':
IQR, mad, sd, var, xtabs
The following objects are masked from 'package:base':
Filter, Find, Map, Position, Reduce, anyDuplicated, append,
as.data.frame, basename, cbind, colnames, dirname, do.call,
duplicated, eval, evalq, get, grep, grepl, intersect, is.unsorted,
lapply, mapply, match, mget, order, paste, pmax, pmax.int, pmin,
pmin.int, rank, rbind, rownames, sapply, setdiff, sort, table,
tapply, union, unique, unsplit, which.max, which.min
Loading required package: S4Vectors
Attaching package: 'S4Vectors'
The following objects are masked from 'package:base':
I, expand.grid, unname
Loading required package: IRanges
Loading required package: GenomeInfoDb
Loading required package: grid
Loading required package: Rcpp
[1] TRUE
> require("RUnit") || stop("unable to load Package:RUnit")
Loading required package: RUnit
[1] TRUE
> BiocGenerics:::testPackage("trackViewer")
RUNIT TEST PROTOCOL -- Tue Oct 18 22:19:39 2022
***********************************************
Number of test functions: 2
Number of errors: 0
Number of failures: 0
1 Test Suite :
trackViewer RUnit Tests - 2 test functions, 0 errors, 0 failures
Number of test functions: 2
Number of errors: 0
Number of failures: 0
>
> proc.time()
user system elapsed
17.613 0.959 18.557
trackViewer.Rcheck/trackViewer-Ex.timings
| name | user | system | elapsed | |
| GRoperator | 3.237 | 0.248 | 3.486 | |
| addArrowMark | 0.009 | 0.000 | 0.008 | |
| addGuideLine | 0.004 | 0.000 | 0.004 | |
| browseTracks | 15.004 | 0.399 | 15.408 | |
| coverageGR | 0.206 | 0.000 | 0.205 | |
| dandelion.plot | 2.276 | 0.023 | 2.300 | |
| geneModelFromTxdb | 5.615 | 0.408 | 6.023 | |
| geneTrack | 2.000 | 0.028 | 2.028 | |
| getCurTrackViewport | 0.003 | 0.000 | 0.002 | |
| getGeneIDsFromTxDb | 0.866 | 0.036 | 0.902 | |
| getLocation | 1.515 | 0.024 | 1.539 | |
| gi2track | 0.043 | 0.004 | 0.048 | |
| gieStain | 0.003 | 0.004 | 0.006 | |
| ideogramPlot | 0.001 | 0.000 | 0.000 | |
| importBam | 0.308 | 0.000 | 0.308 | |
| importData | 3.290 | 0.084 | 3.373 | |
| importGInteractions | 1.635 | 0.004 | 1.643 | |
| importScSeqScore | 0.000 | 0.000 | 0.001 | |
| importScore | 0.653 | 0.016 | 0.671 | |
| listChromosomes | 0.415 | 0.012 | 0.427 | |
| listResolutions | 0.003 | 0.000 | 0.003 | |
| loadIdeogram | 0 | 0 | 0 | |
| lolliplot | 0.748 | 0.036 | 0.783 | |
| optimizeStyle | 0.561 | 0.028 | 0.589 | |
| parse2GRanges | 0.012 | 0.000 | 0.012 | |
| parseWIG | 16.276 | 0.260 | 16.536 | |
| plotGInteractions | 1.289 | 0.032 | 1.321 | |
| plotGRanges | 1.509 | 0.004 | 1.513 | |
| plotIdeo | 0 | 0 | 0 | |
| plotOneIdeo | 0.000 | 0.001 | 0.001 | |
| trackStyle-class | 0.042 | 0.003 | 0.046 | |
| trackViewer-package | 21.612 | 0.216 | 21.829 | |
| trackViewerStyle-class | 0 | 0 | 0 | |
| viewGene | 5.378 | 0.084 | 5.466 | |
| viewTracks | 16.398 | 0.128 | 16.527 | |