Back to Multiple platform build/check report for BioC 3.15 |
|
This page was generated on 2022-03-12 11:08:17 -0500 (Sat, 12 Mar 2022).
Hostname | OS | Arch (*) | R version | Installed pkgs |
---|---|---|---|---|
nebbiolo1 | Linux (Ubuntu 20.04.4 LTS) | x86_64 | R Under development (unstable) (2022-02-17 r81757) -- "Unsuffered Consequences" | 4335 |
riesling1 | Windows Server 2019 Standard | x64 | R Under development (unstable) (2021-11-21 r81221) -- "Unsuffered Consequences" | 4097 |
palomino3 | Windows Server 2022 Datacenter | x64 | R Under development (unstable) (2022-02-17 r81757 ucrt) -- "Unsuffered Consequences" | 4073 |
merida1 | macOS 10.14.6 Mojave | x86_64 | R Under development (unstable) (2022-03-02 r81842) -- "Unsuffered Consequences" | 4134 |
Click on any hostname to see more info about the system (e.g. compilers) (*) as reported by 'uname -p', except on Windows and Mac OS X |
To the developers/maintainers of the specL package: - Please allow up to 24 hours (and sometimes 48 hours) for your latest push to git@git.bioconductor.org:packages/specL.git to reflect on this report. See How and When does the builder pull? When will my changes propagate? here for more information. - Make sure to use the following settings in order to reproduce any error or warning you see on this page. |
Package 1857/2090 | Hostname | OS / Arch | INSTALL | BUILD | CHECK | BUILD BIN | ||||||||
specL 1.29.0 (landing page) Christian Panse
| nebbiolo1 | Linux (Ubuntu 20.04.4 LTS) / x86_64 | OK | OK | OK | ![]() | ||||||||
riesling1 | Windows Server 2019 Standard / x64 | OK | OK | OK | OK | |||||||||
palomino3 | Windows Server 2022 Datacenter / x64 | OK | OK | OK | OK | ![]() | ||||||||
merida1 | macOS 10.14.6 Mojave / x86_64 | OK | OK | OK | OK | ![]() | ||||||||
Package: specL |
Version: 1.29.0 |
Command: D:\biocbuild\bbs-3.15-bioc\R\bin\R.exe CMD check --no-multiarch --install=check:specL.install-out.txt --library=D:\biocbuild\bbs-3.15-bioc\R\library --no-vignettes --timings specL_1.29.0.tar.gz |
StartedAt: 2022-03-11 20:26:53 -0500 (Fri, 11 Mar 2022) |
EndedAt: 2022-03-11 20:27:42 -0500 (Fri, 11 Mar 2022) |
EllapsedTime: 49.2 seconds |
RetCode: 0 |
Status: OK |
CheckDir: specL.Rcheck |
Warnings: 0 |
############################################################################## ############################################################################## ### ### Running command: ### ### D:\biocbuild\bbs-3.15-bioc\R\bin\R.exe CMD check --no-multiarch --install=check:specL.install-out.txt --library=D:\biocbuild\bbs-3.15-bioc\R\library --no-vignettes --timings specL_1.29.0.tar.gz ### ############################################################################## ############################################################################## * using log directory 'D:/biocbuild/bbs-3.15-bioc/meat/specL.Rcheck' * using R Under development (unstable) (2021-11-21 r81221) * using platform: x86_64-w64-mingw32 (64-bit) * using session charset: ISO8859-1 * using option '--no-vignettes' * checking for file 'specL/DESCRIPTION' ... OK * checking extension type ... Package * this is package 'specL' version '1.29.0' * checking package namespace information ... OK * checking package dependencies ... OK * checking if this is a source package ... OK * checking if there is a namespace ... OK * checking for hidden files and directories ... OK * checking for portable file names ... OK * checking whether package 'specL' can be installed ... OK * checking installed package size ... OK * checking package directory ... OK * checking 'build' directory ... OK * checking DESCRIPTION meta-information ... OK * checking top-level files ... OK * checking for left-over files ... OK * checking index information ... OK * checking package subdirectories ... OK * checking R files for non-ASCII characters ... OK * checking R files for syntax errors ... OK * checking whether the package can be loaded ... OK * checking whether the package can be loaded with stated dependencies ... OK * checking whether the package can be unloaded cleanly ... OK * checking whether the namespace can be loaded with stated dependencies ... OK * checking whether the namespace can be unloaded cleanly ... OK * checking dependencies in R code ... OK * checking S3 generic/method consistency ... NOTE Found the following apparent S3 methods exported but not registered: merge.specLSet plot.psm plot.psmSet summary.psmSet See section 'Registering S3 methods' in the 'Writing R Extensions' manual. * checking replacement functions ... OK * checking foreign function calls ... OK * checking R code for possible problems ... NOTE .retentiontimePlotFile : <anonymous>: no visible global function definition for 'head' summary,specLSet : <anonymous>: no visible binding for global variable 'iRTpeptides' Undefined global functions or variables: head iRTpeptides Consider adding importFrom("utils", "head") to your NAMESPACE file. * checking Rd files ... OK * checking Rd metadata ... OK * checking Rd cross-references ... OK * checking for missing documentation entries ... OK * checking for code/documentation mismatches ... OK * checking Rd \usage sections ... OK * checking Rd contents ... OK * checking for unstated dependencies in examples ... OK * checking contents of 'data' directory ... OK * checking data for non-ASCII characters ... OK * checking LazyData ... OK * checking data for ASCII and uncompressed saves ... OK * checking files in 'vignettes' ... OK * checking examples ... OK * checking for unstated dependencies in 'tests' ... OK * checking tests ... Running 'runTests.R' OK * checking for unstated dependencies in vignettes ... OK * checking package vignettes in 'inst/doc' ... OK * checking running R code from vignettes ... SKIPPED * checking re-building of vignette outputs ... SKIPPED * checking PDF version of manual ... OK * DONE Status: 2 NOTEs See 'D:/biocbuild/bbs-3.15-bioc/meat/specL.Rcheck/00check.log' for details.
specL.Rcheck/00install.out
############################################################################## ############################################################################## ### ### Running command: ### ### D:\biocbuild\bbs-3.15-bioc\R\bin\R.exe CMD INSTALL specL ### ############################################################################## ############################################################################## * installing to library 'D:/biocbuild/bbs-3.15-bioc/R/library' * installing *source* package 'specL' ... ** using staged installation ** R ** data *** moving datasets to lazyload DB ** inst ** byte-compile and prepare package for lazy loading ** help *** installing help indices converting help for package 'specL' finding HTML links ... done annotate.protein_id html cdsw html genSwathIonLib html REDIRECT:topic Previous alias or file overwritten by alias: D:/biocbuild/bbs-3.15-bioc/R/library/00LOCK-specL/00new/specL/help/swath.html iRTpeptides html REDIRECT:topic Previous alias or file overwritten by alias: D:/biocbuild/bbs-3.15-bioc/R/library/00LOCK-specL/00new/specL/help/iRT.html ms1.p2069 html peptideStd html plot-methods html read.bibliospec html REDIRECT:topic Previous alias or file overwritten by alias: D:/biocbuild/bbs-3.15-bioc/R/library/00LOCK-specL/00new/specL/help/BiblioSpec.html REDIRECT:topic Previous alias or file overwritten by alias: D:/biocbuild/bbs-3.15-bioc/R/library/00LOCK-specL/00new/specL/help/Skyline.html show-methods html specL-class html specLSet-class html write.spectronaut-methods html ** building package indices ** installing vignettes ** testing if installed package can be loaded from temporary location ** testing if installed package can be loaded from final location ** testing if installed package keeps a record of temporary installation path * DONE (specL) Making 'packages.html' ...Warning in packageDescription(i, lib.loc = lib, fields = "Title", encoding = "UTF-8") : DESCRIPTION file of package 'graph' is missing or broken Warning in packageDescription(i, lib.loc = lib, fields = "Title", encoding = "UTF-8") : DESCRIPTION file of package 'IHW' is missing or broken Warning in packageDescription(i, lib.loc = lib, fields = "Title", encoding = "UTF-8") : DESCRIPTION file of package 'parglms' is missing or broken done
specL.Rcheck/tests/runTests.Rout
R Under development (unstable) (2021-11-21 r81221) -- "Unsuffered Consequences" Copyright (C) 2021 The R Foundation for Statistical Computing Platform: x86_64-w64-mingw32/x64 (64-bit) R is free software and comes with ABSOLUTELY NO WARRANTY. You are welcome to redistribute it under certain conditions. Type 'license()' or 'licence()' for distribution details. R is a collaborative project with many contributors. Type 'contributors()' for more information and 'citation()' on how to cite R or R packages in publications. Type 'demo()' for some demos, 'help()' for on-line help, or 'help.start()' for an HTML browser interface to help. Type 'q()' to quit R. > BiocGenerics:::testPackage("specL") Attaching package: 'specL' The following objects are masked from 'package:protViz': plot.psm, plot.psmSet, summary.psmSet start protein annotation ... time taken: 0 minutes start protein annotation ... time taken: 0 minutes normalizing RT ... found 7 iRT peptide(s) in s:\p1239\Proteomics\QEXACTIVE_3\ctrachse_20140910_Nuclei_diff_extraction_methods\20140910_01_fetuin_400amol_1.raw found 7 iRT peptide(s) in s:\p1239\Proteomics\QEXACTIVE_3\ctrachse_20140910_Nuclei_diff_extraction_methods\20140910_07_fetuin_400amol_2.raw building model ... generating ion library ... start generating specLSet object ... length of findNN idx 137 length of genSwathIonLibSpecL 137 time taken: 0.187469005584717 secs length of genSwathIonLibSpecL after fragmentIonRange filtering 137 normalizing RT ... found 7 iRT peptide(s) in s:\p1239\Proteomics\QEXACTIVE_3\ctrachse_20140910_Nuclei_diff_extraction_methods\20140910_01_fetuin_400amol_1.raw found 7 iRT peptide(s) in s:\p1239\Proteomics\QEXACTIVE_3\ctrachse_20140910_Nuclei_diff_extraction_methods\20140910_07_fetuin_400amol_2.raw building model ... generating ion library ... start generating specLSet object ... length of findNN idx 137 length of genSwathIonLibSpecL 137 time taken: 0.171849012374878 secs length of genSwathIonLibSpecL after fragmentIonRange filtering 137 normalizing RT ... found 7 iRT peptide(s) in s:\p1239\Proteomics\QEXACTIVE_3\ctrachse_20140910_Nuclei_diff_extraction_methods\20140910_01_fetuin_400amol_1.raw found 7 iRT peptide(s) in s:\p1239\Proteomics\QEXACTIVE_3\ctrachse_20140910_Nuclei_diff_extraction_methods\20140910_07_fetuin_400amol_2.raw building model ... generating ion library ... start generating specLSet object ... length of findNN idx 137 length of genSwathIonLibSpecL 137 time taken: 0.156224966049194 secs length of genSwathIonLibSpecL after fragmentIonRange filtering 137 normalizing RT ... no iRT peptides found for building the model. => no iRT regression applied, using orgiginal rt instead! generating ion library ... start generating specLSet object ... length of findNN idx 137 length of genSwathIonLibSpecL 137 time taken: 0.203091859817505 secs length of genSwathIonLibSpecL after fragmentIonRange filtering 137 normalizing RT ... found 7 iRT peptide(s) in s:\p1239\Proteomics\QEXACTIVE_3\ctrachse_20140910_Nuclei_diff_extraction_methods\20140910_01_fetuin_400amol_1.raw found 7 iRT peptide(s) in s:\p1239\Proteomics\QEXACTIVE_3\ctrachse_20140910_Nuclei_diff_extraction_methods\20140910_07_fetuin_400amol_2.raw building model ... model with only one file. generating ion library ... start generating specLSet object ... length of findNN idx 1 length of genSwathIonLibSpecL 1 time taken: 0 secs length of genSwathIonLibSpecL after fragmentIonRange filtering 1 normalizing RT ... found 7 iRT peptide(s) in s:\p1239\Proteomics\QEXACTIVE_3\ctrachse_20140910_Nuclei_diff_extraction_methods\20140910_01_fetuin_400amol_1.raw found 7 iRT peptide(s) in s:\p1239\Proteomics\QEXACTIVE_3\ctrachse_20140910_Nuclei_diff_extraction_methods\20140910_07_fetuin_400amol_2.raw building model ... model with only one file. generating ion library ... start generating specLSet object ... length of findNN idx 1 length of genSwathIonLibSpecL 1 time taken: 0 secs length of genSwathIonLibSpecL after fragmentIonRange filtering 1 normalizing RT ... found 7 iRT peptide(s) in s:\p1239\Proteomics\QEXACTIVE_3\ctrachse_20140910_Nuclei_diff_extraction_methods\20140910_01_fetuin_400amol_1.raw found 7 iRT peptide(s) in s:\p1239\Proteomics\QEXACTIVE_3\ctrachse_20140910_Nuclei_diff_extraction_methods\20140910_07_fetuin_400amol_2.raw building model ... generating ion library ... start generating specLSet object ... length of findNN idx 137 length of genSwathIonLibSpecL 137 time taken: 0.156227111816406 secs length of genSwathIonLibSpecL after fragmentIonRange filtering 137 normalizing RT ... no iRT peptides found for building the model. => no iRT regression applied, using orgiginal rt instead! generating ion library ... start generating specLSet object ... length of findNN idx 137 length of genSwathIonLibSpecL 137 time taken: 0.187469005584717 secs length of genSwathIonLibSpecL after fragmentIonRange filtering 137 normalizing RT ... found 7 iRT peptide(s) in s:\p1239\Proteomics\QEXACTIVE_3\ctrachse_20140910_Nuclei_diff_extraction_methods\20140910_01_fetuin_400amol_1.raw found 7 iRT peptide(s) in s:\p1239\Proteomics\QEXACTIVE_3\ctrachse_20140910_Nuclei_diff_extraction_methods\20140910_07_fetuin_400amol_2.raw building model ... model with only one file. generating ion library ... start generating specLSet object ... length of findNN idx 1 length of genSwathIonLibSpecL 1 time taken: 0 secs length of genSwathIonLibSpecL after fragmentIonRange filtering 1 normalizing RT ... found 7 iRT peptide(s) in s:\p1239\Proteomics\QEXACTIVE_3\ctrachse_20140910_Nuclei_diff_extraction_methods\20140910_01_fetuin_400amol_1.raw found 7 iRT peptide(s) in s:\p1239\Proteomics\QEXACTIVE_3\ctrachse_20140910_Nuclei_diff_extraction_methods\20140910_07_fetuin_400amol_2.raw building model ... model with only one file. generating ion library ... start generating specLSet object ... length of findNN idx 1 length of genSwathIonLibSpecL 1 time taken: 0 secs length of genSwathIonLibSpecL after fragmentIonRange filtering 1 normalizing RT ... found 7 iRT peptide(s) in s:\p1239\Proteomics\QEXACTIVE_3\ctrachse_20140910_Nuclei_diff_extraction_methods\20140910_01_fetuin_400amol_1.raw found 7 iRT peptide(s) in s:\p1239\Proteomics\QEXACTIVE_3\ctrachse_20140910_Nuclei_diff_extraction_methods\20140910_07_fetuin_400amol_2.raw building model ... generating ion library ... start generating specLSet object ... length of findNN idx 69 length of genSwathIonLibSpecL 69 time taken: 0.109354019165039 secs length of genSwathIonLibSpecL after fragmentIonRange filtering 69 normalizing RT ... found 7 iRT peptide(s) in s:\p1239\Proteomics\QEXACTIVE_3\ctrachse_20140910_Nuclei_diff_extraction_methods\20140910_01_fetuin_400amol_1.raw found 7 iRT peptide(s) in s:\p1239\Proteomics\QEXACTIVE_3\ctrachse_20140910_Nuclei_diff_extraction_methods\20140910_07_fetuin_400amol_2.raw building model ... generating ion library ... start generating specLSet object ... length of findNN idx 68 length of genSwathIonLibSpecL 68 time taken: 0.0937321186065674 secs length of genSwathIonLibSpecL after fragmentIonRange filtering 68 normalizing RT ... found 7 iRT peptide(s) in s:\p1239\Proteomics\QEXACTIVE_3\ctrachse_20140910_Nuclei_diff_extraction_methods\20140910_01_fetuin_400amol_1.raw found 7 iRT peptide(s) in s:\p1239\Proteomics\QEXACTIVE_3\ctrachse_20140910_Nuclei_diff_extraction_methods\20140910_07_fetuin_400amol_2.raw building model ... generating ion library ... start generating specLSet object ... length of findNN idx 137 length of genSwathIonLibSpecL 137 time taken: 0.203092098236084 secs length of genSwathIonLibSpecL after fragmentIonRange filtering 137 normalizing RT ... found 7 iRT peptide(s) in s:\p1239\Proteomics\QEXACTIVE_3\ctrachse_20140910_Nuclei_diff_extraction_methods\20140910_01_fetuin_400amol_1.raw found 7 iRT peptide(s) in s:\p1239\Proteomics\QEXACTIVE_3\ctrachse_20140910_Nuclei_diff_extraction_methods\20140910_07_fetuin_400amol_2.raw building model ... generating ion library ... start generating specLSet object ... length of findNN idx 69 length of genSwathIonLibSpecL 69 time taken: 0.109357118606567 secs length of genSwathIonLibSpecL after fragmentIonRange filtering 69 normalizing RT ... found 7 iRT peptide(s) in s:\p1239\Proteomics\QEXACTIVE_3\ctrachse_20140910_Nuclei_diff_extraction_methods\20140910_01_fetuin_400amol_1.raw found 7 iRT peptide(s) in s:\p1239\Proteomics\QEXACTIVE_3\ctrachse_20140910_Nuclei_diff_extraction_methods\20140910_07_fetuin_400amol_2.raw building model ... generating ion library ... start generating specLSet object ... length of findNN idx 68 length of genSwathIonLibSpecL 68 time taken: 0.0937349796295166 secs length of genSwathIonLibSpecL after fragmentIonRange filtering 68 normalizing RT ... found 7 iRT peptide(s) in s:\p1239\Proteomics\QEXACTIVE_3\ctrachse_20140910_Nuclei_diff_extraction_methods\20140910_01_fetuin_400amol_1.raw found 7 iRT peptide(s) in s:\p1239\Proteomics\QEXACTIVE_3\ctrachse_20140910_Nuclei_diff_extraction_methods\20140910_07_fetuin_400amol_2.raw building model ... generating ion library ... start generating specLSet object ... length of findNN idx 137 length of genSwathIonLibSpecL 137 time taken: 0.203091144561768 secs length of genSwathIonLibSpecL after fragmentIonRange filtering 137 fetched 137 rows. assigning 28 modifications ... fetched 184 rows. assigning 37 modifications ... normalizing RT ... found 7 iRT peptide(s) in s:\p1239\Proteomics\QEXACTIVE_3\ctrachse_20140910_Nuclei_diff_extraction_methods\20140910_01_fetuin_400amol_1.raw found 7 iRT peptide(s) in s:\p1239\Proteomics\QEXACTIVE_3\ctrachse_20140910_Nuclei_diff_extraction_methods\20140910_07_fetuin_400amol_2.raw building model ... generating ion library ... start generating specLSet object ... length of findNN idx 137 length of genSwathIonLibSpecL 137 time taken: 0.156225919723511 secs length of genSwathIonLibSpecL after fragmentIonRange filtering 137 fetched 137 rows. assigning 28 modifications ... fetched 184 rows. assigning 37 modifications ... normalizing RT ... found 7 iRT peptide(s) in s:\p1239\Proteomics\QEXACTIVE_3\ctrachse_20140910_Nuclei_diff_extraction_methods\20140910_01_fetuin_400amol_1.raw found 7 iRT peptide(s) in s:\p1239\Proteomics\QEXACTIVE_3\ctrachse_20140910_Nuclei_diff_extraction_methods\20140910_07_fetuin_400amol_2.raw building model ... generating ion library ... start generating specLSet object ... length of findNN idx 137 length of genSwathIonLibSpecL 137 time taken: 0.156224012374878 secs length of genSwathIonLibSpecL after fragmentIonRange filtering 137 RUNIT TEST PROTOCOL -- Fri Mar 11 20:27:30 2022 *********************************************** Number of test functions: 9 Number of errors: 0 Number of failures: 0 1 Test Suite : specL RUnit Tests - 9 test functions, 0 errors, 0 failures Number of test functions: 9 Number of errors: 0 Number of failures: 0 There were 13 warnings (use warnings() to see them) > > > proc.time() user system elapsed 4.15 0.06 4.20
specL.Rcheck/specL-Ex.timings
name | user | system | elapsed | |
annotate.protein_id | 0.04 | 0.00 | 0.03 | |
cdsw | 0.01 | 0.00 | 0.02 | |
genSwathIonLib | 0.29 | 0.00 | 0.30 | |
iRTpeptides | 0 | 0 | 0 | |
peptideStd | 0 | 0 | 0 | |
read.bibliospec | 0.02 | 0.00 | 0.01 | |
specL-class | 0 | 0 | 0 | |
specLSet-class | 0 | 0 | 0 | |