| Back to Multiple platform build/check report for BioC 3.15 |
|
This page was generated on 2022-03-12 11:08:17 -0500 (Sat, 12 Mar 2022).
| Hostname | OS | Arch (*) | R version | Installed pkgs |
|---|---|---|---|---|
| nebbiolo1 | Linux (Ubuntu 20.04.4 LTS) | x86_64 | R Under development (unstable) (2022-02-17 r81757) -- "Unsuffered Consequences" | 4335 |
| riesling1 | Windows Server 2019 Standard | x64 | R Under development (unstable) (2021-11-21 r81221) -- "Unsuffered Consequences" | 4097 |
| palomino3 | Windows Server 2022 Datacenter | x64 | R Under development (unstable) (2022-02-17 r81757 ucrt) -- "Unsuffered Consequences" | 4073 |
| merida1 | macOS 10.14.6 Mojave | x86_64 | R Under development (unstable) (2022-03-02 r81842) -- "Unsuffered Consequences" | 4134 |
| Click on any hostname to see more info about the system (e.g. compilers) (*) as reported by 'uname -p', except on Windows and Mac OS X | ||||
|
To the developers/maintainers of the specL package: - Please allow up to 24 hours (and sometimes 48 hours) for your latest push to git@git.bioconductor.org:packages/specL.git to reflect on this report. See How and When does the builder pull? When will my changes propagate? here for more information. - Make sure to use the following settings in order to reproduce any error or warning you see on this page. |
| Package 1857/2090 | Hostname | OS / Arch | INSTALL | BUILD | CHECK | BUILD BIN | ||||||||
| specL 1.29.0 (landing page) Christian Panse
| nebbiolo1 | Linux (Ubuntu 20.04.4 LTS) / x86_64 | OK | OK | OK | |||||||||
| riesling1 | Windows Server 2019 Standard / x64 | OK | OK | OK | OK | |||||||||
| palomino3 | Windows Server 2022 Datacenter / x64 | OK | OK | OK | OK | |||||||||
| merida1 | macOS 10.14.6 Mojave / x86_64 | OK | OK | OK | OK | |||||||||
| Package: specL |
| Version: 1.29.0 |
| Command: rm -rf specL.buildbin-libdir && mkdir specL.buildbin-libdir && D:\biocbuild\bbs-3.15-bioc\R\bin\R.exe CMD INSTALL --build --library=specL.buildbin-libdir specL_1.29.0.tar.gz |
| StartedAt: 2022-03-11 21:45:16 -0500 (Fri, 11 Mar 2022) |
| EndedAt: 2022-03-11 21:46:28 -0500 (Fri, 11 Mar 2022) |
| EllapsedTime: 72.8 seconds |
| RetCode: 0 |
| Status: OK |
| PackageFile: specL_1.29.0.zip |
| PackageFileSize: 1.41 MiB |
##############################################################################
##############################################################################
###
### Running command:
###
### rm -rf specL.buildbin-libdir && mkdir specL.buildbin-libdir && D:\biocbuild\bbs-3.15-bioc\R\bin\R.exe CMD INSTALL --build --library=specL.buildbin-libdir specL_1.29.0.tar.gz
###
##############################################################################
##############################################################################
* installing *source* package 'specL' ...
** using staged installation
** R
** data
*** moving datasets to lazyload DB
** inst
** byte-compile and prepare package for lazy loading
** help
*** installing help indices
converting help for package 'specL'
finding HTML links ... done
annotate.protein_id html
cdsw html
genSwathIonLib html
REDIRECT:topic Previous alias or file overwritten by alias: D:/biocbuild/bbs-3.15-bioc/meat/specL.buildbin-libdir/00LOCK-specL/00new/specL/help/swath.html
iRTpeptides html
REDIRECT:topic Previous alias or file overwritten by alias: D:/biocbuild/bbs-3.15-bioc/meat/specL.buildbin-libdir/00LOCK-specL/00new/specL/help/iRT.html
ms1.p2069 html
peptideStd html
plot-methods html
read.bibliospec html
REDIRECT:topic Previous alias or file overwritten by alias: D:/biocbuild/bbs-3.15-bioc/meat/specL.buildbin-libdir/00LOCK-specL/00new/specL/help/BiblioSpec.html
REDIRECT:topic Previous alias or file overwritten by alias: D:/biocbuild/bbs-3.15-bioc/meat/specL.buildbin-libdir/00LOCK-specL/00new/specL/help/Skyline.html
show-methods html
specL-class html
specLSet-class html
write.spectronaut-methods html
** building package indices
** installing vignettes
** testing if installed package can be loaded from temporary location
** testing if installed package can be loaded from final location
** testing if installed package keeps a record of temporary installation path
* MD5 sums
packaged installation of 'specL' as specL_1.29.0.zip
* DONE (specL)