| Back to Multiple platform build/check report for BioC 3.15 |
|
This page was generated on 2022-03-18 11:08:21 -0400 (Fri, 18 Mar 2022).
| Hostname | OS | Arch (*) | R version | Installed pkgs |
|---|---|---|---|---|
| nebbiolo1 | Linux (Ubuntu 20.04.4 LTS) | x86_64 | R Under development (unstable) (2022-02-17 r81757) -- "Unsuffered Consequences" | 4334 |
| riesling1 | Windows Server 2019 Standard | x64 | R Under development (unstable) (2021-11-21 r81221) -- "Unsuffered Consequences" | 4097 |
| palomino3 | Windows Server 2022 Datacenter | x64 | R Under development (unstable) (2022-02-17 r81757 ucrt) -- "Unsuffered Consequences" | 4083 |
| merida1 | macOS 10.14.6 Mojave | x86_64 | R Under development (unstable) (2022-03-02 r81842) -- "Unsuffered Consequences" | 4134 |
| Click on any hostname to see more info about the system (e.g. compilers) (*) as reported by 'uname -p', except on Windows and Mac OS X | ||||
|
To the developers/maintainers of the proDA package: - Please allow up to 24 hours (and sometimes 48 hours) for your latest push to git@git.bioconductor.org:packages/proDA.git to reflect on this report. See How and When does the builder pull? When will my changes propagate? here for more information. - Make sure to use the following settings in order to reproduce any error or warning you see on this page. |
| Package 1469/2090 | Hostname | OS / Arch | INSTALL | BUILD | CHECK | BUILD BIN | ||||||||
| proDA 1.9.1 (landing page) Constantin Ahlmann-Eltze
| nebbiolo1 | Linux (Ubuntu 20.04.4 LTS) / x86_64 | OK | OK | OK | |||||||||
| riesling1 | Windows Server 2019 Standard / x64 | OK | OK | OK | OK | |||||||||
| palomino3 | Windows Server 2022 Datacenter / x64 | OK | OK | OK | OK | |||||||||
| merida1 | macOS 10.14.6 Mojave / x86_64 | OK | OK | OK | OK | |||||||||
| Package: proDA |
| Version: 1.9.1 |
| Command: D:\biocbuild\bbs-3.15-bioc\R\bin\R.exe CMD check --no-multiarch --install=check:proDA.install-out.txt --library=D:\biocbuild\bbs-3.15-bioc\R\library --no-vignettes --timings proDA_1.9.1.tar.gz |
| StartedAt: 2022-03-17 19:55:33 -0400 (Thu, 17 Mar 2022) |
| EndedAt: 2022-03-17 19:59:06 -0400 (Thu, 17 Mar 2022) |
| EllapsedTime: 212.4 seconds |
| RetCode: 0 |
| Status: OK |
| CheckDir: proDA.Rcheck |
| Warnings: 0 |
############################################################################## ############################################################################## ### ### Running command: ### ### D:\biocbuild\bbs-3.15-bioc\R\bin\R.exe CMD check --no-multiarch --install=check:proDA.install-out.txt --library=D:\biocbuild\bbs-3.15-bioc\R\library --no-vignettes --timings proDA_1.9.1.tar.gz ### ############################################################################## ############################################################################## * using log directory 'D:/biocbuild/bbs-3.15-bioc/meat/proDA.Rcheck' * using R Under development (unstable) (2021-11-21 r81221) * using platform: x86_64-w64-mingw32 (64-bit) * using session charset: ISO8859-1 * using option '--no-vignettes' * checking for file 'proDA/DESCRIPTION' ... OK * checking extension type ... Package * this is package 'proDA' version '1.9.1' * package encoding: UTF-8 * checking package namespace information ... OK * checking package dependencies ... OK * checking if this is a source package ... OK * checking if there is a namespace ... OK * checking for hidden files and directories ... OK * checking for portable file names ... OK * checking whether package 'proDA' can be installed ... OK * checking installed package size ... OK * checking package directory ... OK * checking 'build' directory ... OK * checking DESCRIPTION meta-information ... OK * checking top-level files ... OK * checking for left-over files ... OK * checking index information ... OK * checking package subdirectories ... OK * checking R files for non-ASCII characters ... OK * checking R files for syntax errors ... OK * checking whether the package can be loaded ... OK * checking whether the package can be loaded with stated dependencies ... OK * checking whether the package can be unloaded cleanly ... OK * checking whether the namespace can be loaded with stated dependencies ... OK * checking whether the namespace can be unloaded cleanly ... OK * checking dependencies in R code ... OK * checking S3 generic/method consistency ... OK * checking replacement functions ... OK * checking foreign function calls ... OK * checking R code for possible problems ... OK * checking Rd files ... OK * checking Rd metadata ... OK * checking Rd cross-references ... OK * checking for missing documentation entries ... OK * checking for code/documentation mismatches ... OK * checking Rd \usage sections ... OK * checking Rd contents ... OK * checking for unstated dependencies in examples ... OK * checking files in 'vignettes' ... OK * checking examples ... OK * checking for unstated dependencies in 'tests' ... OK * checking tests ... Running 'testthat.R' OK * checking for unstated dependencies in vignettes ... OK * checking package vignettes in 'inst/doc' ... OK * checking running R code from vignettes ... SKIPPED * checking re-building of vignette outputs ... SKIPPED * checking PDF version of manual ... OK * DONE Status: OK
proDA.Rcheck/00install.out
##############################################################################
##############################################################################
###
### Running command:
###
### D:\biocbuild\bbs-3.15-bioc\R\bin\R.exe CMD INSTALL proDA
###
##############################################################################
##############################################################################
* installing to library 'D:/biocbuild/bbs-3.15-bioc/R/library'
* installing *source* package 'proDA' ...
** using staged installation
** R
** inst
** byte-compile and prepare package for lazy loading
** help
*** installing help indices
converting help for package 'proDA'
finding HTML links ... done
abundances html
accessor_methods html
as_replicate html
cash-proDAFit-method html
coefficient_variance_matrices html
coefficients html
convergence html
dist_approx html
dist_approx_impl html
distance_sq html
feature_parameters html
generate_synthetic_data html
grapes-zero_dom_mat_mult-grapes html
hyper_parameters html
invprobit html
invprobit_fast html
median_normalization html
mply_dbl html
pd_lm html
pd_lm.fit html
pd_row_t_test html
predict-proDAFit-method html
proDA html
proDAFit-class html
proDA_package html
reference_level html
result_names html
test_diff html
** building package indices
** installing vignettes
** testing if installed package can be loaded from temporary location
** testing if installed package can be loaded from final location
** testing if installed package keeps a record of temporary installation path
* DONE (proDA)
Making 'packages.html' ...Warning in packageDescription(i, lib.loc = lib, fields = "Title", encoding = "UTF-8") :
DESCRIPTION file of package 'weitrix' is missing or broken
done
proDA.Rcheck/tests/testthat.Rout
R Under development (unstable) (2021-11-21 r81221) -- "Unsuffered Consequences"
Copyright (C) 2021 The R Foundation for Statistical Computing
Platform: x86_64-w64-mingw32/x64 (64-bit)
R is free software and comes with ABSOLUTELY NO WARRANTY.
You are welcome to redistribute it under certain conditions.
Type 'license()' or 'licence()' for distribution details.
R is a collaborative project with many contributors.
Type 'contributors()' for more information and
'citation()' on how to cite R or R packages in publications.
Type 'demo()' for some demos, 'help()' for on-line help, or
'help.start()' for an HTML browser interface to help.
Type 'q()' to quit R.
> library(testthat)
> library(proDA)
>
> test_check("proDA")
[ FAIL 0 | WARN 0 | SKIP 1 | PASS 126 ]
== Skipped tests ===============================================================
* Very slow (1)
[ FAIL 0 | WARN 0 | SKIP 1 | PASS 126 ]
>
> proc.time()
user system elapsed
90.96 0.56 91.50
proDA.Rcheck/proDA-Ex.timings
| name | user | system | elapsed | |
| abundances | 1.05 | 0.05 | 1.09 | |
| as_replicate | 0 | 0 | 0 | |
| cash-proDAFit-method | 0.44 | 0.02 | 0.45 | |
| coefficient_variance_matrices | 0.43 | 0.00 | 0.44 | |
| coefficients | 0.41 | 0.01 | 0.42 | |
| convergence | 0.41 | 0.00 | 0.41 | |
| dist_approx | 0.76 | 0.00 | 0.76 | |
| dist_approx_impl | 0.71 | 0.00 | 0.71 | |
| feature_parameters | 0.4 | 0.0 | 0.4 | |
| generate_synthetic_data | 0.03 | 0.00 | 0.03 | |
| hyper_parameters | 0.41 | 0.00 | 0.41 | |
| invprobit | 0.00 | 0.02 | 0.02 | |
| median_normalization | 0 | 0 | 0 | |
| mply_dbl | 0 | 0 | 0 | |
| pd_lm | 0.01 | 0.00 | 0.01 | |
| pd_row_t_test | 1.11 | 0.00 | 1.11 | |
| proDA | 1.05 | 0.00 | 1.05 | |
| reference_level | 0.36 | 0.00 | 0.36 | |
| result_names | 0.45 | 0.00 | 0.45 | |
| test_diff | 1.82 | 0.01 | 1.83 | |