Back to Multiple platform build/check report for BioC 3.15 |
|
This page was generated on 2022-03-18 11:08:20 -0400 (Fri, 18 Mar 2022).
Hostname | OS | Arch (*) | R version | Installed pkgs |
---|---|---|---|---|
nebbiolo1 | Linux (Ubuntu 20.04.4 LTS) | x86_64 | R Under development (unstable) (2022-02-17 r81757) -- "Unsuffered Consequences" | 4334 |
riesling1 | Windows Server 2019 Standard | x64 | R Under development (unstable) (2021-11-21 r81221) -- "Unsuffered Consequences" | 4097 |
palomino3 | Windows Server 2022 Datacenter | x64 | R Under development (unstable) (2022-02-17 r81757 ucrt) -- "Unsuffered Consequences" | 4083 |
merida1 | macOS 10.14.6 Mojave | x86_64 | R Under development (unstable) (2022-03-02 r81842) -- "Unsuffered Consequences" | 4134 |
Click on any hostname to see more info about the system (e.g. compilers) (*) as reported by 'uname -p', except on Windows and Mac OS X |
To the developers/maintainers of the proBatch package: - Please allow up to 24 hours (and sometimes 48 hours) for your latest push to git@git.bioconductor.org:packages/proBatch.git to reflect on this report. See How and When does the builder pull? When will my changes propagate? here for more information. - Make sure to use the following settings in order to reproduce any error or warning you see on this page. |
Package 1466/2090 | Hostname | OS / Arch | INSTALL | BUILD | CHECK | BUILD BIN | ||||||||
proBatch 1.11.0 (landing page) Chloe H. Lee
| nebbiolo1 | Linux (Ubuntu 20.04.4 LTS) / x86_64 | OK | OK | OK | |||||||||
riesling1 | Windows Server 2019 Standard / x64 | OK | OK | OK | OK | |||||||||
palomino3 | Windows Server 2022 Datacenter / x64 | OK | OK | OK | OK | |||||||||
merida1 | macOS 10.14.6 Mojave / x86_64 | OK | OK | OK | OK | |||||||||
Package: proBatch |
Version: 1.11.0 |
Command: D:\biocbuild\bbs-3.15-bioc\R\bin\R.exe CMD INSTALL proBatch |
StartedAt: 2022-03-17 15:59:13 -0400 (Thu, 17 Mar 2022) |
EndedAt: 2022-03-17 16:00:34 -0400 (Thu, 17 Mar 2022) |
EllapsedTime: 80.5 seconds |
RetCode: 0 |
Status: OK |
############################################################################## ############################################################################## ### ### Running command: ### ### D:\biocbuild\bbs-3.15-bioc\R\bin\R.exe CMD INSTALL proBatch ### ############################################################################## ############################################################################## * installing to library 'D:/biocbuild/bbs-3.15-bioc/R/library' * installing *source* package 'proBatch' ... ** using staged installation ** R ** data *** moving datasets to lazyload DB ** inst ** byte-compile and prepare package for lazy loading ** help *** installing help indices converting help for package 'proBatch' finding HTML links ... done calculate_PVCA html calculate_feature_CV html calculate_peptide_corr_distr html calculate_sample_corr_distr html check_sample_consistency html color_list_to_df html correct_batch_effects html create_peptide_annotation html date_to_sample_order html dates_to_posix html define_sample_order html example_peptide_annotation html example_proteome html example_proteome_matrix html example_sample_annotation html feature_level_diagnostics html fit_nonlinear html generate_colors_for_numeric html long_to_matrix html matrix_to_long html merge_rare_levels html normalize html plot_CV_distr html plot_CV_distr.df html plot_PCA html plot_PVCA html plot_PVCA.df html plot_corr_matrix html plot_heatmap_diagnostic html plot_heatmap_generic html plot_hierarchical_clustering html plot_peptide_corr_distribution html plot_protein_corrplot html plot_sample_corr_distribution html plot_sample_corr_heatmap html plot_sample_mean_or_boxplot html plot_split_violin_with_boxplot html prepare_PVCA_df html proBatch html sample_annotation_to_colors html transform_raw_data html ** building package indices ** installing vignettes ** testing if installed package can be loaded from temporary location ** testing if installed package can be loaded from final location ** testing if installed package keeps a record of temporary installation path * DONE (proBatch) Making 'packages.html' ... done