| Back to Multiple platform build/check report for BioC 3.15 |
|
This page was generated on 2022-03-18 11:08:18 -0400 (Fri, 18 Mar 2022).
| Hostname | OS | Arch (*) | R version | Installed pkgs |
|---|---|---|---|---|
| nebbiolo1 | Linux (Ubuntu 20.04.4 LTS) | x86_64 | R Under development (unstable) (2022-02-17 r81757) -- "Unsuffered Consequences" | 4334 |
| riesling1 | Windows Server 2019 Standard | x64 | R Under development (unstable) (2021-11-21 r81221) -- "Unsuffered Consequences" | 4097 |
| palomino3 | Windows Server 2022 Datacenter | x64 | R Under development (unstable) (2022-02-17 r81757 ucrt) -- "Unsuffered Consequences" | 4083 |
| merida1 | macOS 10.14.6 Mojave | x86_64 | R Under development (unstable) (2022-03-02 r81842) -- "Unsuffered Consequences" | 4134 |
| Click on any hostname to see more info about the system (e.g. compilers) (*) as reported by 'uname -p', except on Windows and Mac OS X | ||||
|
To the developers/maintainers of the pipeComp package: - Please allow up to 24 hours (and sometimes 48 hours) for your latest push to git@git.bioconductor.org:packages/pipeComp.git to reflect on this report. See How and When does the builder pull? When will my changes propagate? here for more information. - Make sure to use the following settings in order to reproduce any error or warning you see on this page. |
| Package 1430/2090 | Hostname | OS / Arch | INSTALL | BUILD | CHECK | BUILD BIN | ||||||||
| pipeComp 1.5.0 (landing page) Pierre-Luc Germain
| nebbiolo1 | Linux (Ubuntu 20.04.4 LTS) / x86_64 | OK | OK | OK | |||||||||
| riesling1 | Windows Server 2019 Standard / x64 | OK | OK | OK | OK | |||||||||
| palomino3 | Windows Server 2022 Datacenter / x64 | OK | OK | OK | OK | |||||||||
| merida1 | macOS 10.14.6 Mojave / x86_64 | OK | OK | OK | OK | |||||||||
| Package: pipeComp |
| Version: 1.5.0 |
| Command: D:\biocbuild\bbs-3.15-bioc\R\bin\R.exe CMD check --no-multiarch --install=check:pipeComp.install-out.txt --library=D:\biocbuild\bbs-3.15-bioc\R\library --no-vignettes --timings pipeComp_1.5.0.tar.gz |
| StartedAt: 2022-03-17 19:52:40 -0400 (Thu, 17 Mar 2022) |
| EndedAt: 2022-03-17 19:57:28 -0400 (Thu, 17 Mar 2022) |
| EllapsedTime: 287.7 seconds |
| RetCode: 0 |
| Status: OK |
| CheckDir: pipeComp.Rcheck |
| Warnings: 0 |
############################################################################## ############################################################################## ### ### Running command: ### ### D:\biocbuild\bbs-3.15-bioc\R\bin\R.exe CMD check --no-multiarch --install=check:pipeComp.install-out.txt --library=D:\biocbuild\bbs-3.15-bioc\R\library --no-vignettes --timings pipeComp_1.5.0.tar.gz ### ############################################################################## ############################################################################## * using log directory 'D:/biocbuild/bbs-3.15-bioc/meat/pipeComp.Rcheck' * using R Under development (unstable) (2021-11-21 r81221) * using platform: x86_64-w64-mingw32 (64-bit) * using session charset: ISO8859-1 * using option '--no-vignettes' * checking for file 'pipeComp/DESCRIPTION' ... OK * checking extension type ... Package * this is package 'pipeComp' version '1.5.0' * package encoding: UTF-8 * checking package namespace information ... OK * checking package dependencies ... OK * checking if this is a source package ... OK * checking if there is a namespace ... OK * checking for hidden files and directories ... OK * checking for portable file names ... OK * checking whether package 'pipeComp' can be installed ... OK * checking installed package size ... OK * checking package directory ... OK * checking 'build' directory ... OK * checking DESCRIPTION meta-information ... OK * checking top-level files ... NOTE File LICENSE is not mentioned in the DESCRIPTION file. * checking for left-over files ... OK * checking index information ... OK * checking package subdirectories ... OK * checking R files for non-ASCII characters ... OK * checking R files for syntax errors ... OK * checking whether the package can be loaded ... OK * checking whether the package can be loaded with stated dependencies ... OK * checking whether the package can be unloaded cleanly ... OK * checking whether the namespace can be loaded with stated dependencies ... OK * checking whether the namespace can be unloaded cleanly ... OK * checking dependencies in R code ... NOTE There are ::: calls to the package's namespace in its code. A package almost never needs to use ::: for its own objects: '.compileExcludedCells' '.getMM' '.homogenizeDEA' '.runf' * checking S3 generic/method consistency ... OK * checking replacement functions ... OK * checking foreign function calls ... OK * checking R code for possible problems ... NOTE scrna_describeDatasets: no visible binding for global variable 'cluster' scrna_describeDatasets: no visible binding for global variable 'nb' scrna_describeDatasets : pf: no visible binding for global variable '.x' scrna_describeDatasets : rd: no visible binding for global variable 'y' scrna_describeDatasets : rd: no visible binding for global variable 'cluster' scrna_evalPlot_filtering: no visible binding for global variable 'max.lost' scrna_evalPlot_filtering: no visible binding for global variable 'mean_F1' scrna_evalPlot_filtering: no visible binding for global variable 'filt' scrna_evalPlot_filtering: no visible binding for global variable 'doubletmethod' scrna_evalPlot_filtering: no visible binding for global variable 'method' scrna_evalPlot_overall: no visible binding for global variable 'true.nbClusts' scrna_evalPlot_overall: no visible binding for global variable 'n_clus' Undefined global functions or variables: .x cluster doubletmethod filt max.lost mean_F1 method n_clus nb true.nbClusts y * checking Rd files ... OK * checking Rd metadata ... OK * checking Rd cross-references ... OK * checking for missing documentation entries ... OK * checking for code/documentation mismatches ... OK * checking Rd \usage sections ... OK * checking Rd contents ... OK * checking for unstated dependencies in examples ... OK * checking contents of 'data' directory ... OK * checking data for non-ASCII characters ... OK * checking data for ASCII and uncompressed saves ... OK * checking files in 'vignettes' ... OK * checking examples ... OK * checking for unstated dependencies in vignettes ... OK * checking package vignettes in 'inst/doc' ... OK * checking running R code from vignettes ... SKIPPED * checking re-building of vignette outputs ... SKIPPED * checking PDF version of manual ... OK * DONE Status: 3 NOTEs See 'D:/biocbuild/bbs-3.15-bioc/meat/pipeComp.Rcheck/00check.log' for details.
pipeComp.Rcheck/00install.out
##############################################################################
##############################################################################
###
### Running command:
###
### D:\biocbuild\bbs-3.15-bioc\R\bin\R.exe CMD INSTALL pipeComp
###
##############################################################################
##############################################################################
* installing to library 'D:/biocbuild/bbs-3.15-bioc/R/library'
* installing *source* package 'pipeComp' ...
** using staged installation
** R
** data
** inst
** byte-compile and prepare package for lazy loading
** help
*** installing help indices
converting help for package 'pipeComp'
finding HTML links ... done
PipelineDefinition-methods html
PipelineDefinition html
addPipelineStep html
aggregatePipelineResults html
buildCombMatrix html
checkPipelinePackages html
clustMetricsCorr html
colCenterScale html
ctrlgenes html
dea_evalPlot_curve html
dea_pipeline html
defaultStepAggregation html
evalHeatmap html
evaluateClustering html
evaluateDEA html
evaluateDimRed html
evaluateNorm html
exampleDEAresults html
exampleResults html
farthestPoint html
getDimensionality html
getQualitativePalette html
match_evaluate_multiple html
mergePipelineResults html
mockPipeline html
parsePipNames html
pipeComp-package html
plotElapsed html
readPipelineResults html
runPipeline html
scrna_describeDatasets html
scrna_evalPlot_filtering html
scrna_evalPlot_overall html
scrna_evalPlot_silh html
scrna_pipeline html
stableG html
** building package indices
** installing vignettes
** testing if installed package can be loaded from temporary location
** testing if installed package can be loaded from final location
** testing if installed package keeps a record of temporary installation path
* DONE (pipeComp)
Making 'packages.html' ...Warning in packageDescription(i, lib.loc = lib, fields = "Title", encoding = "UTF-8") :
DESCRIPTION file of package 'projectR' is missing or broken
done
pipeComp.Rcheck/pipeComp-Ex.timings
| name | user | system | elapsed | |
| PipelineDefinition-methods | 0.01 | 0.00 | 0.02 | |
| PipelineDefinition | 0 | 0 | 0 | |
| addPipelineStep | 0.01 | 0.00 | 0.02 | |
| aggregatePipelineResults | 0.18 | 0.00 | 0.17 | |
| buildCombMatrix | 0 | 0 | 0 | |
| checkPipelinePackages | 1.06 | 0.91 | 1.97 | |
| colCenterScale | 0 | 0 | 0 | |
| dea_evalPlot_curve | 0.50 | 0.01 | 0.51 | |
| dea_pipeline | 0.01 | 0.00 | 0.02 | |
| evalHeatmap | 1.85 | 0.08 | 1.92 | |
| evaluateClustering | 0.01 | 0.00 | 0.02 | |
| evaluateDEA | 0.05 | 0.00 | 0.04 | |
| evaluateDimRed | 1.14 | 0.03 | 1.18 | |
| evaluateNorm | 1.25 | 0.08 | 1.32 | |
| farthestPoint | 0 | 0 | 0 | |
| getQualitativePalette | 0 | 0 | 0 | |
| match_evaluate_multiple | 0 | 0 | 0 | |
| mergePipelineResults | 0.26 | 0.05 | 0.31 | |
| mockPipeline | 0 | 0 | 0 | |
| parsePipNames | 0.02 | 0.00 | 0.02 | |
| plotElapsed | 0.33 | 0.00 | 0.33 | |
| readPipelineResults | 0.09 | 0.01 | 0.10 | |
| runPipeline | 0.11 | 0.02 | 0.13 | |
| scrna_evalPlot_filtering | 0.25 | 0.00 | 0.25 | |
| scrna_evalPlot_overall | 2.50 | 0.01 | 2.51 | |
| scrna_evalPlot_silh | 0.50 | 0.02 | 0.52 | |
| scrna_pipeline | 0 | 0 | 0 | |