| Back to Multiple platform build/check report for BioC 3.15 |
|
This page was generated on 2022-01-05 11:06:47 -0500 (Wed, 05 Jan 2022).
| Hostname | OS | Arch (*) | R version | Installed pkgs |
|---|---|---|---|---|
| nebbiolo1 | Linux (Ubuntu 20.04.4 LTS) | x86_64 | R Under development (unstable) (2021-11-10 r81171) -- "Unsuffered Consequences" | 4308 |
| riesling1 | Windows Server 2019 Standard | x64 | R Under development (unstable) (2021-11-21 r81221) -- "Unsuffered Consequences" | 4045 |
| merida1 | macOS 10.14.6 Mojave | x86_64 | R Under development (unstable) (2021-11-01 r81125) -- "Unsuffered Consequences" | 4123 |
| Click on any hostname to see more info about the system (e.g. compilers) (*) as reported by 'uname -p', except on Windows and Mac OS X | ||||
|
To the developers/maintainers of the ontoProc package: - Please allow up to 24 hours (and sometimes 48 hours) for your latest push to git@git.bioconductor.org:packages/ontoProc.git to reflect on this report. See How and When does the builder pull? When will my changes propagate? here for more information. - Make sure to use the following settings in order to reproduce any error or warning you see on this page. |
| Package 1331/2072 | Hostname | OS / Arch | INSTALL | BUILD | CHECK | BUILD BIN | ||||||||
| ontoProc 1.17.0 (landing page) VJ Carey
| nebbiolo1 | Linux (Ubuntu 20.04.4 LTS) / x86_64 | OK | OK | OK | |||||||||
| riesling1 | Windows Server 2019 Standard / x64 | OK | OK | OK | OK | |||||||||
| merida1 | macOS 10.14.6 Mojave / x86_64 | OK | OK | OK | OK | |||||||||
| Package: ontoProc |
| Version: 1.17.0 |
| Command: rm -rf ontoProc.buildbin-libdir && mkdir ontoProc.buildbin-libdir && D:\biocbuild\bbs-3.15-bioc\R\bin\R.exe CMD INSTALL --build --library=ontoProc.buildbin-libdir ontoProc_1.17.0.tar.gz |
| StartedAt: 2022-01-04 21:03:34 -0500 (Tue, 04 Jan 2022) |
| EndedAt: 2022-01-04 21:04:27 -0500 (Tue, 04 Jan 2022) |
| EllapsedTime: 53.4 seconds |
| RetCode: 0 |
| Status: OK |
| PackageFile: ontoProc_1.17.0.zip |
| PackageFileSize: 7.346 MiB |
##############################################################################
##############################################################################
###
### Running command:
###
### rm -rf ontoProc.buildbin-libdir && mkdir ontoProc.buildbin-libdir && D:\biocbuild\bbs-3.15-bioc\R\bin\R.exe CMD INSTALL --build --library=ontoProc.buildbin-libdir ontoProc_1.17.0.tar.gz
###
##############################################################################
##############################################################################
* installing *source* package 'ontoProc' ...
** using staged installation
** R
** data
*** moving datasets to lazyload DB
** inst
** byte-compile and prepare package for lazy loading
** help
*** installing help indices
converting help for package 'ontoProc'
finding HTML links ... done
CLfeats html
PROSYM html
TermSet-class html
allGOterms html
bind_formal_tags html
c-TermSet-method html
cellTypeToGO html
cleanCLOnames html
common_classes html
connect_classes html
ctmarks html
cyclicSigset html
demoApp html
dropStop html
fastGrep html
findCommonAncestors html
finding level-2 HTML links ... done
getCellOnto html
getLeavesFromTerm html
humrna html
improveNodes html
ldfToTerms html
liberalMap html
makeSelectInput html
make_graphNEL_from_ontology_plot html
map2prose html
mapOneNaive html
minicorpus html
nomenCheckup html
onto_plot2 html
onto_roots html
packDesc2019 html
recognizedPredicates html
secLevGen html
selectFromMap html
seur3kTab html
siblings_TAG html
stopWords html
subset_descendants html
sym2CellOnto html
** building package indices
** installing vignettes
** testing if installed package can be loaded from temporary location
** testing if installed package can be loaded from final location
** testing if installed package keeps a record of temporary installation path
* MD5 sums
packaged installation of 'ontoProc' as ontoProc_1.17.0.zip
* DONE (ontoProc)