| Back to Multiple platform build/check report for BioC 3.15 |
|
This page was generated on 2022-03-18 11:08:07 -0400 (Fri, 18 Mar 2022).
| Hostname | OS | Arch (*) | R version | Installed pkgs |
|---|---|---|---|---|
| nebbiolo1 | Linux (Ubuntu 20.04.4 LTS) | x86_64 | R Under development (unstable) (2022-02-17 r81757) -- "Unsuffered Consequences" | 4334 |
| riesling1 | Windows Server 2019 Standard | x64 | R Under development (unstable) (2021-11-21 r81221) -- "Unsuffered Consequences" | 4097 |
| palomino3 | Windows Server 2022 Datacenter | x64 | R Under development (unstable) (2022-02-17 r81757 ucrt) -- "Unsuffered Consequences" | 4083 |
| merida1 | macOS 10.14.6 Mojave | x86_64 | R Under development (unstable) (2022-03-02 r81842) -- "Unsuffered Consequences" | 4134 |
| Click on any hostname to see more info about the system (e.g. compilers) (*) as reported by 'uname -p', except on Windows and Mac OS X | ||||
|
To the developers/maintainers of the multicrispr package: - Please allow up to 24 hours (and sometimes 48 hours) for your latest push to git@git.bioconductor.org:packages/multicrispr.git to reflect on this report. See How and When does the builder pull? When will my changes propagate? here for more information. - Make sure to use the following settings in order to reproduce any error or warning you see on this page. |
| Package 1247/2090 | Hostname | OS / Arch | INSTALL | BUILD | CHECK | BUILD BIN | ||||||||
| multicrispr 1.5.3 (landing page) Aditya Bhagwat
| nebbiolo1 | Linux (Ubuntu 20.04.4 LTS) / x86_64 | OK | OK | OK | |||||||||
| riesling1 | Windows Server 2019 Standard / x64 | OK | OK | OK | OK | |||||||||
| palomino3 | Windows Server 2022 Datacenter / x64 | OK | OK | OK | OK | |||||||||
| merida1 | macOS 10.14.6 Mojave / x86_64 | OK | OK | OK | OK | |||||||||
| Package: multicrispr |
| Version: 1.5.3 |
| Command: D:\biocbuild\bbs-3.15-bioc\R\bin\R.exe CMD check --no-multiarch --install=check:multicrispr.install-out.txt --library=D:\biocbuild\bbs-3.15-bioc\R\library --no-vignettes --timings multicrispr_1.5.3.tar.gz |
| StartedAt: 2022-03-17 19:41:23 -0400 (Thu, 17 Mar 2022) |
| EndedAt: 2022-03-17 19:46:43 -0400 (Thu, 17 Mar 2022) |
| EllapsedTime: 319.1 seconds |
| RetCode: 0 |
| Status: OK |
| CheckDir: multicrispr.Rcheck |
| Warnings: 0 |
##############################################################################
##############################################################################
###
### Running command:
###
### D:\biocbuild\bbs-3.15-bioc\R\bin\R.exe CMD check --no-multiarch --install=check:multicrispr.install-out.txt --library=D:\biocbuild\bbs-3.15-bioc\R\library --no-vignettes --timings multicrispr_1.5.3.tar.gz
###
##############################################################################
##############################################################################
* using log directory 'D:/biocbuild/bbs-3.15-bioc/meat/multicrispr.Rcheck'
* using R Under development (unstable) (2021-11-21 r81221)
* using platform: x86_64-w64-mingw32 (64-bit)
* using session charset: ISO8859-1
* using option '--no-vignettes'
* checking for file 'multicrispr/DESCRIPTION' ... OK
* this is package 'multicrispr' version '1.5.3'
* package encoding: UTF-8
* checking package namespace information ... OK
* checking package dependencies ... OK
* checking if this is a source package ... OK
* checking if there is a namespace ... OK
* checking for hidden files and directories ... OK
* checking for portable file names ... OK
* checking whether package 'multicrispr' can be installed ... OK
* checking installed package size ... OK
* checking package directory ... OK
* checking 'build' directory ... OK
* checking DESCRIPTION meta-information ... OK
* checking top-level files ... OK
* checking for left-over files ... OK
* checking index information ... OK
* checking package subdirectories ... OK
* checking R files for non-ASCII characters ... OK
* checking R files for syntax errors ... OK
* checking whether the package can be loaded ... OK
* checking whether the package can be loaded with stated dependencies ... OK
* checking whether the package can be unloaded cleanly ... OK
* checking whether the namespace can be loaded with stated dependencies ... OK
* checking whether the namespace can be unloaded cleanly ... OK
* checking dependencies in R code ... OK
* checking S3 generic/method consistency ... OK
* checking replacement functions ... OK
* checking foreign function calls ... OK
* checking R code for possible problems ... OK
* checking Rd files ... OK
* checking Rd metadata ... OK
* checking Rd cross-references ... OK
* checking for missing documentation entries ... OK
* checking for code/documentation mismatches ... OK
* checking Rd \usage sections ... OK
* checking Rd contents ... OK
* checking for unstated dependencies in examples ... OK
* checking files in 'vignettes' ... OK
* checking examples ... OK
Examples with CPU (user + system) or elapsed time > 5s
user system elapsed
find_primespacers 13.67 0.99 14.67
score_ontargets 12.91 0.78 13.69
find_spacers 8.85 0.67 9.52
add_genome_matches 7.59 1.83 9.42
add_target_matches 7.27 0.86 11.38
up_flank 7.64 0.05 7.69
plot_intervals 6.57 0.56 7.12
extend_for_pe 6.58 0.55 7.12
index_genome 0.55 0.07 16.61
* checking for unstated dependencies in 'tests' ... OK
* checking tests ...
Running 'testthat.R'
OK
* checking for unstated dependencies in vignettes ... OK
* checking package vignettes in 'inst/doc' ... OK
* checking running R code from vignettes ... SKIPPED
* checking re-building of vignette outputs ... SKIPPED
* checking PDF version of manual ... OK
* DONE
Status: OK
multicrispr.Rcheck/00install.out
##############################################################################
##############################################################################
###
### Running command:
###
### D:\biocbuild\bbs-3.15-bioc\R\bin\R.exe CMD INSTALL multicrispr
###
##############################################################################
##############################################################################
* installing to library 'D:/biocbuild/bbs-3.15-bioc/R/library'
* installing *source* package 'multicrispr' ...
** using staged installation
** R
** inst
** byte-compile and prepare package for lazy loading
** help
*** installing help indices
converting help for package 'multicrispr'
finding HTML links ... done
add_genome_matches html
add_inverse_strand html
add_seq html
add_target_matches html
bed_to_granges html
char_to_granges html
double_flank html
extend_for_pe html
extend_pe_to_gg html
extract_matchranges html
finding level-2 HTML links ... done
extract_subranges html
find_gg html
find_primespacers html
find_spacers html
genes_to_granges html
gr2dt html
has_been_indexed html
index_genome html
index_targets html
plot_intervals html
plot_karyogram html
score_ontargets html
up_flank html
write_ranges html
** building package indices
** installing vignettes
** testing if installed package can be loaded from temporary location
** testing if installed package can be loaded from final location
** testing if installed package keeps a record of temporary installation path
* DONE (multicrispr)
Making 'packages.html' ... done
multicrispr.Rcheck/tests/testthat.Rout
R Under development (unstable) (2021-11-21 r81221) -- "Unsuffered Consequences"
Copyright (C) 2021 The R Foundation for Statistical Computing
Platform: x86_64-w64-mingw32/x64 (64-bit)
R is free software and comes with ABSOLUTELY NO WARRANTY.
You are welcome to redistribute it under certain conditions.
Type 'license()' or 'licence()' for distribution details.
R is a collaborative project with many contributors.
Type 'contributors()' for more information and
'citation()' on how to cite R or R packages in publications.
Type 'demo()' for some demos, 'help()' for on-line help, or
'help.start()' for an HTML browser interface to help.
Type 'q()' to quit R.
> library(testthat)
> library(multicrispr)
>
> test_check("multicrispr")
[ FAIL 0 | WARN 0 | SKIP 0 | PASS 13 ]
>
> proc.time()
user system elapsed
10.07 1.45 11.50
multicrispr.Rcheck/multicrispr-Ex.timings
| name | user | system | elapsed | |
| add_genome_matches | 7.59 | 1.83 | 9.42 | |
| add_inverse_strand | 1.60 | 0.06 | 1.66 | |
| add_seq | 1.78 | 0.22 | 2.00 | |
| add_target_matches | 7.27 | 0.86 | 11.38 | |
| bed_to_granges | 0.50 | 0.01 | 0.51 | |
| char_to_granges | 0.53 | 0.00 | 0.53 | |
| double_flank | 1.58 | 0.03 | 1.61 | |
| extend_for_pe | 6.58 | 0.55 | 7.12 | |
| extend_pe_to_gg | 0.29 | 0.00 | 0.30 | |
| extract_matchranges | 1.93 | 0.09 | 2.02 | |
| extract_subranges | 0.36 | 0.00 | 0.36 | |
| find_gg | 0.75 | 0.03 | 0.78 | |
| find_primespacers | 13.67 | 0.99 | 14.67 | |
| find_spacers | 8.85 | 0.67 | 9.52 | |
| genes_to_granges | 2.81 | 0.08 | 2.89 | |
| gr2dt | 0.12 | 0.00 | 0.13 | |
| has_been_indexed | 0 | 0 | 0 | |
| index_genome | 0.55 | 0.07 | 16.61 | |
| index_targets | 1.59 | 0.21 | 2.59 | |
| plot_intervals | 6.57 | 0.56 | 7.12 | |
| plot_karyogram | 1.09 | 0.03 | 1.13 | |
| score_ontargets | 12.91 | 0.78 | 13.69 | |
| up_flank | 7.64 | 0.05 | 7.69 | |
| write_ranges | 0.11 | 0.00 | 0.12 | |