| Back to Multiple platform build/check report for BioC 3.15 |
|
This page was generated on 2022-10-19 13:23:20 -0400 (Wed, 19 Oct 2022).
| Hostname | OS | Arch (*) | R version | Installed pkgs |
|---|---|---|---|---|
| nebbiolo1 | Linux (Ubuntu 20.04.5 LTS) | x86_64 | 4.2.1 (2022-06-23) -- "Funny-Looking Kid" | 4386 |
| palomino3 | Windows Server 2022 Datacenter | x64 | 4.2.1 (2022-06-23 ucrt) -- "Funny-Looking Kid" | 4138 |
| merida1 | macOS 10.14.6 Mojave | x86_64 | 4.2.1 (2022-06-23) -- "Funny-Looking Kid" | 4205 |
| Click on any hostname to see more info about the system (e.g. compilers) (*) as reported by 'uname -p', except on Windows and Mac OS X | ||||
|
To the developers/maintainers of the multicrispr package: - Please allow up to 24 hours (and sometimes 48 hours) for your latest push to git@git.bioconductor.org:packages/multicrispr.git to reflect on this report. See How and When does the builder pull? When will my changes propagate? for more information. - Make sure to use the following settings in order to reproduce any error or warning you see on this page. |
| Package 1273/2140 | Hostname | OS / Arch | INSTALL | BUILD | CHECK | BUILD BIN | ||||||||
| multicrispr 1.6.0 (landing page) Aditya Bhagwat
| nebbiolo1 | Linux (Ubuntu 20.04.5 LTS) / x86_64 | OK | OK | OK | |||||||||
| palomino3 | Windows Server 2022 Datacenter / x64 | OK | OK | OK | OK | |||||||||
| merida1 | macOS 10.14.6 Mojave / x86_64 | OK | OK | OK | OK | |||||||||
| Package: multicrispr |
| Version: 1.6.0 |
| Command: /Library/Frameworks/R.framework/Resources/bin/R CMD check --install=check:multicrispr.install-out.txt --library=/Library/Frameworks/R.framework/Resources/library --no-vignettes --timings multicrispr_1.6.0.tar.gz |
| StartedAt: 2022-10-19 05:14:53 -0400 (Wed, 19 Oct 2022) |
| EndedAt: 2022-10-19 05:26:04 -0400 (Wed, 19 Oct 2022) |
| EllapsedTime: 671.3 seconds |
| RetCode: 0 |
| Status: OK |
| CheckDir: multicrispr.Rcheck |
| Warnings: 0 |
##############################################################################
##############################################################################
###
### Running command:
###
### /Library/Frameworks/R.framework/Resources/bin/R CMD check --install=check:multicrispr.install-out.txt --library=/Library/Frameworks/R.framework/Resources/library --no-vignettes --timings multicrispr_1.6.0.tar.gz
###
##############################################################################
##############################################################################
* using log directory ‘/Users/biocbuild/bbs-3.15-bioc/meat/multicrispr.Rcheck’
* using R version 4.2.1 (2022-06-23)
* using platform: x86_64-apple-darwin17.0 (64-bit)
* using session charset: UTF-8
* using option ‘--no-vignettes’
* checking for file ‘multicrispr/DESCRIPTION’ ... OK
* this is package ‘multicrispr’ version ‘1.6.0’
* package encoding: UTF-8
* checking package namespace information ... OK
* checking package dependencies ... OK
* checking if this is a source package ... OK
* checking if there is a namespace ... OK
* checking for hidden files and directories ... OK
* checking for portable file names ... OK
* checking for sufficient/correct file permissions ... OK
* checking whether package ‘multicrispr’ can be installed ... OK
* checking installed package size ... OK
* checking package directory ... OK
* checking ‘build’ directory ... OK
* checking DESCRIPTION meta-information ... OK
* checking top-level files ... OK
* checking for left-over files ... OK
* checking index information ... OK
* checking package subdirectories ... OK
* checking R files for non-ASCII characters ... OK
* checking R files for syntax errors ... OK
* checking whether the package can be loaded ... OK
* checking whether the package can be loaded with stated dependencies ... OK
* checking whether the package can be unloaded cleanly ... OK
* checking whether the namespace can be loaded with stated dependencies ... OK
* checking whether the namespace can be unloaded cleanly ... OK
* checking dependencies in R code ... OK
* checking S3 generic/method consistency ... OK
* checking replacement functions ... OK
* checking foreign function calls ... OK
* checking R code for possible problems ... OK
* checking Rd files ... OK
* checking Rd metadata ... OK
* checking Rd cross-references ... OK
* checking for missing documentation entries ... OK
* checking for code/documentation mismatches ... OK
* checking Rd \usage sections ... OK
* checking Rd contents ... OK
* checking for unstated dependencies in examples ... OK
* checking files in ‘vignettes’ ... OK
* checking examples ... OK
Examples with CPU (user + system) or elapsed time > 5s
user system elapsed
score_ontargets 32.922 0.848 33.819
find_primespacers 31.747 0.816 32.694
index_genome 26.680 0.346 27.090
find_spacers 20.972 0.546 21.545
add_genome_matches 19.771 1.388 21.838
up_flank 20.817 0.102 20.945
add_target_matches 18.457 0.890 19.497
plot_intervals 16.452 0.394 16.879
extend_for_pe 15.976 0.507 16.554
double_flank 6.085 0.096 6.438
genes_to_granges 5.968 0.109 6.091
extract_matchranges 5.489 0.123 5.636
* checking for unstated dependencies in ‘tests’ ... OK
* checking tests ...
Running ‘testthat.R’
OK
* checking for unstated dependencies in vignettes ... OK
* checking package vignettes in ‘inst/doc’ ... OK
* checking running R code from vignettes ... SKIPPED
* checking re-building of vignette outputs ... SKIPPED
* checking PDF version of manual ... OK
* DONE
Status: OK
multicrispr.Rcheck/00install.out
############################################################################## ############################################################################## ### ### Running command: ### ### /Library/Frameworks/R.framework/Resources/bin/R CMD INSTALL multicrispr ### ############################################################################## ############################################################################## * installing to library ‘/Library/Frameworks/R.framework/Versions/4.2/Resources/library’ * installing *source* package ‘multicrispr’ ... ** using staged installation ** R ** inst ** byte-compile and prepare package for lazy loading ** help *** installing help indices ** building package indices ** installing vignettes ** testing if installed package can be loaded from temporary location ** testing if installed package can be loaded from final location ** testing if installed package keeps a record of temporary installation path * DONE (multicrispr)
multicrispr.Rcheck/tests/testthat.Rout
R version 4.2.1 (2022-06-23) -- "Funny-Looking Kid"
Copyright (C) 2022 The R Foundation for Statistical Computing
Platform: x86_64-apple-darwin17.0 (64-bit)
R is free software and comes with ABSOLUTELY NO WARRANTY.
You are welcome to redistribute it under certain conditions.
Type 'license()' or 'licence()' for distribution details.
R is a collaborative project with many contributors.
Type 'contributors()' for more information and
'citation()' on how to cite R or R packages in publications.
Type 'demo()' for some demos, 'help()' for on-line help, or
'help.start()' for an HTML browser interface to help.
Type 'q()' to quit R.
> library(testthat)
> library(multicrispr)
>
> test_check("multicrispr")
[ FAIL 0 | WARN 0 | SKIP 0 | PASS 13 ]
>
> proc.time()
user system elapsed
24.943 1.491 26.486
multicrispr.Rcheck/multicrispr-Ex.timings
| name | user | system | elapsed | |
| add_genome_matches | 19.771 | 1.388 | 21.838 | |
| add_inverse_strand | 3.823 | 0.066 | 4.073 | |
| add_seq | 4.636 | 0.181 | 4.910 | |
| add_target_matches | 18.457 | 0.890 | 19.497 | |
| bed_to_granges | 1.408 | 0.041 | 1.484 | |
| char_to_granges | 1.590 | 0.006 | 1.623 | |
| double_flank | 6.085 | 0.096 | 6.438 | |
| extend_for_pe | 15.976 | 0.507 | 16.554 | |
| extend_pe_to_gg | 0.876 | 0.003 | 0.883 | |
| extract_matchranges | 5.489 | 0.123 | 5.636 | |
| extract_subranges | 1.069 | 0.004 | 1.075 | |
| find_gg | 2.167 | 0.054 | 2.230 | |
| find_primespacers | 31.747 | 0.816 | 32.694 | |
| find_spacers | 20.972 | 0.546 | 21.545 | |
| genes_to_granges | 5.968 | 0.109 | 6.091 | |
| gr2dt | 0.314 | 0.001 | 0.316 | |
| has_been_indexed | 0 | 0 | 0 | |
| index_genome | 26.680 | 0.346 | 27.090 | |
| index_targets | 3.907 | 0.188 | 4.108 | |
| plot_intervals | 16.452 | 0.394 | 16.879 | |
| plot_karyogram | 2.290 | 0.052 | 2.349 | |
| score_ontargets | 32.922 | 0.848 | 33.819 | |
| up_flank | 20.817 | 0.102 | 20.945 | |
| write_ranges | 0.283 | 0.002 | 0.286 | |