This page was generated on 2022-03-18 11:07:32 -0400 (Fri, 18 Mar 2022).
Hostname | OS | Arch (*) | R version | Installed pkgs |
nebbiolo1 | Linux (Ubuntu 20.04.4 LTS) | x86_64 | R Under development (unstable) (2022-02-17 r81757) -- "Unsuffered Consequences"
| 4334 |
riesling1 | Windows Server 2019 Standard | x64 | R Under development (unstable) (2021-11-21 r81221) -- "Unsuffered Consequences"
| 4097 |
palomino3 | Windows Server 2022 Datacenter | x64 | R Under development (unstable) (2022-02-17 r81757 ucrt) -- "Unsuffered Consequences"
| 4083 |
merida1 | macOS 10.14.6 Mojave | x86_64 | R Under development (unstable) (2022-03-02 r81842) -- "Unsuffered Consequences"
| 4134 |
Click on any hostname to see more info about the system (e.g. compilers) (*) as reported by 'uname -p', except on Windows and Mac OS X |
INSTALL results for flowUtils on riesling1
To the developers/maintainers of the flowUtils package:
- Please allow up to 24 hours (and sometimes 48 hours) for your latest push to git@git.bioconductor.org:packages/flowUtils.git to reflect on this report. See How and When does the builder pull? When will my changes propagate? here for more information.
- Make sure to use the following settings in order to reproduce any error or warning you see on this page.
|
raw results
| flowUtils 1.59.0 (landing page) Josef Spidlen
Snapshot Date: 2022-03-17 13:55:23 -0400 (Thu, 17 Mar 2022) |
git_url: https://git.bioconductor.org/packages/flowUtils |
git_branch: master |
git_last_commit: 94ef3ef |
git_last_commit_date: 2021-10-26 11:50:32 -0400 (Tue, 26 Oct 2021) |
| nebbiolo1 | Linux (Ubuntu 20.04.4 LTS) / x86_64 | OK | OK | WARNINGS | | | |
| riesling1 | Windows Server 2019 Standard / x64 | OK | OK | WARNINGS | OK | | |
| palomino3 | Windows Server 2022 Datacenter / x64 | OK | OK | WARNINGS | OK | | |
| merida1 | macOS 10.14.6 Mojave / x86_64 | OK | OK | WARNINGS | OK | | |
Summary
Command output