| Back to Multiple platform build/check report for BioC 3.15 |
|
This page was generated on 2022-03-18 11:07:32 -0400 (Fri, 18 Mar 2022).
| Hostname | OS | Arch (*) | R version | Installed pkgs |
|---|---|---|---|---|
| nebbiolo1 | Linux (Ubuntu 20.04.4 LTS) | x86_64 | R Under development (unstable) (2022-02-17 r81757) -- "Unsuffered Consequences" | 4334 |
| riesling1 | Windows Server 2019 Standard | x64 | R Under development (unstable) (2021-11-21 r81221) -- "Unsuffered Consequences" | 4097 |
| palomino3 | Windows Server 2022 Datacenter | x64 | R Under development (unstable) (2022-02-17 r81757 ucrt) -- "Unsuffered Consequences" | 4083 |
| merida1 | macOS 10.14.6 Mojave | x86_64 | R Under development (unstable) (2022-03-02 r81842) -- "Unsuffered Consequences" | 4134 |
| Click on any hostname to see more info about the system (e.g. compilers) (*) as reported by 'uname -p', except on Windows and Mac OS X | ||||
|
To the developers/maintainers of the flowUtils package: - Please allow up to 24 hours (and sometimes 48 hours) for your latest push to git@git.bioconductor.org:packages/flowUtils.git to reflect on this report. See How and When does the builder pull? When will my changes propagate? here for more information. - Make sure to use the following settings in order to reproduce any error or warning you see on this page. |
| Package 677/2090 | Hostname | OS / Arch | INSTALL | BUILD | CHECK | BUILD BIN | ||||||||
| flowUtils 1.59.0 (landing page) Josef Spidlen
| nebbiolo1 | Linux (Ubuntu 20.04.4 LTS) / x86_64 | OK | OK | WARNINGS | |||||||||
| riesling1 | Windows Server 2019 Standard / x64 | OK | OK | WARNINGS | OK | |||||||||
| palomino3 | Windows Server 2022 Datacenter / x64 | OK | OK | WARNINGS | OK | |||||||||
| merida1 | macOS 10.14.6 Mojave / x86_64 | OK | OK | WARNINGS | OK | |||||||||
| Package: flowUtils |
| Version: 1.59.0 |
| Command: rm -rf flowUtils.buildbin-libdir && mkdir flowUtils.buildbin-libdir && D:\biocbuild\bbs-3.15-bioc\R\bin\R.exe CMD INSTALL --build --library=flowUtils.buildbin-libdir flowUtils_1.59.0.tar.gz |
| StartedAt: 2022-03-17 21:08:52 -0400 (Thu, 17 Mar 2022) |
| EndedAt: 2022-03-17 21:10:18 -0400 (Thu, 17 Mar 2022) |
| EllapsedTime: 86.4 seconds |
| RetCode: 0 |
| Status: OK |
| PackageFile: flowUtils_1.59.0.zip |
| PackageFileSize: 506.9 KiB |
##############################################################################
##############################################################################
###
### Running command:
###
### rm -rf flowUtils.buildbin-libdir && mkdir flowUtils.buildbin-libdir && D:\biocbuild\bbs-3.15-bioc\R\bin\R.exe CMD INSTALL --build --library=flowUtils.buildbin-libdir flowUtils_1.59.0.tar.gz
###
##############################################################################
##############################################################################
* installing *source* package 'flowUtils' ...
** using staged installation
** R
** inst
** byte-compile and prepare package for lazy loading
No methods found in package 'flowCore' for requests: 'action', 'assign', 'Data', 'gate', 'tree' when loading 'flowUtils'
** help
*** installing help indices
converting help for package 'flowUtils'
finding HTML links ... done
flowUtil-package html
read.gatingML html
testGatingMLCompliance html
write.gatingML html
** building package indices
** installing vignettes
** testing if installed package can be loaded from temporary location
No methods found in package 'flowCore' for requests: 'action', 'assign', 'Data', 'gate', 'tree' when loading 'flowUtils'
** testing if installed package can be loaded from final location
No methods found in package 'flowCore' for requests: 'action', 'assign', 'Data', 'gate', 'tree' when loading 'flowUtils'
** testing if installed package keeps a record of temporary installation path
* MD5 sums
packaged installation of 'flowUtils' as flowUtils_1.59.0.zip
* DONE (flowUtils)