| Back to Multiple platform build/check report for BioC 3.15 |
|
This page was generated on 2022-03-18 11:07:25 -0400 (Fri, 18 Mar 2022).
| Hostname | OS | Arch (*) | R version | Installed pkgs |
|---|---|---|---|---|
| nebbiolo1 | Linux (Ubuntu 20.04.4 LTS) | x86_64 | R Under development (unstable) (2022-02-17 r81757) -- "Unsuffered Consequences" | 4334 |
| riesling1 | Windows Server 2019 Standard | x64 | R Under development (unstable) (2021-11-21 r81221) -- "Unsuffered Consequences" | 4097 |
| palomino3 | Windows Server 2022 Datacenter | x64 | R Under development (unstable) (2022-02-17 r81757 ucrt) -- "Unsuffered Consequences" | 4083 |
| merida1 | macOS 10.14.6 Mojave | x86_64 | R Under development (unstable) (2022-03-02 r81842) -- "Unsuffered Consequences" | 4134 |
| Click on any hostname to see more info about the system (e.g. compilers) (*) as reported by 'uname -p', except on Windows and Mac OS X | ||||
|
To the developers/maintainers of the easyreporting package: - Please allow up to 24 hours (and sometimes 48 hours) for your latest push to git@git.bioconductor.org:packages/easyreporting.git to reflect on this report. See How and When does the builder pull? When will my changes propagate? here for more information. - Make sure to use the following settings in order to reproduce any error or warning you see on this page. |
| Package 560/2090 | Hostname | OS / Arch | INSTALL | BUILD | CHECK | BUILD BIN | ||||||||
| easyreporting 1.7.0 (landing page) Dario Righelli
| nebbiolo1 | Linux (Ubuntu 20.04.4 LTS) / x86_64 | OK | OK | OK | |||||||||
| riesling1 | Windows Server 2019 Standard / x64 | OK | OK | OK | OK | |||||||||
| palomino3 | Windows Server 2022 Datacenter / x64 | OK | OK | OK | OK | |||||||||
| merida1 | macOS 10.14.6 Mojave / x86_64 | OK | OK | OK | OK | |||||||||
| Package: easyreporting |
| Version: 1.7.0 |
| Command: D:\biocbuild\bbs-3.15-bioc\R\bin\R.exe CMD check --no-multiarch --install=check:easyreporting.install-out.txt --library=D:\biocbuild\bbs-3.15-bioc\R\library --no-vignettes --timings easyreporting_1.7.0.tar.gz |
| StartedAt: 2022-03-17 18:59:39 -0400 (Thu, 17 Mar 2022) |
| EndedAt: 2022-03-17 19:00:16 -0400 (Thu, 17 Mar 2022) |
| EllapsedTime: 36.7 seconds |
| RetCode: 0 |
| Status: OK |
| CheckDir: easyreporting.Rcheck |
| Warnings: 0 |
############################################################################## ############################################################################## ### ### Running command: ### ### D:\biocbuild\bbs-3.15-bioc\R\bin\R.exe CMD check --no-multiarch --install=check:easyreporting.install-out.txt --library=D:\biocbuild\bbs-3.15-bioc\R\library --no-vignettes --timings easyreporting_1.7.0.tar.gz ### ############################################################################## ############################################################################## * using log directory 'D:/biocbuild/bbs-3.15-bioc/meat/easyreporting.Rcheck' * using R Under development (unstable) (2021-11-21 r81221) * using platform: x86_64-w64-mingw32 (64-bit) * using session charset: ISO8859-1 * using option '--no-vignettes' * checking for file 'easyreporting/DESCRIPTION' ... OK * checking extension type ... Package * this is package 'easyreporting' version '1.7.0' * package encoding: UTF-8 * checking package namespace information ... OK * checking package dependencies ... OK * checking if this is a source package ... OK * checking if there is a namespace ... OK * checking for hidden files and directories ... OK * checking for portable file names ... OK * checking whether package 'easyreporting' can be installed ... OK * checking installed package size ... OK * checking package directory ... OK * checking 'build' directory ... OK * checking DESCRIPTION meta-information ... OK * checking top-level files ... OK * checking for left-over files ... OK * checking index information ... OK * checking package subdirectories ... OK * checking R files for non-ASCII characters ... OK * checking R files for syntax errors ... OK * checking whether the package can be loaded ... OK * checking whether the package can be loaded with stated dependencies ... OK * checking whether the package can be unloaded cleanly ... OK * checking whether the namespace can be loaded with stated dependencies ... OK * checking whether the namespace can be unloaded cleanly ... OK * checking dependencies in R code ... OK * checking S3 generic/method consistency ... OK * checking replacement functions ... OK * checking foreign function calls ... OK * checking R code for possible problems ... OK * checking Rd files ... OK * checking Rd metadata ... OK * checking Rd cross-references ... NOTE Unknown package 'link' in Rd xrefs * checking for missing documentation entries ... OK * checking for code/documentation mismatches ... OK * checking Rd \usage sections ... OK * checking Rd contents ... OK * checking for unstated dependencies in examples ... OK * checking files in 'vignettes' ... OK * checking examples ... OK * checking for unstated dependencies in vignettes ... OK * checking package vignettes in 'inst/doc' ... OK * checking running R code from vignettes ... SKIPPED * checking re-building of vignette outputs ... SKIPPED * checking PDF version of manual ... OK * DONE Status: 1 NOTE See 'D:/biocbuild/bbs-3.15-bioc/meat/easyreporting.Rcheck/00check.log' for details.
easyreporting.Rcheck/00install.out
##############################################################################
##############################################################################
###
### Running command:
###
### D:\biocbuild\bbs-3.15-bioc\R\bin\R.exe CMD INSTALL easyreporting
###
##############################################################################
##############################################################################
* installing to library 'D:/biocbuild/bbs-3.15-bioc/R/library'
* installing *source* package 'easyreporting' ...
** using staged installation
** R
** inst
** byte-compile and prepare package for lazy loading
** help
*** installing help indices
converting help for package 'easyreporting'
finding HTML links ... done
addResource-easyreporting-method html
addResource html
compile-easyreporting-method html
compile html
easyreporting-class html
erGUIVolcano html
getBibliography-easyreporting-method html
getBibliography html
getOptionsList-easyreporting-method html
getOptionsList html
getReportFilename-easyreporting-method
html
getReportFilename html
initReportFilename-easyreporting-method
html
initReportFilename html
makeOptionsList html
mkdCodeChunkCommented-easyreporting-method
html
mkdCodeChunkCommented html
mkdCodeChunkComplete-easyreporting-method
html
mkdCodeChunkComplete html
mkdCodeChunkEnd-easyreporting-method html
mkdCodeChunkEnd html
mkdCodeChunkSt-easyreporting-method html
mkdCodeChunkSt html
mkdCodeChunkTitledCommented-easyreporting-method
html
mkdCodeChunkTitledCommented html
mkdGeneralMsg-easyreporting-method html
mkdGeneralMsg html
mkdGeneralTitledMsg-easyreporting-method
html
mkdGeneralTitledMsg html
mkdSetGlobalOpts-easyreporting-method html
mkdSetGlobalOpts html
mkdSourceFiles-easyreporting-method html
mkdSourceFiles html
mkdTitle-easyreporting-method html
mkdTitle html
mkdVariableAssignment-easyreporting-method
html
mkdVariableAssignment html
setBibliography-easyreporting-method html
setBibliography html
setOptionsList-easyreporting-method html
setOptionsList html
** building package indices
** installing vignettes
** testing if installed package can be loaded from temporary location
** testing if installed package can be loaded from final location
** testing if installed package keeps a record of temporary installation path
* DONE (easyreporting)
Making 'packages.html' ...Warning in packageDescription(i, lib.loc = lib, fields = "Title", encoding = "UTF-8") :
DESCRIPTION file of package 'MBQN' is missing or broken
done
easyreporting.Rcheck/easyreporting-Ex.timings
| name | user | system | elapsed | |
| addResource-easyreporting-method | 0 | 0 | 0 | |
| addResource | 0.01 | 0.00 | 0.02 | |
| compile-easyreporting-method | 0 | 0 | 0 | |
| compile | 0 | 0 | 0 | |
| easyreporting-class | 0 | 0 | 0 | |
| erGUIVolcano | 0 | 0 | 0 | |
| getBibliography-easyreporting-method | 0.03 | 0.00 | 0.07 | |
| getBibliography | 0 | 0 | 0 | |
| getOptionsList-easyreporting-method | 0 | 0 | 0 | |
| getOptionsList | 0 | 0 | 0 | |
| getReportFilename-easyreporting-method | 0 | 0 | 0 | |
| getReportFilename | 0 | 0 | 0 | |
| makeOptionsList | 0 | 0 | 0 | |
| mkdCodeChunkCommented-easyreporting-method | 0 | 0 | 0 | |
| mkdCodeChunkCommented | 0 | 0 | 0 | |
| mkdCodeChunkComplete-easyreporting-method | 0 | 0 | 0 | |
| mkdCodeChunkComplete | 0 | 0 | 0 | |
| mkdCodeChunkEnd-easyreporting-method | 0 | 0 | 0 | |
| mkdCodeChunkEnd | 0 | 0 | 0 | |
| mkdCodeChunkSt-easyreporting-method | 0 | 0 | 0 | |
| mkdCodeChunkSt | 0 | 0 | 0 | |
| mkdCodeChunkTitledCommented-easyreporting-method | 0 | 0 | 0 | |
| mkdCodeChunkTitledCommented | 0 | 0 | 0 | |
| mkdGeneralMsg-easyreporting-method | 0 | 0 | 0 | |
| mkdGeneralMsg | 0 | 0 | 0 | |
| mkdGeneralTitledMsg-easyreporting-method | 0 | 0 | 0 | |
| mkdGeneralTitledMsg | 0 | 0 | 0 | |
| mkdTitle-easyreporting-method | 0 | 0 | 0 | |
| mkdTitle | 0 | 0 | 0 | |
| mkdVariableAssignment-easyreporting-method | 0.00 | 0.01 | 0.01 | |
| mkdVariableAssignment | 0 | 0 | 0 | |
| setBibliography-easyreporting-method | 0 | 0 | 0 | |
| setBibliography | 0 | 0 | 0 | |
| setOptionsList-easyreporting-method | 0 | 0 | 0 | |
| setOptionsList | 0 | 0 | 0 | |