| Back to Multiple platform build/check report for BioC 3.15 |
|
This page was generated on 2022-03-18 11:07:25 -0400 (Fri, 18 Mar 2022).
| Hostname | OS | Arch (*) | R version | Installed pkgs |
|---|---|---|---|---|
| nebbiolo1 | Linux (Ubuntu 20.04.4 LTS) | x86_64 | R Under development (unstable) (2022-02-17 r81757) -- "Unsuffered Consequences" | 4334 |
| riesling1 | Windows Server 2019 Standard | x64 | R Under development (unstable) (2021-11-21 r81221) -- "Unsuffered Consequences" | 4097 |
| palomino3 | Windows Server 2022 Datacenter | x64 | R Under development (unstable) (2022-02-17 r81757 ucrt) -- "Unsuffered Consequences" | 4083 |
| merida1 | macOS 10.14.6 Mojave | x86_64 | R Under development (unstable) (2022-03-02 r81842) -- "Unsuffered Consequences" | 4134 |
| Click on any hostname to see more info about the system (e.g. compilers) (*) as reported by 'uname -p', except on Windows and Mac OS X | ||||
|
To the developers/maintainers of the easyreporting package: - Please allow up to 24 hours (and sometimes 48 hours) for your latest push to git@git.bioconductor.org:packages/easyreporting.git to reflect on this report. See How and When does the builder pull? When will my changes propagate? here for more information. - Make sure to use the following settings in order to reproduce any error or warning you see on this page. |
| Package 560/2090 | Hostname | OS / Arch | INSTALL | BUILD | CHECK | BUILD BIN | ||||||||
| easyreporting 1.7.0 (landing page) Dario Righelli
| nebbiolo1 | Linux (Ubuntu 20.04.4 LTS) / x86_64 | OK | OK | OK | |||||||||
| riesling1 | Windows Server 2019 Standard / x64 | OK | OK | OK | OK | |||||||||
| palomino3 | Windows Server 2022 Datacenter / x64 | OK | OK | OK | OK | |||||||||
| merida1 | macOS 10.14.6 Mojave / x86_64 | OK | OK | OK | OK | |||||||||
| Package: easyreporting |
| Version: 1.7.0 |
| Command: rm -rf easyreporting.buildbin-libdir && mkdir easyreporting.buildbin-libdir && D:\biocbuild\bbs-3.15-bioc\R\bin\R.exe CMD INSTALL --build --library=easyreporting.buildbin-libdir easyreporting_1.7.0.tar.gz |
| StartedAt: 2022-03-17 21:05:56 -0400 (Thu, 17 Mar 2022) |
| EndedAt: 2022-03-17 21:07:26 -0400 (Thu, 17 Mar 2022) |
| EllapsedTime: 89.6 seconds |
| RetCode: 0 |
| Status: OK |
| PackageFile: easyreporting_1.7.0.zip |
| PackageFileSize: 3.153 MiB |
##############################################################################
##############################################################################
###
### Running command:
###
### rm -rf easyreporting.buildbin-libdir && mkdir easyreporting.buildbin-libdir && D:\biocbuild\bbs-3.15-bioc\R\bin\R.exe CMD INSTALL --build --library=easyreporting.buildbin-libdir easyreporting_1.7.0.tar.gz
###
##############################################################################
##############################################################################
* installing *source* package 'easyreporting' ...
** using staged installation
** R
** inst
** byte-compile and prepare package for lazy loading
** help
*** installing help indices
converting help for package 'easyreporting'
finding HTML links ... done
addResource-easyreporting-method html
addResource html
compile-easyreporting-method html
compile html
easyreporting-class html
erGUIVolcano html
getBibliography-easyreporting-method html
getBibliography html
getOptionsList-easyreporting-method html
getOptionsList html
getReportFilename-easyreporting-method
html
getReportFilename html
initReportFilename-easyreporting-method
html
initReportFilename html
makeOptionsList html
mkdCodeChunkCommented-easyreporting-method
html
mkdCodeChunkCommented html
mkdCodeChunkComplete-easyreporting-method
html
mkdCodeChunkComplete html
mkdCodeChunkEnd-easyreporting-method html
mkdCodeChunkEnd html
mkdCodeChunkSt-easyreporting-method html
mkdCodeChunkSt html
mkdCodeChunkTitledCommented-easyreporting-method
html
mkdCodeChunkTitledCommented html
mkdGeneralMsg-easyreporting-method html
mkdGeneralMsg html
mkdGeneralTitledMsg-easyreporting-method
html
mkdGeneralTitledMsg html
mkdSetGlobalOpts-easyreporting-method html
mkdSetGlobalOpts html
mkdSourceFiles-easyreporting-method html
mkdSourceFiles html
mkdTitle-easyreporting-method html
mkdTitle html
mkdVariableAssignment-easyreporting-method
html
mkdVariableAssignment html
setBibliography-easyreporting-method html
setBibliography html
setOptionsList-easyreporting-method html
setOptionsList html
** building package indices
** installing vignettes
** testing if installed package can be loaded from temporary location
** testing if installed package can be loaded from final location
** testing if installed package keeps a record of temporary installation path
* MD5 sums
packaged installation of 'easyreporting' as easyreporting_1.7.0.zip
* DONE (easyreporting)