| Back to Multiple platform build/check report for BioC 3.15 |
|
This page was generated on 2022-03-18 11:07:24 -0400 (Fri, 18 Mar 2022).
| Hostname | OS | Arch (*) | R version | Installed pkgs |
|---|---|---|---|---|
| nebbiolo1 | Linux (Ubuntu 20.04.4 LTS) | x86_64 | R Under development (unstable) (2022-02-17 r81757) -- "Unsuffered Consequences" | 4334 |
| riesling1 | Windows Server 2019 Standard | x64 | R Under development (unstable) (2021-11-21 r81221) -- "Unsuffered Consequences" | 4097 |
| palomino3 | Windows Server 2022 Datacenter | x64 | R Under development (unstable) (2022-02-17 r81757 ucrt) -- "Unsuffered Consequences" | 4083 |
| merida1 | macOS 10.14.6 Mojave | x86_64 | R Under development (unstable) (2022-03-02 r81842) -- "Unsuffered Consequences" | 4134 |
| Click on any hostname to see more info about the system (e.g. compilers) (*) as reported by 'uname -p', except on Windows and Mac OS X | ||||
|
To the developers/maintainers of the dittoSeq package: - Please allow up to 24 hours (and sometimes 48 hours) for your latest push to git@git.bioconductor.org:packages/dittoSeq.git to reflect on this report. See How and When does the builder pull? When will my changes propagate? here for more information. - Make sure to use the following settings in order to reproduce any error or warning you see on this page. |
| Package 526/2090 | Hostname | OS / Arch | INSTALL | BUILD | CHECK | BUILD BIN | ||||||||
| dittoSeq 1.7.0 (landing page) Daniel Bunis
| nebbiolo1 | Linux (Ubuntu 20.04.4 LTS) / x86_64 | OK | OK | OK | |||||||||
| riesling1 | Windows Server 2019 Standard / x64 | OK | OK | OK | OK | |||||||||
| palomino3 | Windows Server 2022 Datacenter / x64 | OK | OK | OK | OK | |||||||||
| merida1 | macOS 10.14.6 Mojave / x86_64 | OK | OK | OK | OK | |||||||||
| Package: dittoSeq |
| Version: 1.7.0 |
| Command: rm -rf dittoSeq.buildbin-libdir && mkdir dittoSeq.buildbin-libdir && D:\biocbuild\bbs-3.15-bioc\R\bin\R.exe CMD INSTALL --build --library=dittoSeq.buildbin-libdir dittoSeq_1.7.0.tar.gz |
| StartedAt: 2022-03-17 21:05:15 -0400 (Thu, 17 Mar 2022) |
| EndedAt: 2022-03-17 21:06:23 -0400 (Thu, 17 Mar 2022) |
| EllapsedTime: 68.5 seconds |
| RetCode: 0 |
| Status: OK |
| PackageFile: dittoSeq_1.7.0.zip |
| PackageFileSize: 2.042 MiB |
##############################################################################
##############################################################################
###
### Running command:
###
### rm -rf dittoSeq.buildbin-libdir && mkdir dittoSeq.buildbin-libdir && D:\biocbuild\bbs-3.15-bioc\R\bin\R.exe CMD INSTALL --build --library=dittoSeq.buildbin-libdir dittoSeq_1.7.0.tar.gz
###
##############################################################################
##############################################################################
* installing *source* package 'dittoSeq' ...
** using staged installation
** R
** data
*** moving datasets to lazyload DB
** inst
** byte-compile and prepare package for lazy loading
** help
*** installing help indices
converting help for package 'dittoSeq'
finding HTML links ... done
Darken html
Lighten html
Simulate html
addDimReduction html
finding level-2 HTML links ... done
addPrcomp html
demux.SNP.summary html
demux.calls.summary html
demuxlet.example html
dittoBarPlot html
dittoColors html
dittoDimPlot html
dittoDotPlot html
dittoFreqPlot html
dittoHeatmap html
dittoHex html
dittoPlot html
dittoPlotVarsAcrossGroups html
dittoScatterPlot html
dittoSeq html
gene html
getGenes html
getMetas html
getReductions html
importDemux html
importDittoBulk html
isBulk html
isGene html
isMeta html
meta html
metaLevels html
multi_dittoDimPlot html
multi_dittoDimPlotVaryCells html
multi_dittoPlot html
setBulk html
** building package indices
** installing vignettes
** testing if installed package can be loaded from temporary location
** testing if installed package can be loaded from final location
** testing if installed package keeps a record of temporary installation path
* MD5 sums
packaged installation of 'dittoSeq' as dittoSeq_1.7.0.zip
* DONE (dittoSeq)