| Back to Multiple platform build/check report for BioC 3.15 |
|
This page was generated on 2022-10-19 13:22:51 -0400 (Wed, 19 Oct 2022).
| Hostname | OS | Arch (*) | R version | Installed pkgs |
|---|---|---|---|---|
| nebbiolo1 | Linux (Ubuntu 20.04.5 LTS) | x86_64 | 4.2.1 (2022-06-23) -- "Funny-Looking Kid" | 4386 |
| palomino3 | Windows Server 2022 Datacenter | x64 | 4.2.1 (2022-06-23 ucrt) -- "Funny-Looking Kid" | 4138 |
| merida1 | macOS 10.14.6 Mojave | x86_64 | 4.2.1 (2022-06-23) -- "Funny-Looking Kid" | 4205 |
| Click on any hostname to see more info about the system (e.g. compilers) (*) as reported by 'uname -p', except on Windows and Mac OS X | ||||
|
To the developers/maintainers of the dittoSeq package: - Please allow up to 24 hours (and sometimes 48 hours) for your latest push to git@git.bioconductor.org:packages/dittoSeq.git to reflect on this report. See How and When does the builder pull? When will my changes propagate? for more information. - Make sure to use the following settings in order to reproduce any error or warning you see on this page. |
| Package 541/2140 | Hostname | OS / Arch | INSTALL | BUILD | CHECK | BUILD BIN | ||||||||
| dittoSeq 1.8.1 (landing page) Daniel Bunis
| nebbiolo1 | Linux (Ubuntu 20.04.5 LTS) / x86_64 | OK | OK | OK | |||||||||
| palomino3 | Windows Server 2022 Datacenter / x64 | OK | OK | OK | OK | |||||||||
| merida1 | macOS 10.14.6 Mojave / x86_64 | OK | OK | OK | OK | |||||||||
| Package: dittoSeq |
| Version: 1.8.1 |
| Command: /Library/Frameworks/R.framework/Resources/bin/R CMD check --install=check:dittoSeq.install-out.txt --library=/Library/Frameworks/R.framework/Resources/library --no-vignettes --timings dittoSeq_1.8.1.tar.gz |
| StartedAt: 2022-10-19 01:45:12 -0400 (Wed, 19 Oct 2022) |
| EndedAt: 2022-10-19 01:57:32 -0400 (Wed, 19 Oct 2022) |
| EllapsedTime: 740.6 seconds |
| RetCode: 0 |
| Status: OK |
| CheckDir: dittoSeq.Rcheck |
| Warnings: 0 |
##############################################################################
##############################################################################
###
### Running command:
###
### /Library/Frameworks/R.framework/Resources/bin/R CMD check --install=check:dittoSeq.install-out.txt --library=/Library/Frameworks/R.framework/Resources/library --no-vignettes --timings dittoSeq_1.8.1.tar.gz
###
##############################################################################
##############################################################################
* using log directory ‘/Users/biocbuild/bbs-3.15-bioc/meat/dittoSeq.Rcheck’
* using R version 4.2.1 (2022-06-23)
* using platform: x86_64-apple-darwin17.0 (64-bit)
* using session charset: UTF-8
* using option ‘--no-vignettes’
* checking for file ‘dittoSeq/DESCRIPTION’ ... OK
* checking extension type ... Package
* this is package ‘dittoSeq’ version ‘1.8.1’
* package encoding: UTF-8
* checking package namespace information ... OK
* checking package dependencies ... OK
* checking if this is a source package ... OK
* checking if there is a namespace ... OK
* checking for hidden files and directories ... OK
* checking for portable file names ... OK
* checking for sufficient/correct file permissions ... OK
* checking whether package ‘dittoSeq’ can be installed ... OK
* checking installed package size ... OK
* checking package directory ... OK
* checking ‘build’ directory ... OK
* checking DESCRIPTION meta-information ... OK
* checking top-level files ... OK
* checking for left-over files ... OK
* checking index information ... OK
* checking package subdirectories ... OK
* checking R files for non-ASCII characters ... OK
* checking R files for syntax errors ... OK
* checking whether the package can be loaded ... OK
* checking whether the package can be loaded with stated dependencies ... OK
* checking whether the package can be unloaded cleanly ... OK
* checking whether the namespace can be loaded with stated dependencies ... OK
* checking whether the namespace can be unloaded cleanly ... OK
* checking dependencies in R code ... OK
* checking S3 generic/method consistency ... OK
* checking replacement functions ... OK
* checking foreign function calls ... OK
* checking R code for possible problems ... OK
* checking Rd files ... OK
* checking Rd metadata ... OK
* checking Rd cross-references ... OK
* checking for missing documentation entries ... OK
* checking for code/documentation mismatches ... OK
* checking Rd \usage sections ... OK
* checking Rd contents ... OK
* checking for unstated dependencies in examples ... OK
* checking contents of ‘data’ directory ... OK
* checking data for non-ASCII characters ... OK
* checking LazyData ... OK
* checking data for ASCII and uncompressed saves ... OK
* checking files in ‘vignettes’ ... OK
* checking examples ... OK
Examples with CPU (user + system) or elapsed time > 5s
user system elapsed
multi_dittoDimPlotVaryCells 15.058 0.134 15.592
dittoDimPlot 13.529 0.181 14.427
dittoPlot 13.538 0.102 13.681
dittoFreqPlot 13.230 0.091 13.756
dittoHex 12.035 0.073 12.183
multi_dittoPlot 9.558 0.097 10.580
dittoScatterPlot 7.402 0.050 7.475
gene 6.985 0.137 7.154
dittoHeatmap 6.388 0.101 6.942
multi_dittoDimPlot 6.273 0.035 6.327
dittoPlotVarsAcrossGroups 6.041 0.065 6.124
dittoBarPlot 5.615 0.099 5.784
dittoDotPlot 5.070 0.035 5.362
* checking for unstated dependencies in ‘tests’ ... OK
* checking tests ...
Running ‘testthat.R’
OK
* checking for unstated dependencies in vignettes ... OK
* checking package vignettes in ‘inst/doc’ ... OK
* checking running R code from vignettes ... SKIPPED
* checking re-building of vignette outputs ... SKIPPED
* checking PDF version of manual ... OK
* DONE
Status: OK
dittoSeq.Rcheck/00install.out
############################################################################## ############################################################################## ### ### Running command: ### ### /Library/Frameworks/R.framework/Resources/bin/R CMD INSTALL dittoSeq ### ############################################################################## ############################################################################## * installing to library ‘/Library/Frameworks/R.framework/Versions/4.2/Resources/library’ * installing *source* package ‘dittoSeq’ ... ** using staged installation ** R ** data *** moving datasets to lazyload DB ** inst ** byte-compile and prepare package for lazy loading ** help *** installing help indices ** building package indices ** installing vignettes ** testing if installed package can be loaded from temporary location ** testing if installed package can be loaded from final location ** testing if installed package keeps a record of temporary installation path * DONE (dittoSeq)
dittoSeq.Rcheck/tests/testthat.Rout
R version 4.2.1 (2022-06-23) -- "Funny-Looking Kid"
Copyright (C) 2022 The R Foundation for Statistical Computing
Platform: x86_64-apple-darwin17.0 (64-bit)
R is free software and comes with ABSOLUTELY NO WARRANTY.
You are welcome to redistribute it under certain conditions.
Type 'license()' or 'licence()' for distribution details.
R is a collaborative project with many contributors.
Type 'contributors()' for more information and
'citation()' on how to cite R or R packages in publications.
Type 'demo()' for some demos, 'help()' for on-line help, or
'help.start()' for an HTML browser interface to help.
Type 'q()' to quit R.
> library(testthat)
> test_check("dittoSeq")
Loading required package: dittoSeq
Loading required package: ggplot2
Loading required package: SummarizedExperiment
Loading required package: MatrixGenerics
Loading required package: matrixStats
Attaching package: 'MatrixGenerics'
The following objects are masked from 'package:matrixStats':
colAlls, colAnyNAs, colAnys, colAvgsPerRowSet, colCollapse,
colCounts, colCummaxs, colCummins, colCumprods, colCumsums,
colDiffs, colIQRDiffs, colIQRs, colLogSumExps, colMadDiffs,
colMads, colMaxs, colMeans2, colMedians, colMins, colOrderStats,
colProds, colQuantiles, colRanges, colRanks, colSdDiffs, colSds,
colSums2, colTabulates, colVarDiffs, colVars, colWeightedMads,
colWeightedMeans, colWeightedMedians, colWeightedSds,
colWeightedVars, rowAlls, rowAnyNAs, rowAnys, rowAvgsPerColSet,
rowCollapse, rowCounts, rowCummaxs, rowCummins, rowCumprods,
rowCumsums, rowDiffs, rowIQRDiffs, rowIQRs, rowLogSumExps,
rowMadDiffs, rowMads, rowMaxs, rowMeans2, rowMedians, rowMins,
rowOrderStats, rowProds, rowQuantiles, rowRanges, rowRanks,
rowSdDiffs, rowSds, rowSums2, rowTabulates, rowVarDiffs, rowVars,
rowWeightedMads, rowWeightedMeans, rowWeightedMedians,
rowWeightedSds, rowWeightedVars
Loading required package: GenomicRanges
Loading required package: stats4
Loading required package: BiocGenerics
Attaching package: 'BiocGenerics'
The following objects are masked from 'package:stats':
IQR, mad, sd, var, xtabs
The following objects are masked from 'package:base':
Filter, Find, Map, Position, Reduce, anyDuplicated, append,
as.data.frame, basename, cbind, colnames, dirname, do.call,
duplicated, eval, evalq, get, grep, grepl, intersect, is.unsorted,
lapply, mapply, match, mget, order, paste, pmax, pmax.int, pmin,
pmin.int, rank, rbind, rownames, sapply, setdiff, sort, table,
tapply, union, unique, unsplit, which.max, which.min
Loading required package: S4Vectors
Attaching package: 'S4Vectors'
The following objects are masked from 'package:base':
I, expand.grid, unname
Loading required package: IRanges
Loading required package: GenomeInfoDb
Loading required package: Biobase
Welcome to Bioconductor
Vignettes contain introductory material; view with
'browseVignettes()'. To cite Bioconductor, see
'citation("Biobase")', and for packages 'citation("pkgname")'.
Attaching package: 'Biobase'
The following object is masked from 'package:MatrixGenerics':
rowMedians
The following objects are masked from 'package:matrixStats':
anyMissing, rowMedians
[ FAIL 0 | WARN 0 | SKIP 0 | PASS 724 ]
>
> proc.time()
user system elapsed
267.823 2.345 272.139
dittoSeq.Rcheck/dittoSeq-Ex.timings
| name | user | system | elapsed | |
| Darken | 0.011 | 0.001 | 0.011 | |
| Lighten | 0.004 | 0.000 | 0.004 | |
| Simulate | 4.563 | 0.097 | 4.669 | |
| addDimReduction | 2.244 | 0.137 | 2.393 | |
| addPrcomp | 2.253 | 0.028 | 2.313 | |
| demux.SNP.summary | 3.190 | 0.035 | 3.256 | |
| demux.calls.summary | 3.876 | 0.031 | 3.960 | |
| dittoBarPlot | 5.615 | 0.099 | 5.784 | |
| dittoColors | 0.045 | 0.045 | 0.097 | |
| dittoDimPlot | 13.529 | 0.181 | 14.427 | |
| dittoDotPlot | 5.070 | 0.035 | 5.362 | |
| dittoFreqPlot | 13.230 | 0.091 | 13.756 | |
| dittoHeatmap | 6.388 | 0.101 | 6.942 | |
| dittoHex | 12.035 | 0.073 | 12.183 | |
| dittoPlot | 13.538 | 0.102 | 13.681 | |
| dittoPlotVarsAcrossGroups | 6.041 | 0.065 | 6.124 | |
| dittoScatterPlot | 7.402 | 0.050 | 7.475 | |
| gene | 6.985 | 0.137 | 7.154 | |
| getGenes | 1.863 | 0.039 | 1.923 | |
| getMetas | 1.756 | 0.021 | 1.781 | |
| getReductions | 2.131 | 0.025 | 2.160 | |
| importDemux | 3.626 | 0.027 | 3.661 | |
| importDittoBulk | 1.659 | 0.019 | 1.683 | |
| isBulk | 1.728 | 0.019 | 1.750 | |
| isGene | 1.785 | 0.020 | 1.807 | |
| isMeta | 1.725 | 0.019 | 1.748 | |
| meta | 1.743 | 0.023 | 1.769 | |
| metaLevels | 1.653 | 0.019 | 1.674 | |
| multi_dittoDimPlot | 6.273 | 0.035 | 6.327 | |
| multi_dittoDimPlotVaryCells | 15.058 | 0.134 | 15.592 | |
| multi_dittoPlot | 9.558 | 0.097 | 10.580 | |
| setBulk | 2.179 | 0.025 | 2.326 | |