| Back to Multiple platform build/check report for BioC 3.15 |
|
This page was generated on 2022-03-18 11:06:52 -0400 (Fri, 18 Mar 2022).
| Hostname | OS | Arch (*) | R version | Installed pkgs |
|---|---|---|---|---|
| nebbiolo1 | Linux (Ubuntu 20.04.4 LTS) | x86_64 | R Under development (unstable) (2022-02-17 r81757) -- "Unsuffered Consequences" | 4334 |
| riesling1 | Windows Server 2019 Standard | x64 | R Under development (unstable) (2021-11-21 r81221) -- "Unsuffered Consequences" | 4097 |
| palomino3 | Windows Server 2022 Datacenter | x64 | R Under development (unstable) (2022-02-17 r81757 ucrt) -- "Unsuffered Consequences" | 4083 |
| merida1 | macOS 10.14.6 Mojave | x86_64 | R Under development (unstable) (2022-03-02 r81842) -- "Unsuffered Consequences" | 4134 |
| Click on any hostname to see more info about the system (e.g. compilers) (*) as reported by 'uname -p', except on Windows and Mac OS X | ||||
|
To the developers/maintainers of the a4Base package: - Please allow up to 24 hours (and sometimes 48 hours) for your latest push to git@git.bioconductor.org:packages/a4Base.git to reflect on this report. See How and When does the builder pull? When will my changes propagate? here for more information. - Make sure to use the following settings in order to reproduce any error or warning you see on this page. |
| Package 2/2090 | Hostname | OS / Arch | INSTALL | BUILD | CHECK | BUILD BIN | ||||||||
| a4Base 1.43.0 (landing page) Laure Cougnaud
| nebbiolo1 | Linux (Ubuntu 20.04.4 LTS) / x86_64 | OK | OK | OK | |||||||||
| riesling1 | Windows Server 2019 Standard / x64 | OK | OK | OK | OK | |||||||||
| palomino3 | Windows Server 2022 Datacenter / x64 | OK | OK | OK | OK | |||||||||
| merida1 | macOS 10.14.6 Mojave / x86_64 | OK | OK | OK | OK | |||||||||
| Package: a4Base |
| Version: 1.43.0 |
| Command: D:\biocbuild\bbs-3.15-bioc\R\bin\R.exe CMD INSTALL a4Base |
| StartedAt: 2022-03-17 15:58:55 -0400 (Thu, 17 Mar 2022) |
| EndedAt: 2022-03-17 16:00:09 -0400 (Thu, 17 Mar 2022) |
| EllapsedTime: 73.8 seconds |
| RetCode: 0 |
| Status: OK |
##############################################################################
##############################################################################
###
### Running command:
###
### D:\biocbuild\bbs-3.15-bioc\R\bin\R.exe CMD INSTALL a4Base
###
##############################################################################
##############################################################################
* installing to library 'D:/biocbuild/bbs-3.15-bioc/R/library'
* installing *source* package 'a4Base' ...
** using staged installation
** R
** data
** inst
** byte-compile and prepare package for lazy loading
** help
*** installing help indices
converting help for package 'a4Base'
finding HTML links ... done
ExpressionSetWithComputation-class html
finding level-2 HTML links ... done
a4palette html
addQuantilesColors html
boxPlot html
combineTwoExpressionSet html
computeLogRatio html
createExpressionSet html
filterVarInt html
heatmap.expressionSet html
histPvalue html
histpvalueplotter html
lassoReg html
limmaReg html
limmaTwoLevels html
logReg html
nlcvTT html
oaColors html
oaPalette html
plot1gene html
plotComb2Samples html
plotCombMultSamples html
plotCombination2genes html
plotLogRatio html
probabilitiesPlot html
probe2gene html
profilesPlot html
propDEgenes-methods html
propDEgenes html
propdegenescalculation html
replicates html
spectralMap-methods html
spectralMap html
tTest html
topTable-methods html
volcanoPlot-methods html
volcanoPlot html
volcanoplotter html
** building package indices
** testing if installed package can be loaded from temporary location
** testing if installed package can be loaded from final location
** testing if installed package keeps a record of temporary installation path
* DONE (a4Base)
Making 'packages.html' ...Warning in packageDescription(i, lib.loc = lib, fields = "Title", encoding = "UTF-8") :
DESCRIPTION file of package 'proBatch' is missing or broken
done