| Back to Multiple platform build/check report for BioC 3.15 |
|
This page was generated on 2022-03-18 11:08:53 -0400 (Fri, 18 Mar 2022).
| Hostname | OS | Arch (*) | R version | Installed pkgs |
|---|---|---|---|---|
| nebbiolo1 | Linux (Ubuntu 20.04.4 LTS) | x86_64 | R Under development (unstable) (2022-02-17 r81757) -- "Unsuffered Consequences" | 4334 |
| riesling1 | Windows Server 2019 Standard | x64 | R Under development (unstable) (2021-11-21 r81221) -- "Unsuffered Consequences" | 4097 |
| palomino3 | Windows Server 2022 Datacenter | x64 | R Under development (unstable) (2022-02-17 r81757 ucrt) -- "Unsuffered Consequences" | 4083 |
| merida1 | macOS 10.14.6 Mojave | x86_64 | R Under development (unstable) (2022-03-02 r81842) -- "Unsuffered Consequences" | 4134 |
| Click on any hostname to see more info about the system (e.g. compilers) (*) as reported by 'uname -p', except on Windows and Mac OS X | ||||
|
To the developers/maintainers of the TrajectoryGeometry package: - Please allow up to 24 hours (and sometimes 48 hours) for your latest push to git@git.bioconductor.org:packages/TrajectoryGeometry.git to reflect on this report. See How and When does the builder pull? When will my changes propagate? here for more information. - Make sure to use the following settings in order to reproduce any error or warning you see on this page. |
| Package 1987/2090 | Hostname | OS / Arch | INSTALL | BUILD | CHECK | BUILD BIN | ||||||||
| TrajectoryGeometry 1.3.0 (landing page) Michael Shapiro
| nebbiolo1 | Linux (Ubuntu 20.04.4 LTS) / x86_64 | OK | OK | OK | |||||||||
| riesling1 | Windows Server 2019 Standard / x64 | OK | OK | OK | OK | |||||||||
| palomino3 | Windows Server 2022 Datacenter / x64 | OK | OK | OK | OK | |||||||||
| merida1 | macOS 10.14.6 Mojave / x86_64 | OK | OK | OK | OK | |||||||||
| Package: TrajectoryGeometry |
| Version: 1.3.0 |
| Command: D:\biocbuild\bbs-3.15-bioc\R\bin\R.exe CMD check --no-multiarch --install=check:TrajectoryGeometry.install-out.txt --library=D:\biocbuild\bbs-3.15-bioc\R\library --no-vignettes --timings TrajectoryGeometry_1.3.0.tar.gz |
| StartedAt: 2022-03-17 20:30:39 -0400 (Thu, 17 Mar 2022) |
| EndedAt: 2022-03-17 20:31:51 -0400 (Thu, 17 Mar 2022) |
| EllapsedTime: 71.3 seconds |
| RetCode: 0 |
| Status: OK |
| CheckDir: TrajectoryGeometry.Rcheck |
| Warnings: 0 |
##############################################################################
##############################################################################
###
### Running command:
###
### D:\biocbuild\bbs-3.15-bioc\R\bin\R.exe CMD check --no-multiarch --install=check:TrajectoryGeometry.install-out.txt --library=D:\biocbuild\bbs-3.15-bioc\R\library --no-vignettes --timings TrajectoryGeometry_1.3.0.tar.gz
###
##############################################################################
##############################################################################
* using log directory 'D:/biocbuild/bbs-3.15-bioc/meat/TrajectoryGeometry.Rcheck'
* using R Under development (unstable) (2021-11-21 r81221)
* using platform: x86_64-w64-mingw32 (64-bit)
* using session charset: ISO8859-1
* using option '--no-vignettes'
* checking for file 'TrajectoryGeometry/DESCRIPTION' ... OK
* this is package 'TrajectoryGeometry' version '1.3.0'
* package encoding: UTF-8
* checking package namespace information ... OK
* checking package dependencies ... OK
* checking if this is a source package ... OK
* checking if there is a namespace ... OK
* checking for hidden files and directories ... OK
* checking for portable file names ... OK
* checking whether package 'TrajectoryGeometry' can be installed ... OK
* checking installed package size ... OK
* checking package directory ... OK
* checking 'build' directory ... OK
* checking DESCRIPTION meta-information ... OK
* checking top-level files ... OK
* checking for left-over files ... OK
* checking index information ... OK
* checking package subdirectories ... OK
* checking R files for non-ASCII characters ... OK
* checking R files for syntax errors ... OK
* checking whether the package can be loaded ... OK
* checking whether the package can be loaded with stated dependencies ... OK
* checking whether the package can be unloaded cleanly ... OK
* checking whether the namespace can be loaded with stated dependencies ... OK
* checking whether the namespace can be unloaded cleanly ... OK
* checking dependencies in R code ... OK
* checking S3 generic/method consistency ... OK
* checking replacement functions ... OK
* checking foreign function calls ... OK
* checking R code for possible problems ... NOTE
visualiseBranchPointStats: no visible binding for global variable
'value'
visualiseBranchPointStats: no visible binding for global variable
'logPValue'
visualiseTrajectoryStats: no visible binding for global variable 'type'
visualiseTrajectoryStats: no visible binding for global variable
'value'
Undefined global functions or variables:
logPValue type value
* checking Rd files ... OK
* checking Rd metadata ... OK
* checking Rd cross-references ... OK
* checking for missing documentation entries ... OK
* checking for code/documentation mismatches ... OK
* checking Rd \usage sections ... OK
* checking Rd contents ... OK
* checking for unstated dependencies in examples ... OK
* checking contents of 'data' directory ... OK
* checking data for non-ASCII characters ... OK
* checking LazyData ... OK
* checking data for ASCII and uncompressed saves ... OK
* checking files in 'vignettes' ... OK
* checking examples ... OK
Examples with CPU (user + system) or elapsed time > 5s
user system elapsed
testPathForDirectionality 9.00 0.00 9.00
analyseBranchPoint 8.06 0.03 8.09
* checking for unstated dependencies in vignettes ... OK
* checking package vignettes in 'inst/doc' ... OK
* checking running R code from vignettes ... SKIPPED
* checking re-building of vignette outputs ... SKIPPED
* checking PDF version of manual ... OK
* DONE
Status: 1 NOTE
See
'D:/biocbuild/bbs-3.15-bioc/meat/TrajectoryGeometry.Rcheck/00check.log'
for details.
TrajectoryGeometry.Rcheck/00install.out
##############################################################################
##############################################################################
###
### Running command:
###
### D:\biocbuild\bbs-3.15-bioc\R\bin\R.exe CMD INSTALL TrajectoryGeometry
###
##############################################################################
##############################################################################
* installing to library 'D:/biocbuild/bbs-3.15-bioc/R/library'
* installing *source* package 'TrajectoryGeometry' ...
** using staged installation
** R
** data
*** moving datasets to lazyload DB
** inst
** byte-compile and prepare package for lazy loading
** help
*** installing help indices
converting help for package 'TrajectoryGeometry'
finding HTML links ... done
analyseBranchPoint html
analyseSingleCellTrajectory html
chol_answers html
chol_attributes html
chol_branch_point_results html
chol_pseudo_time html
chol_pseudo_time_normalised html
circleOnTheUnitSphere html
crooked_path html
crooked_path_center html
crooked_path_projection html
crooked_path_radius html
distanceBetweenTrajectories html
findSphereClusterCenter html
findSphericalDistance html
generateRandomPaths html
generateRandomUnitVector html
getDistanceDataForPaths html
getSphericalData html
getStepLengths html
hep_answers html
hep_attributes html
hep_pseudo_time html
hep_pseudo_time_normalised html
orthonormalBasis html
oscillation html
pathProgression html
pathToSphericalData html
plotPathProjectionCenterAndCircle html
projectPathToSphere html
samplePath html
single_cell_matrix html
straight_path html
straight_path_center html
straight_path_projection html
straight_path_radius html
testPathForDirectionality html
visualiseBranchPointStats html
visualiseTrajectoryStats html
** building package indices
** installing vignettes
** testing if installed package can be loaded from temporary location
** testing if installed package can be loaded from final location
** testing if installed package keeps a record of temporary installation path
* DONE (TrajectoryGeometry)
Making 'packages.html' ... done
TrajectoryGeometry.Rcheck/TrajectoryGeometry-Ex.timings
| name | user | system | elapsed | |
| analyseBranchPoint | 8.06 | 0.03 | 8.09 | |
| analyseSingleCellTrajectory | 1.52 | 0.00 | 1.51 | |
| circleOnTheUnitSphere | 0 | 0 | 0 | |
| distanceBetweenTrajectories | 0.83 | 0.01 | 0.84 | |
| findSphereClusterCenter | 0.05 | 0.00 | 0.05 | |
| findSphericalDistance | 0 | 0 | 0 | |
| generateRandomPaths | 0 | 0 | 0 | |
| generateRandomUnitVector | 0 | 0 | 0 | |
| getDistanceDataForPaths | 0.25 | 0.00 | 0.25 | |
| getSphericalData | 0.03 | 0.00 | 0.03 | |
| getStepLengths | 0 | 0 | 0 | |
| orthonormalBasis | 0 | 0 | 0 | |
| pathProgression | 0 | 0 | 0 | |
| pathToSphericalData | 0.03 | 0.00 | 0.03 | |
| plotPathProjectionCenterAndCircle | 0.04 | 0.00 | 0.03 | |
| projectPathToSphere | 0 | 0 | 0 | |
| samplePath | 0 | 0 | 0 | |
| testPathForDirectionality | 9 | 0 | 9 | |
| visualiseBranchPointStats | 0.68 | 0.00 | 0.69 | |
| visualiseTrajectoryStats | 1.97 | 0.13 | 2.09 | |