| Back to Multiple platform build/check report for BioC 3.15 | 
  | 
This page was generated on 2022-03-18 11:08:53 -0400 (Fri, 18 Mar 2022).
| Hostname | OS | Arch (*) | R version | Installed pkgs | 
|---|---|---|---|---|
| nebbiolo1 | Linux (Ubuntu 20.04.4 LTS) | x86_64 | R Under development (unstable) (2022-02-17 r81757) -- "Unsuffered Consequences" | 4334 | 
| riesling1 | Windows Server 2019 Standard | x64 | R Under development (unstable) (2021-11-21 r81221) -- "Unsuffered Consequences" | 4097 | 
| palomino3 | Windows Server 2022 Datacenter | x64 | R Under development (unstable) (2022-02-17 r81757 ucrt) -- "Unsuffered Consequences" | 4083 | 
| merida1 | macOS 10.14.6 Mojave | x86_64 | R Under development (unstable) (2022-03-02 r81842) -- "Unsuffered Consequences" | 4134 | 
| Click on any hostname to see more info about the system (e.g. compilers) (*) as reported by 'uname -p', except on Windows and Mac OS X | ||||
| 
To the developers/maintainers of the TrajectoryGeometry package: - Please allow up to 24 hours (and sometimes 48 hours) for your latest push to git@git.bioconductor.org:packages/TrajectoryGeometry.git to reflect on this report. See How and When does the builder pull? When will my changes propagate? here for more information. - Make sure to use the following settings in order to reproduce any error or warning you see on this page.  | 
| Package 1987/2090 | Hostname | OS / Arch | INSTALL | BUILD | CHECK | BUILD BIN | ||||||||
| TrajectoryGeometry 1.3.0  (landing page) Michael Shapiro 
  | nebbiolo1 | Linux (Ubuntu 20.04.4 LTS) / x86_64 | OK | OK | OK | |||||||||
| riesling1 | Windows Server 2019 Standard / x64 | OK | OK | OK | OK | |||||||||
| palomino3 | Windows Server 2022 Datacenter / x64 | OK | OK | OK | OK | |||||||||
| merida1 | macOS 10.14.6 Mojave / x86_64 | OK | OK | OK | OK | |||||||||
| Package: TrajectoryGeometry | 
| Version: 1.3.0 | 
| Command: rm -rf TrajectoryGeometry.buildbin-libdir && mkdir TrajectoryGeometry.buildbin-libdir && D:\biocbuild\bbs-3.15-bioc\R\bin\R.exe CMD INSTALL --build --library=TrajectoryGeometry.buildbin-libdir TrajectoryGeometry_1.3.0.tar.gz | 
| StartedAt: 2022-03-17 21:45:26 -0400 (Thu, 17 Mar 2022) | 
| EndedAt: 2022-03-17 21:46:45 -0400 (Thu, 17 Mar 2022) | 
| EllapsedTime: 79.0 seconds | 
| RetCode: 0 | 
| Status: OK | 
| PackageFile: TrajectoryGeometry_1.3.0.zip | 
| PackageFileSize: 1.267 MiB | 
##############################################################################
##############################################################################
###
### Running command:
###
###   rm -rf TrajectoryGeometry.buildbin-libdir && mkdir TrajectoryGeometry.buildbin-libdir && D:\biocbuild\bbs-3.15-bioc\R\bin\R.exe CMD INSTALL --build --library=TrajectoryGeometry.buildbin-libdir TrajectoryGeometry_1.3.0.tar.gz
###
##############################################################################
##############################################################################
* installing *source* package 'TrajectoryGeometry' ...
** using staged installation
** R
** data
*** moving datasets to lazyload DB
** inst
** byte-compile and prepare package for lazy loading
** help
*** installing help indices
  converting help for package 'TrajectoryGeometry'
    finding HTML links ... done
    analyseBranchPoint                      html  
    analyseSingleCellTrajectory             html  
    chol_answers                            html  
    chol_attributes                         html  
    chol_branch_point_results               html  
    chol_pseudo_time                        html  
    chol_pseudo_time_normalised             html  
    circleOnTheUnitSphere                   html  
    crooked_path                            html  
    crooked_path_center                     html  
    crooked_path_projection                 html  
    crooked_path_radius                     html  
    distanceBetweenTrajectories             html  
    findSphereClusterCenter                 html  
    findSphericalDistance                   html  
    generateRandomPaths                     html  
    generateRandomUnitVector                html  
    getDistanceDataForPaths                 html  
    getSphericalData                        html  
    getStepLengths                          html  
    hep_answers                             html  
    hep_attributes                          html  
    hep_pseudo_time                         html  
    hep_pseudo_time_normalised              html  
    orthonormalBasis                        html  
    oscillation                             html  
    pathProgression                         html  
    pathToSphericalData                     html  
    plotPathProjectionCenterAndCircle       html  
    projectPathToSphere                     html  
    samplePath                              html  
    single_cell_matrix                      html  
    straight_path                           html  
    straight_path_center                    html  
    straight_path_projection                html  
    straight_path_radius                    html  
    testPathForDirectionality               html  
    visualiseBranchPointStats               html  
    visualiseTrajectoryStats                html  
** building package indices
** installing vignettes
** testing if installed package can be loaded from temporary location
** testing if installed package can be loaded from final location
** testing if installed package keeps a record of temporary installation path
* MD5 sums
packaged installation of 'TrajectoryGeometry' as TrajectoryGeometry_1.3.0.zip
* DONE (TrajectoryGeometry)