| Back to Multiple platform build/check report for BioC 3.15 |
|
This page was generated on 2022-03-18 11:08:50 -0400 (Fri, 18 Mar 2022).
| Hostname | OS | Arch (*) | R version | Installed pkgs |
|---|---|---|---|---|
| nebbiolo1 | Linux (Ubuntu 20.04.4 LTS) | x86_64 | R Under development (unstable) (2022-02-17 r81757) -- "Unsuffered Consequences" | 4334 |
| riesling1 | Windows Server 2019 Standard | x64 | R Under development (unstable) (2021-11-21 r81221) -- "Unsuffered Consequences" | 4097 |
| palomino3 | Windows Server 2022 Datacenter | x64 | R Under development (unstable) (2022-02-17 r81757 ucrt) -- "Unsuffered Consequences" | 4083 |
| merida1 | macOS 10.14.6 Mojave | x86_64 | R Under development (unstable) (2022-03-02 r81842) -- "Unsuffered Consequences" | 4134 |
| Click on any hostname to see more info about the system (e.g. compilers) (*) as reported by 'uname -p', except on Windows and Mac OS X | ||||
|
To the developers/maintainers of the TAPseq package: - Please allow up to 24 hours (and sometimes 48 hours) for your latest push to git@git.bioconductor.org:packages/TAPseq.git to reflect on this report. See How and When does the builder pull? When will my changes propagate? here for more information. - Make sure to use the following settings in order to reproduce any error or warning you see on this page. |
| Package 1934/2090 | Hostname | OS / Arch | INSTALL | BUILD | CHECK | BUILD BIN | ||||||||
| TAPseq 1.7.0 (landing page) Andreas R. Gschwind
| nebbiolo1 | Linux (Ubuntu 20.04.4 LTS) / x86_64 | OK | OK | WARNINGS | |||||||||
| riesling1 | Windows Server 2019 Standard / x64 | OK | OK | WARNINGS | OK | |||||||||
| palomino3 | Windows Server 2022 Datacenter / x64 | OK | OK | WARNINGS | OK | |||||||||
| merida1 | macOS 10.14.6 Mojave / x86_64 | OK | OK | WARNINGS | OK | |||||||||
| Package: TAPseq |
| Version: 1.7.0 |
| Command: rm -rf TAPseq.buildbin-libdir && mkdir TAPseq.buildbin-libdir && D:\biocbuild\bbs-3.15-bioc\R\bin\R.exe CMD INSTALL --build --library=TAPseq.buildbin-libdir TAPseq_1.7.0.tar.gz |
| StartedAt: 2022-03-17 21:43:52 -0400 (Thu, 17 Mar 2022) |
| EndedAt: 2022-03-17 21:45:18 -0400 (Thu, 17 Mar 2022) |
| EllapsedTime: 86.2 seconds |
| RetCode: 0 |
| Status: OK |
| PackageFile: TAPseq_1.7.0.zip |
| PackageFileSize: 3.044 MiB |
##############################################################################
##############################################################################
###
### Running command:
###
### rm -rf TAPseq.buildbin-libdir && mkdir TAPseq.buildbin-libdir && D:\biocbuild\bbs-3.15-bioc\R\bin\R.exe CMD INSTALL --build --library=TAPseq.buildbin-libdir TAPseq_1.7.0.tar.gz
###
##############################################################################
##############################################################################
* installing *source* package 'TAPseq' ...
** using staged installation
** R
** data
** inst
** byte-compile and prepare package for lazy loading
** help
*** installing help indices
converting help for package 'TAPseq'
finding HTML links ... done
TAPseq html
TAPseqInput html
TsIO-class html
TsIOList-class html
accessors html
bone_marrow_genex html
checkPrimers html
check_tool_installation html
chr11_genes html
chr11_polyA_sites html
chr11_primers html
chr11_truncated_txs html
chr11_truncated_txs_seq html
createIORecord html
designPrimers html
estimateOffTargets html
exportPrimers html
getTxsSeq html
get_gt_sequences html
inferPolyASites html
parsePrimer3Output html
pickPrimers html
selectTargetGenes html
truncateTxsPolyA html
** building package indices
** installing vignettes
** testing if installed package can be loaded from temporary location
Warning: Following software required by TAPseq is not installed or not in PATH:
primer3_core
makeblastdb
blastn
Please install these tools before trying to use this package!
** testing if installed package can be loaded from final location
Warning: Following software required by TAPseq is not installed or not in PATH:
primer3_core
makeblastdb
blastn
Please install these tools before trying to use this package!
** testing if installed package keeps a record of temporary installation path
* MD5 sums
packaged installation of 'TAPseq' as TAPseq_1.7.0.zip
* DONE (TAPseq)