| Back to Multiple platform build/check report for BioC 3.15 |
|
This page was generated on 2022-03-18 11:08:49 -0400 (Fri, 18 Mar 2022).
| Hostname | OS | Arch (*) | R version | Installed pkgs |
|---|---|---|---|---|
| nebbiolo1 | Linux (Ubuntu 20.04.4 LTS) | x86_64 | R Under development (unstable) (2022-02-17 r81757) -- "Unsuffered Consequences" | 4334 |
| riesling1 | Windows Server 2019 Standard | x64 | R Under development (unstable) (2021-11-21 r81221) -- "Unsuffered Consequences" | 4097 |
| palomino3 | Windows Server 2022 Datacenter | x64 | R Under development (unstable) (2022-02-17 r81757 ucrt) -- "Unsuffered Consequences" | 4083 |
| merida1 | macOS 10.14.6 Mojave | x86_64 | R Under development (unstable) (2022-03-02 r81842) -- "Unsuffered Consequences" | 4134 |
| Click on any hostname to see more info about the system (e.g. compilers) (*) as reported by 'uname -p', except on Windows and Mac OS X | ||||
|
To the developers/maintainers of the SynExtend package: - Please allow up to 24 hours (and sometimes 48 hours) for your latest push to git@git.bioconductor.org:packages/SynExtend.git to reflect on this report. See How and When does the builder pull? When will my changes propagate? here for more information. - Make sure to use the following settings in order to reproduce any error or warning you see on this page. |
| Package 1926/2090 | Hostname | OS / Arch | INSTALL | BUILD | CHECK | BUILD BIN | ||||||||
| SynExtend 1.7.11 (landing page) Nicholas Cooley
| nebbiolo1 | Linux (Ubuntu 20.04.4 LTS) / x86_64 | OK | OK | OK | |||||||||
| riesling1 | Windows Server 2019 Standard / x64 | OK | OK | OK | OK | |||||||||
| palomino3 | Windows Server 2022 Datacenter / x64 | OK | OK | OK | OK | |||||||||
| merida1 | macOS 10.14.6 Mojave / x86_64 | OK | OK | OK | OK | |||||||||
| Package: SynExtend |
| Version: 1.7.11 |
| Command: D:\biocbuild\bbs-3.15-bioc\R\bin\R.exe CMD check --no-multiarch --install=check:SynExtend.install-out.txt --library=D:\biocbuild\bbs-3.15-bioc\R\library --no-vignettes --timings SynExtend_1.7.11.tar.gz |
| StartedAt: 2022-03-17 20:26:41 -0400 (Thu, 17 Mar 2022) |
| EndedAt: 2022-03-17 20:30:55 -0400 (Thu, 17 Mar 2022) |
| EllapsedTime: 253.7 seconds |
| RetCode: 0 |
| Status: OK |
| CheckDir: SynExtend.Rcheck |
| Warnings: 0 |
##############################################################################
##############################################################################
###
### Running command:
###
### D:\biocbuild\bbs-3.15-bioc\R\bin\R.exe CMD check --no-multiarch --install=check:SynExtend.install-out.txt --library=D:\biocbuild\bbs-3.15-bioc\R\library --no-vignettes --timings SynExtend_1.7.11.tar.gz
###
##############################################################################
##############################################################################
* using log directory 'D:/biocbuild/bbs-3.15-bioc/meat/SynExtend.Rcheck'
* using R Under development (unstable) (2021-11-21 r81221)
* using platform: x86_64-w64-mingw32 (64-bit)
* using session charset: ISO8859-1
* using option '--no-vignettes'
* checking for file 'SynExtend/DESCRIPTION' ... OK
* checking extension type ... Package
* this is package 'SynExtend' version '1.7.11'
* package encoding: UTF-8
* checking package namespace information ... OK
* checking package dependencies ... OK
* checking if this is a source package ... OK
* checking if there is a namespace ... OK
* checking for hidden files and directories ... OK
* checking for portable file names ... OK
* checking whether package 'SynExtend' can be installed ... OK
* checking installed package size ... OK
* checking package directory ... OK
* checking 'build' directory ... OK
* checking DESCRIPTION meta-information ... OK
* checking top-level files ... OK
* checking for left-over files ... OK
* checking index information ... OK
* checking package subdirectories ... OK
* checking R files for non-ASCII characters ... OK
* checking R files for syntax errors ... OK
* checking whether the package can be loaded ... OK
* checking whether the package can be loaded with stated dependencies ... OK
* checking whether the package can be unloaded cleanly ... OK
* checking whether the namespace can be loaded with stated dependencies ... OK
* checking whether the namespace can be unloaded cleanly ... OK
* checking dependencies in R code ... OK
* checking S3 generic/method consistency ... OK
* checking replacement functions ... OK
* checking foreign function calls ... OK
* checking R code for possible problems ... NOTE
BlockExpansion: no visible global function definition for
'ScoreAlignment'
PairSummaries: no visible global function definition for
'ScoreAlignment'
Undefined global functions or variables:
ScoreAlignment
* checking Rd files ... OK
* checking Rd metadata ... OK
* checking Rd cross-references ... OK
* checking for missing documentation entries ... OK
* checking for code/documentation mismatches ... OK
* checking Rd \usage sections ... OK
* checking Rd contents ... OK
* checking for unstated dependencies in examples ... OK
* checking contents of 'data' directory ... OK
* checking data for non-ASCII characters ... OK
* checking data for ASCII and uncompressed saves ... OK
* checking files in 'vignettes' ... OK
* checking examples ... OK
Examples with CPU (user + system) or elapsed time > 5s
user system elapsed
BlockExpansion 101.11 13.83 114.94
gffToDataFrame 28.13 0.48 28.61
PairSummaries 6.15 2.44 8.59
* checking for unstated dependencies in vignettes ... OK
* checking package vignettes in 'inst/doc' ... OK
* checking running R code from vignettes ... SKIPPED
* checking re-building of vignette outputs ... SKIPPED
* checking PDF version of manual ... OK
* DONE
Status: 1 NOTE
See
'D:/biocbuild/bbs-3.15-bioc/meat/SynExtend.Rcheck/00check.log'
for details.
SynExtend.Rcheck/00install.out
##############################################################################
##############################################################################
###
### Running command:
###
### D:\biocbuild\bbs-3.15-bioc\R\bin\R.exe CMD INSTALL SynExtend
###
##############################################################################
##############################################################################
* installing to library 'D:/biocbuild/bbs-3.15-bioc/R/library'
* installing *source* package 'SynExtend' ...
** using staged installation
** R
** data
** inst
** byte-compile and prepare package for lazy loading
** help
*** installing help indices
converting help for package 'SynExtend'
finding HTML links ... done
BlockExpansion html
finding level-2 HTML links ... done
BlockReconciliation html
DisjointSet html
EstimateRearrangementScenarios html
ExtractBy html
FindSets html
Generic html
LinkedPairs-class html
Nitrosocosmicus_GeneCalls html
Nitrosocosmicus_LinkedFeatures html
Nitrosocosmicus_Pairs01 html
Nitrosocosmicus_Pairs02 html
Nitrosocosmicus_Pairs03 html
Nitrosocosmicus_Sets html
Nitrosocosmicus_Synteny html
NucleotideOverlap html
PairSummaries html
SequenceSimilarity html
SubSetPairs html
gffToDataFrame html
** building package indices
** installing vignettes
** testing if installed package can be loaded from temporary location
** testing if installed package can be loaded from final location
** testing if installed package keeps a record of temporary installation path
* DONE (SynExtend)
Making 'packages.html' ... done
SynExtend.Rcheck/SynExtend-Ex.timings
| name | user | system | elapsed | |
| BlockExpansion | 101.11 | 13.83 | 114.94 | |
| BlockReconciliation | 2.97 | 0.06 | 3.03 | |
| DisjointSet | 0.14 | 0.00 | 0.14 | |
| EstimateRearrangementScenarios | 1.51 | 0.00 | 1.52 | |
| ExtractBy | 1.16 | 0.05 | 1.20 | |
| FindSets | 0 | 0 | 0 | |
| Generic | 0.01 | 0.00 | 0.02 | |
| Nitrosocosmicus_GeneCalls | 0.02 | 0.01 | 0.03 | |
| Nitrosocosmicus_LinkedFeatures | 0.06 | 0.00 | 0.06 | |
| Nitrosocosmicus_Pairs01 | 0.05 | 0.00 | 0.05 | |
| Nitrosocosmicus_Pairs02 | 0.06 | 0.00 | 0.06 | |
| Nitrosocosmicus_Pairs03 | 0.05 | 0.00 | 0.05 | |
| Nitrosocosmicus_Sets | 0.00 | 0.02 | 0.01 | |
| Nitrosocosmicus_Synteny | 0.03 | 0.00 | 0.03 | |
| NucleotideOverlap | 2.66 | 0.11 | 2.77 | |
| PairSummaries | 6.15 | 2.44 | 8.59 | |
| SequenceSimilarity | 0.05 | 0.00 | 0.05 | |
| SubSetPairs | 0.68 | 0.14 | 0.82 | |
| gffToDataFrame | 28.13 | 0.48 | 28.61 | |