| Back to Multiple platform build/check report for BioC 3.15 |
|
This page was generated on 2022-10-19 13:23:49 -0400 (Wed, 19 Oct 2022).
| Hostname | OS | Arch (*) | R version | Installed pkgs |
|---|---|---|---|---|
| nebbiolo1 | Linux (Ubuntu 20.04.5 LTS) | x86_64 | 4.2.1 (2022-06-23) -- "Funny-Looking Kid" | 4386 |
| palomino3 | Windows Server 2022 Datacenter | x64 | 4.2.1 (2022-06-23 ucrt) -- "Funny-Looking Kid" | 4138 |
| merida1 | macOS 10.14.6 Mojave | x86_64 | 4.2.1 (2022-06-23) -- "Funny-Looking Kid" | 4205 |
| Click on any hostname to see more info about the system (e.g. compilers) (*) as reported by 'uname -p', except on Windows and Mac OS X | ||||
|
To the developers/maintainers of the SynExtend package: - Please allow up to 24 hours (and sometimes 48 hours) for your latest push to git@git.bioconductor.org:packages/SynExtend.git to reflect on this report. See How and When does the builder pull? When will my changes propagate? for more information. - Make sure to use the following settings in order to reproduce any error or warning you see on this page. |
| Package 1971/2140 | Hostname | OS / Arch | INSTALL | BUILD | CHECK | BUILD BIN | ||||||||
| SynExtend 1.8.0 (landing page) Nicholas Cooley
| nebbiolo1 | Linux (Ubuntu 20.04.5 LTS) / x86_64 | OK | OK | OK | |||||||||
| palomino3 | Windows Server 2022 Datacenter / x64 | OK | OK | OK | OK | |||||||||
| merida1 | macOS 10.14.6 Mojave / x86_64 | OK | OK | OK | OK | |||||||||
| Package: SynExtend |
| Version: 1.8.0 |
| Command: /Library/Frameworks/R.framework/Resources/bin/R CMD check --install=check:SynExtend.install-out.txt --library=/Library/Frameworks/R.framework/Resources/library --no-vignettes --timings SynExtend_1.8.0.tar.gz |
| StartedAt: 2022-10-19 08:45:32 -0400 (Wed, 19 Oct 2022) |
| EndedAt: 2022-10-19 08:54:15 -0400 (Wed, 19 Oct 2022) |
| EllapsedTime: 522.9 seconds |
| RetCode: 0 |
| Status: OK |
| CheckDir: SynExtend.Rcheck |
| Warnings: 0 |
##############################################################################
##############################################################################
###
### Running command:
###
### /Library/Frameworks/R.framework/Resources/bin/R CMD check --install=check:SynExtend.install-out.txt --library=/Library/Frameworks/R.framework/Resources/library --no-vignettes --timings SynExtend_1.8.0.tar.gz
###
##############################################################################
##############################################################################
* using log directory ‘/Users/biocbuild/bbs-3.15-bioc/meat/SynExtend.Rcheck’
* using R version 4.2.1 (2022-06-23)
* using platform: x86_64-apple-darwin17.0 (64-bit)
* using session charset: UTF-8
* using option ‘--no-vignettes’
* checking for file ‘SynExtend/DESCRIPTION’ ... OK
* checking extension type ... Package
* this is package ‘SynExtend’ version ‘1.8.0’
* package encoding: UTF-8
* checking package namespace information ... OK
* checking package dependencies ... OK
* checking if this is a source package ... OK
* checking if there is a namespace ... OK
* checking for hidden files and directories ... OK
* checking for portable file names ... OK
* checking for sufficient/correct file permissions ... OK
* checking whether package ‘SynExtend’ can be installed ... OK
* checking installed package size ... OK
* checking package directory ... OK
* checking ‘build’ directory ... OK
* checking DESCRIPTION meta-information ... OK
* checking top-level files ... OK
* checking for left-over files ... OK
* checking index information ... OK
* checking package subdirectories ... OK
* checking R files for non-ASCII characters ... OK
* checking R files for syntax errors ... OK
* checking whether the package can be loaded ... OK
* checking whether the package can be loaded with stated dependencies ... OK
* checking whether the package can be unloaded cleanly ... OK
* checking whether the namespace can be loaded with stated dependencies ... OK
* checking whether the namespace can be unloaded cleanly ... OK
* checking dependencies in R code ... OK
* checking S3 generic/method consistency ... OK
* checking replacement functions ... OK
* checking foreign function calls ... OK
* checking R code for possible problems ... OK
* checking Rd files ... OK
* checking Rd metadata ... OK
* checking Rd cross-references ... OK
* checking for missing documentation entries ... OK
* checking for code/documentation mismatches ... OK
* checking Rd \usage sections ... OK
* checking Rd contents ... OK
* checking for unstated dependencies in examples ... OK
* checking contents of ‘data’ directory ... OK
* checking data for non-ASCII characters ... OK
* checking data for ASCII and uncompressed saves ... OK
* checking sizes of PDF files under ‘inst/doc’ ... OK
* checking files in ‘vignettes’ ... OK
* checking examples ... OK
Examples with CPU (user + system) or elapsed time > 5s
user system elapsed
predict.ProtWeaver 141.918 0.852 142.969
BuiltInEnsembles 136.622 0.856 137.691
BlockExpansion 17.771 0.339 18.141
gffToDataFrame 14.219 0.027 14.260
ExampleStreptomycesData 6.369 0.068 6.445
getProtWebData.ProtWeb 4.994 0.027 5.027
* checking for unstated dependencies in vignettes ... OK
* checking package vignettes in ‘inst/doc’ ... OK
* checking running R code from vignettes ... SKIPPED
* checking re-building of vignette outputs ... SKIPPED
* checking PDF version of manual ... OK
* DONE
Status: OK
SynExtend.Rcheck/00install.out
############################################################################## ############################################################################## ### ### Running command: ### ### /Library/Frameworks/R.framework/Resources/bin/R CMD INSTALL SynExtend ### ############################################################################## ############################################################################## * installing to library ‘/Library/Frameworks/R.framework/Versions/4.2/Resources/library’ * installing *source* package ‘SynExtend’ ... ** using staged installation ** R ** data ** inst ** byte-compile and prepare package for lazy loading ** help *** installing help indices ** building package indices ** installing vignettes ** testing if installed package can be loaded from temporary location ** testing if installed package can be loaded from final location ** testing if installed package keeps a record of temporary installation path * DONE (SynExtend)
SynExtend.Rcheck/SynExtend-Ex.timings
| name | user | system | elapsed | |
| BlastSeqs | 0 | 0 | 0 | |
| BlockExpansion | 17.771 | 0.339 | 18.141 | |
| BlockReconciliation | 0.350 | 0.002 | 0.352 | |
| BuiltInEnsembles | 136.622 | 0.856 | 137.691 | |
| DisjointSet | 0.045 | 0.002 | 0.048 | |
| Endosymbionts_GeneCalls | 0.023 | 0.002 | 0.026 | |
| Endosymbionts_LinkedFeatures | 0.022 | 0.002 | 0.024 | |
| Endosymbionts_Pairs01 | 0.023 | 0.002 | 0.026 | |
| Endosymbionts_Pairs02 | 0.021 | 0.003 | 0.024 | |
| Endosymbionts_Pairs03 | 0.024 | 0.003 | 0.027 | |
| Endosymbionts_Sets | 0.002 | 0.002 | 0.004 | |
| Endosymbionts_Synteny | 0.003 | 0.002 | 0.005 | |
| EstimRearrScen | 2.692 | 0.013 | 2.707 | |
| ExampleStreptomycesData | 6.369 | 0.068 | 6.445 | |
| ExtractBy | 0.348 | 0.006 | 0.356 | |
| FindSets | 0.002 | 0.000 | 0.002 | |
| Generic | 0.004 | 0.002 | 0.006 | |
| NucleotideOverlap | 0.534 | 0.005 | 0.539 | |
| PairSummaries | 3.215 | 0.030 | 3.247 | |
| ProtWeaver | 0.005 | 0.001 | 0.005 | |
| SequenceSimilarity | 0.111 | 0.006 | 0.121 | |
| SubSetPairs | 0.081 | 0.006 | 0.086 | |
| getProtWebData.ProtWeb | 4.994 | 0.027 | 5.027 | |
| gffToDataFrame | 14.219 | 0.027 | 14.260 | |
| plot.ProtWeb | 4.720 | 0.034 | 4.760 | |
| predict.ProtWeaver | 141.918 | 0.852 | 142.969 | |