| Back to Multiple platform build/check report for BioC 3.15 | 
  | 
This page was generated on 2022-10-19 13:20:52 -0400 (Wed, 19 Oct 2022).
| Hostname | OS | Arch (*) | R version | Installed pkgs | 
|---|---|---|---|---|
| nebbiolo1 | Linux (Ubuntu 20.04.5 LTS) | x86_64 | 4.2.1 (2022-06-23) -- "Funny-Looking Kid" | 4386 | 
| palomino3 | Windows Server 2022 Datacenter | x64 | 4.2.1 (2022-06-23 ucrt) -- "Funny-Looking Kid" | 4138 | 
| merida1 | macOS 10.14.6 Mojave | x86_64 | 4.2.1 (2022-06-23) -- "Funny-Looking Kid" | 4205 | 
| Click on any hostname to see more info about the system (e.g. compilers) (*) as reported by 'uname -p', except on Windows and Mac OS X | ||||
| 
To the developers/maintainers of the SeqArray package: - Please allow up to 24 hours (and sometimes 48 hours) for your latest push to git@git.bioconductor.org:packages/SeqArray.git to reflect on this report. See How and When does the builder pull? When will my changes propagate? for more information. - Make sure to use the following settings in order to reproduce any error or warning you see on this page.  | 
| Package 1810/2140 | Hostname | OS / Arch | INSTALL | BUILD | CHECK | BUILD BIN | ||||||||
| SeqArray 1.36.3  (landing page) Xiuwen Zheng 
  | nebbiolo1 | Linux (Ubuntu 20.04.5 LTS) / x86_64 | OK | OK | OK | |||||||||
| palomino3 | Windows Server 2022 Datacenter / x64 | OK | OK | OK | OK | |||||||||
| merida1 | macOS 10.14.6 Mojave / x86_64 | OK | OK | OK | OK | |||||||||
| Package: SeqArray | 
| Version: 1.36.3 | 
| Command: /home/biocbuild/bbs-3.15-bioc/R/bin/R CMD check --install=check:SeqArray.install-out.txt --library=/home/biocbuild/bbs-3.15-bioc/R/library --no-vignettes --timings SeqArray_1.36.3.tar.gz | 
| StartedAt: 2022-10-18 21:47:26 -0400 (Tue, 18 Oct 2022) | 
| EndedAt: 2022-10-18 21:50:47 -0400 (Tue, 18 Oct 2022) | 
| EllapsedTime: 200.7 seconds | 
| RetCode: 0 | 
| Status: OK | 
| CheckDir: SeqArray.Rcheck | 
| Warnings: 0 | 
##############################################################################
##############################################################################
###
### Running command:
###
###   /home/biocbuild/bbs-3.15-bioc/R/bin/R CMD check --install=check:SeqArray.install-out.txt --library=/home/biocbuild/bbs-3.15-bioc/R/library --no-vignettes --timings SeqArray_1.36.3.tar.gz
###
##############################################################################
##############################################################################
* using log directory ‘/home/biocbuild/bbs-3.15-bioc/meat/SeqArray.Rcheck’
* using R version 4.2.1 (2022-06-23)
* using platform: x86_64-pc-linux-gnu (64-bit)
* using session charset: UTF-8
* using option ‘--no-vignettes’
* checking for file ‘SeqArray/DESCRIPTION’ ... OK
* checking extension type ... Package
* this is package ‘SeqArray’ version ‘1.36.3’
* checking package namespace information ... OK
* checking package dependencies ... OK
* checking if this is a source package ... OK
* checking if there is a namespace ... OK
* checking for hidden files and directories ... OK
* checking for portable file names ... OK
* checking for sufficient/correct file permissions ... OK
* checking whether package ‘SeqArray’ can be installed ... OK
* checking installed package size ... NOTE
  installed size is  5.2Mb
  sub-directories of 1Mb or more:
    extdata   1.7Mb
    libs      2.8Mb
* checking package directory ... OK
* checking ‘build’ directory ... OK
* checking DESCRIPTION meta-information ... OK
* checking top-level files ... OK
* checking for left-over files ... OK
* checking index information ... OK
* checking package subdirectories ... OK
* checking R files for non-ASCII characters ... OK
* checking R files for syntax errors ... OK
* checking whether the package can be loaded ... OK
* checking whether the package can be loaded with stated dependencies ... OK
* checking whether the package can be unloaded cleanly ... OK
* checking whether the namespace can be loaded with stated dependencies ... OK
* checking whether the namespace can be unloaded cleanly ... OK
* checking dependencies in R code ... OK
* checking S3 generic/method consistency ... OK
* checking replacement functions ... OK
* checking foreign function calls ... OK
* checking R code for possible problems ... OK
* checking Rd files ... OK
* checking Rd metadata ... OK
* checking Rd cross-references ... OK
* checking for missing documentation entries ... OK
* checking for code/documentation mismatches ... OK
* checking Rd \usage sections ... OK
* checking Rd contents ... OK
* checking for unstated dependencies in examples ... OK
* checking contents of ‘data’ directory ... OK
* checking data for non-ASCII characters ... OK
* checking data for ASCII and uncompressed saves ... OK
* checking line endings in C/C++/Fortran sources/headers ... OK
* checking line endings in Makefiles ... OK
* checking compilation flags in Makevars ... OK
* checking for GNU extensions in Makefiles ... OK
* checking for portable use of $(BLAS_LIBS) and $(LAPACK_LIBS) ... OK
* checking use of PKG_*FLAGS in Makefiles ... OK
* checking compiled code ... NOTE
Note: information on .o files is not available
File ‘SeqArray/libs/SeqArray.so’:
  Found non-API calls to R: ‘R_GetConnection’, ‘R_ReadConnection’,
    ‘R_WriteConnection’, ‘R_new_custom_connection’
Compiled code should not call non-API entry points in R.
See ‘Writing portable packages’ in the ‘Writing R Extensions’ manual.
* checking files in ‘vignettes’ ... OK
* checking examples ... OK
* checking for unstated dependencies in ‘tests’ ... OK
* checking tests ...
  Running ‘test.R’
 OK
* checking for unstated dependencies in vignettes ... OK
* checking package vignettes in ‘inst/doc’ ... OK
* checking running R code from vignettes ... SKIPPED
* checking re-building of vignette outputs ... SKIPPED
* checking PDF version of manual ... OK
* DONE
Status: 2 NOTEs
See
  ‘/home/biocbuild/bbs-3.15-bioc/meat/SeqArray.Rcheck/00check.log’
for details.
SeqArray.Rcheck/00install.out
############################################################################## ############################################################################## ### ### Running command: ### ### /home/biocbuild/bbs-3.15-bioc/R/bin/R CMD INSTALL SeqArray ### ############################################################################## ############################################################################## * installing to library ‘/home/biocbuild/bbs-3.15-bioc/R/library’ * installing *source* package ‘SeqArray’ ... ** using staged installation ** libs g++ -std=gnu++14 -I"/home/biocbuild/bbs-3.15-bioc/R/include" -DNDEBUG -DUSING_R -I'/home/biocbuild/bbs-3.15-bioc/R/library/gdsfmt/include' -I/usr/local/include -fpic -g -O2 -Wall -c ConvGDS2VCF.cpp -o ConvGDS2VCF.o g++ -std=gnu++14 -I"/home/biocbuild/bbs-3.15-bioc/R/include" -DNDEBUG -DUSING_R -I'/home/biocbuild/bbs-3.15-bioc/R/library/gdsfmt/include' -I/usr/local/include -fpic -g -O2 -Wall -c ConvToGDS.cpp -o ConvToGDS.o g++ -std=gnu++14 -I"/home/biocbuild/bbs-3.15-bioc/R/include" -DNDEBUG -DUSING_R -I'/home/biocbuild/bbs-3.15-bioc/R/library/gdsfmt/include' -I/usr/local/include -fpic -g -O2 -Wall -c ConvVCF2GDS.cpp -o ConvVCF2GDS.o g++ -std=gnu++14 -I"/home/biocbuild/bbs-3.15-bioc/R/include" -DNDEBUG -DUSING_R -I'/home/biocbuild/bbs-3.15-bioc/R/library/gdsfmt/include' -I/usr/local/include -fpic -g -O2 -Wall -c FileMerge.cpp -o FileMerge.o g++ -std=gnu++14 -I"/home/biocbuild/bbs-3.15-bioc/R/include" -DNDEBUG -DUSING_R -I'/home/biocbuild/bbs-3.15-bioc/R/library/gdsfmt/include' -I/usr/local/include -fpic -g -O2 -Wall -c GetData.cpp -o GetData.o g++ -std=gnu++14 -I"/home/biocbuild/bbs-3.15-bioc/R/include" -DNDEBUG -DUSING_R -I'/home/biocbuild/bbs-3.15-bioc/R/library/gdsfmt/include' -I/usr/local/include -fpic -g -O2 -Wall -c Index.cpp -o Index.o g++ -std=gnu++14 -I"/home/biocbuild/bbs-3.15-bioc/R/include" -DNDEBUG -DUSING_R -I'/home/biocbuild/bbs-3.15-bioc/R/library/gdsfmt/include' -I/usr/local/include -fpic -g -O2 -Wall -c LinkSNPRelate.cpp -o LinkSNPRelate.o g++ -std=gnu++14 -I"/home/biocbuild/bbs-3.15-bioc/R/include" -DNDEBUG -DUSING_R -I'/home/biocbuild/bbs-3.15-bioc/R/library/gdsfmt/include' -I/usr/local/include -fpic -g -O2 -Wall -c Methods.cpp -o Methods.o gcc -I"/home/biocbuild/bbs-3.15-bioc/R/include" -DNDEBUG -DUSING_R -I'/home/biocbuild/bbs-3.15-bioc/R/library/gdsfmt/include' -I/usr/local/include -fpic -g -O2 -Wall -c R_SeqArray.c -o R_SeqArray.o g++ -std=gnu++14 -I"/home/biocbuild/bbs-3.15-bioc/R/include" -DNDEBUG -DUSING_R -I'/home/biocbuild/bbs-3.15-bioc/R/library/gdsfmt/include' -I/usr/local/include -fpic -g -O2 -Wall -c ReadBySample.cpp -o ReadBySample.o g++ -std=gnu++14 -I"/home/biocbuild/bbs-3.15-bioc/R/include" -DNDEBUG -DUSING_R -I'/home/biocbuild/bbs-3.15-bioc/R/library/gdsfmt/include' -I/usr/local/include -fpic -g -O2 -Wall -c ReadByUnit.cpp -o ReadByUnit.o g++ -std=gnu++14 -I"/home/biocbuild/bbs-3.15-bioc/R/include" -DNDEBUG -DUSING_R -I'/home/biocbuild/bbs-3.15-bioc/R/library/gdsfmt/include' -I/usr/local/include -fpic -g -O2 -Wall -c ReadByVariant.cpp -o ReadByVariant.o g++ -std=gnu++14 -I"/home/biocbuild/bbs-3.15-bioc/R/include" -DNDEBUG -DUSING_R -I'/home/biocbuild/bbs-3.15-bioc/R/library/gdsfmt/include' -I/usr/local/include -fpic -g -O2 -Wall -c SeqArray.cpp -o SeqArray.o g++ -std=gnu++14 -I"/home/biocbuild/bbs-3.15-bioc/R/include" -DNDEBUG -DUSING_R -I'/home/biocbuild/bbs-3.15-bioc/R/library/gdsfmt/include' -I/usr/local/include -fpic -g -O2 -Wall -c pkg_test.cpp -o pkg_test.o gcc -I"/home/biocbuild/bbs-3.15-bioc/R/include" -DNDEBUG -DUSING_R -I'/home/biocbuild/bbs-3.15-bioc/R/library/gdsfmt/include' -I/usr/local/include -fpic -g -O2 -Wall -c samtools_ext.c -o samtools_ext.o gcc -I"/home/biocbuild/bbs-3.15-bioc/R/include" -DNDEBUG -DUSING_R -I'/home/biocbuild/bbs-3.15-bioc/R/library/gdsfmt/include' -I/usr/local/include -fpic -g -O2 -Wall -c vectorization.c -o vectorization.o g++ -std=gnu++14 -shared -L/home/biocbuild/bbs-3.15-bioc/R/lib -L/usr/local/lib -o SeqArray.so ConvGDS2VCF.o ConvToGDS.o ConvVCF2GDS.o FileMerge.o GetData.o Index.o LinkSNPRelate.o Methods.o R_SeqArray.o ReadBySample.o ReadByUnit.o ReadByVariant.o SeqArray.o pkg_test.o samtools_ext.o vectorization.o -L/home/biocbuild/bbs-3.15-bioc/R/lib -lR installing to /home/biocbuild/bbs-3.15-bioc/R/library/00LOCK-SeqArray/00new/SeqArray/libs ** R ** data ** inst ** byte-compile and prepare package for lazy loading ** help *** installing help indices ** building package indices ** installing vignettes ** testing if installed package can be loaded from temporary location ** checking absolute paths in shared objects and dynamic libraries ** testing if installed package can be loaded from final location ** testing if installed package keeps a record of temporary installation path * DONE (SeqArray)
SeqArray.Rcheck/tests/test.Rout
R version 4.2.1 (2022-06-23) -- "Funny-Looking Kid"
Copyright (C) 2022 The R Foundation for Statistical Computing
Platform: x86_64-pc-linux-gnu (64-bit)
R is free software and comes with ABSOLUTELY NO WARRANTY.
You are welcome to redistribute it under certain conditions.
Type 'license()' or 'licence()' for distribution details.
R is a collaborative project with many contributors.
Type 'contributors()' for more information and
'citation()' on how to cite R or R packages in publications.
Type 'demo()' for some demos, 'help()' for on-line help, or
'help.start()' for an HTML browser interface to help.
Type 'q()' to quit R.
> if (.Platform$OS.type != "windows")
+     BiocGenerics:::testPackage("SeqArray")
Loading required package: BiocGenerics
Attaching package: 'BiocGenerics'
The following objects are masked from 'package:stats':
    IQR, mad, sd, var, xtabs
The following objects are masked from 'package:base':
    Filter, Find, Map, Position, Reduce, anyDuplicated, append,
    as.data.frame, basename, cbind, colnames, dirname, do.call,
    duplicated, eval, evalq, get, grep, grepl, intersect, is.unsorted,
    lapply, mapply, match, mget, order, paste, pmax, pmax.int, pmin,
    pmin.int, rank, rbind, rownames, sapply, setdiff, sort, table,
    tapply, union, unique, unsplit, which.max, which.min
Loading required package: MatrixGenerics
Loading required package: matrixStats
Attaching package: 'matrixStats'
The following object is masked from 'package:SeqArray':
    rowRanges
Attaching package: 'MatrixGenerics'
The following objects are masked from 'package:matrixStats':
    colAlls, colAnyNAs, colAnys, colAvgsPerRowSet, colCollapse,
    colCounts, colCummaxs, colCummins, colCumprods, colCumsums,
    colDiffs, colIQRDiffs, colIQRs, colLogSumExps, colMadDiffs,
    colMads, colMaxs, colMeans2, colMedians, colMins, colOrderStats,
    colProds, colQuantiles, colRanges, colRanks, colSdDiffs, colSds,
    colSums2, colTabulates, colVarDiffs, colVars, colWeightedMads,
    colWeightedMeans, colWeightedMedians, colWeightedSds,
    colWeightedVars, rowAlls, rowAnyNAs, rowAnys, rowAvgsPerColSet,
    rowCollapse, rowCounts, rowCummaxs, rowCummins, rowCumprods,
    rowCumsums, rowDiffs, rowIQRDiffs, rowIQRs, rowLogSumExps,
    rowMadDiffs, rowMads, rowMaxs, rowMeans2, rowMedians, rowMins,
    rowOrderStats, rowProds, rowQuantiles, rowRanges, rowRanks,
    rowSdDiffs, rowSds, rowSums2, rowTabulates, rowVarDiffs, rowVars,
    rowWeightedMads, rowWeightedMeans, rowWeightedMedians,
    rowWeightedSds, rowWeightedVars
The following object is masked from 'package:SeqArray':
    rowRanges
Loading required package: GenomeInfoDb
Loading required package: S4Vectors
Loading required package: stats4
Attaching package: 'S4Vectors'
The following objects are masked from 'package:base':
    I, expand.grid, unname
Loading required package: IRanges
Loading required package: GenomicRanges
Loading required package: SummarizedExperiment
Loading required package: Biobase
Welcome to Bioconductor
    Vignettes contain introductory material; view with
    'browseVignettes()'. To cite Bioconductor, see
    'citation("Biobase")', and for packages 'citation("pkgname")'.
Attaching package: 'Biobase'
The following object is masked from 'package:MatrixGenerics':
    rowMedians
The following objects are masked from 'package:matrixStats':
    anyMissing, rowMedians
Attaching package: 'SummarizedExperiment'
The following object is masked from 'package:SeqArray':
    colData
Loading required package: Rsamtools
Loading required package: Biostrings
Loading required package: XVector
Attaching package: 'Biostrings'
The following object is masked from 'package:base':
    strsplit
Attaching package: 'VariantAnnotation'
The following objects are masked from 'package:SeqArray':
    alt, filt, fixed, geno, header, info, qual, ref
The following object is masked from 'package:base':
    tabulate
[W::bcf_hdr_check_sanity] GL should be declared as Number=G
# of selected variants: 898
[..................................................]  0%, ETC: ---    
[==================================================] 100%, completed, 7s
[..................................................]  0%, ETC: ---    
[==================================================] 100%, completed, 7s
[..................................................]  0%, ETC: ---    
[==================================================] 100%, completed, 5s
[..................................................]  0%, ETC: ---    
[==================================================] 100%, completed, 1s
# of selected variants: 655
[..................................................]  0%, ETC: ---    
[==================================================] 100%, completed, 3s
[..................................................]  0%, ETC: ---    
[==================================================] 100%, completed, 3s
[..................................................]  0%, ETC: ---    
[==================================================] 100%, completed, 5s
[..................................................]  0%, ETC: ---    
[==================================================] 100%, completed, 1s
Attaching package: 'Matrix'
The following object is masked from 'package:VariantAnnotation':
    expand
The following object is masked from 'package:S4Vectors':
    expand
# of selected samples: 90
# of selected variants: 1,348
# of selected samples: 90
# of selected variants: 1,348
# of selected samples: 90
# of selected variants: 1,348
# of selected samples: 90
# of selected variants: 1,348
RUNIT TEST PROTOCOL -- Tue Oct 18 21:50:43 2022 
*********************************************** 
Number of test functions: 28 
Number of errors: 0 
Number of failures: 0 
 
1 Test Suite : 
SeqArray RUnit Tests - 28 test functions, 0 errors, 0 failures
Number of test functions: 28 
Number of errors: 0 
Number of failures: 0 
There were 50 or more warnings (use warnings() to see the first 50)
> 
> proc.time()
   user  system elapsed 
 59.772  58.836  92.135 
SeqArray.Rcheck/SeqArray-Ex.timings
| name | user | system | elapsed | |
| SeqArray-package | 0.340 | 0.055 | 0.399 | |
| SeqVarGDSClass-class | 0.109 | 0.004 | 0.113 | |
| seqAddValue | 0.145 | 0.036 | 0.181 | |
| seqAlleleFreq | 0.060 | 0.000 | 0.061 | |
| seqApply | 0.111 | 0.028 | 0.140 | |
| seqAsVCF | 0.004 | 0.000 | 0.004 | |
| seqBED2GDS | 0.292 | 0.060 | 0.353 | |
| seqBlockApply | 0.060 | 0.008 | 0.069 | |
| seqCheck | 0.039 | 0.000 | 0.038 | |
| seqDelete | 0.080 | 0.008 | 0.087 | |
| seqDigest | 0.025 | 0.000 | 0.026 | |
| seqExampleFileName | 0.002 | 0.000 | 0.002 | |
| seqExport | 0.875 | 0.188 | 1.063 | |
| seqGDS2SNP | 0.071 | 0.012 | 0.082 | |
| seqGDS2VCF | 0.562 | 0.022 | 0.584 | |
| seqGet2bGeno | 0.009 | 0.001 | 0.011 | |
| seqGetData | 1.469 | 0.032 | 1.501 | |
| seqGetFilter | 0.044 | 0.004 | 0.049 | |
| seqMerge | 1.130 | 0.197 | 1.329 | |
| seqMissing | 0.059 | 0.006 | 0.065 | |
| seqNewVarData | 0.003 | 0.000 | 0.003 | |
| seqNumAllele | 0.001 | 0.003 | 0.004 | |
| seqOpen | 0.039 | 0.012 | 0.051 | |
| seqOptimize | 0.176 | 0.036 | 0.211 | |
| seqParallel | 0.116 | 0.397 | 0.277 | |
| seqParallelSetup | 0.068 | 0.093 | 0.114 | |
| seqRecompress | 0.295 | 0.290 | 0.555 | |
| seqResetVariantID | 0.011 | 0.033 | 0.044 | |
| seqSNP2GDS | 1.265 | 0.071 | 1.339 | |
| seqSetFilter | 0.062 | 0.008 | 0.069 | |
| seqSetFilterCond | 0.049 | 0.004 | 0.053 | |
| seqStorageOption | 0.498 | 0.116 | 0.614 | |
| seqSummary | 0.107 | 0.024 | 0.131 | |
| seqSystem | 0.001 | 0.000 | 0.001 | |
| seqTranspose | 0.171 | 0.036 | 0.207 | |
| seqUnitApply | 0.240 | 0.102 | 0.237 | |
| seqUnitFilterCond | 0.049 | 0.019 | 0.067 | |
| seqUnitSlidingWindows | 0.039 | 0.000 | 0.039 | |
| seqUnitSubset | 0.051 | 0.008 | 0.058 | |
| seqVCF2GDS | 0.444 | 0.358 | 0.649 | |
| seqVCF_Header | 0.060 | 0.016 | 0.077 | |
| seqVCF_SampID | 0.000 | 0.002 | 0.002 | |