| Back to Multiple platform build/check report for BioC 3.15 |
|
This page was generated on 2022-10-19 13:23:43 -0400 (Wed, 19 Oct 2022).
| Hostname | OS | Arch (*) | R version | Installed pkgs |
|---|---|---|---|---|
| nebbiolo1 | Linux (Ubuntu 20.04.5 LTS) | x86_64 | 4.2.1 (2022-06-23) -- "Funny-Looking Kid" | 4386 |
| palomino3 | Windows Server 2022 Datacenter | x64 | 4.2.1 (2022-06-23 ucrt) -- "Funny-Looking Kid" | 4138 |
| merida1 | macOS 10.14.6 Mojave | x86_64 | 4.2.1 (2022-06-23) -- "Funny-Looking Kid" | 4205 |
| Click on any hostname to see more info about the system (e.g. compilers) (*) as reported by 'uname -p', except on Windows and Mac OS X | ||||
|
To the developers/maintainers of the SeqArray package: - Please allow up to 24 hours (and sometimes 48 hours) for your latest push to git@git.bioconductor.org:packages/SeqArray.git to reflect on this report. See How and When does the builder pull? When will my changes propagate? for more information. - Make sure to use the following settings in order to reproduce any error or warning you see on this page. |
| Package 1810/2140 | Hostname | OS / Arch | INSTALL | BUILD | CHECK | BUILD BIN | ||||||||
| SeqArray 1.36.3 (landing page) Xiuwen Zheng
| nebbiolo1 | Linux (Ubuntu 20.04.5 LTS) / x86_64 | OK | OK | OK | |||||||||
| palomino3 | Windows Server 2022 Datacenter / x64 | OK | OK | OK | OK | |||||||||
| merida1 | macOS 10.14.6 Mojave / x86_64 | OK | OK | OK | OK | |||||||||
| Package: SeqArray |
| Version: 1.36.3 |
| Command: /Library/Frameworks/R.framework/Resources/bin/R CMD check --install=check:SeqArray.install-out.txt --library=/Library/Frameworks/R.framework/Resources/library --no-vignettes --timings SeqArray_1.36.3.tar.gz |
| StartedAt: 2022-10-19 07:54:29 -0400 (Wed, 19 Oct 2022) |
| EndedAt: 2022-10-19 08:00:15 -0400 (Wed, 19 Oct 2022) |
| EllapsedTime: 346.2 seconds |
| RetCode: 0 |
| Status: OK |
| CheckDir: SeqArray.Rcheck |
| Warnings: 0 |
##############################################################################
##############################################################################
###
### Running command:
###
### /Library/Frameworks/R.framework/Resources/bin/R CMD check --install=check:SeqArray.install-out.txt --library=/Library/Frameworks/R.framework/Resources/library --no-vignettes --timings SeqArray_1.36.3.tar.gz
###
##############################################################################
##############################################################################
* using log directory ‘/Users/biocbuild/bbs-3.15-bioc/meat/SeqArray.Rcheck’
* using R version 4.2.1 (2022-06-23)
* using platform: x86_64-apple-darwin17.0 (64-bit)
* using session charset: UTF-8
* using option ‘--no-vignettes’
* checking for file ‘SeqArray/DESCRIPTION’ ... OK
* checking extension type ... Package
* this is package ‘SeqArray’ version ‘1.36.3’
* checking package namespace information ... OK
* checking package dependencies ... OK
* checking if this is a source package ... OK
* checking if there is a namespace ... OK
* checking for hidden files and directories ... OK
* checking for portable file names ... OK
* checking for sufficient/correct file permissions ... OK
* checking whether package ‘SeqArray’ can be installed ... OK
* checking installed package size ... OK
* checking package directory ... OK
* checking ‘build’ directory ... OK
* checking DESCRIPTION meta-information ... OK
* checking top-level files ... OK
* checking for left-over files ... OK
* checking index information ... OK
* checking package subdirectories ... OK
* checking R files for non-ASCII characters ... OK
* checking R files for syntax errors ... OK
* checking whether the package can be loaded ... OK
* checking whether the package can be loaded with stated dependencies ... OK
* checking whether the package can be unloaded cleanly ... OK
* checking whether the namespace can be loaded with stated dependencies ... OK
* checking whether the namespace can be unloaded cleanly ... OK
* checking dependencies in R code ... OK
* checking S3 generic/method consistency ... OK
* checking replacement functions ... OK
* checking foreign function calls ... OK
* checking R code for possible problems ... OK
* checking Rd files ... OK
* checking Rd metadata ... OK
* checking Rd cross-references ... OK
* checking for missing documentation entries ... OK
* checking for code/documentation mismatches ... OK
* checking Rd \usage sections ... OK
* checking Rd contents ... OK
* checking for unstated dependencies in examples ... OK
* checking contents of ‘data’ directory ... OK
* checking data for non-ASCII characters ... OK
* checking data for ASCII and uncompressed saves ... OK
* checking line endings in C/C++/Fortran sources/headers ... OK
* checking line endings in Makefiles ... OK
* checking compilation flags in Makevars ... OK
* checking for GNU extensions in Makefiles ... OK
* checking for portable use of $(BLAS_LIBS) and $(LAPACK_LIBS) ... OK
* checking use of PKG_*FLAGS in Makefiles ... OK
* checking compiled code ... NOTE
Note: information on .o files is not available
File ‘SeqArray/libs/SeqArray.so’:
Found non-API calls to R: ‘R_GetConnection’, ‘R_ReadConnection’,
‘R_WriteConnection’, ‘R_new_custom_connection’
Compiled code should not call non-API entry points in R.
See ‘Writing portable packages’ in the ‘Writing R Extensions’ manual.
* checking files in ‘vignettes’ ... OK
* checking examples ... OK
* checking for unstated dependencies in ‘tests’ ... OK
* checking tests ...
Running ‘test.R’
OK
* checking for unstated dependencies in vignettes ... OK
* checking package vignettes in ‘inst/doc’ ... OK
* checking running R code from vignettes ... SKIPPED
* checking re-building of vignette outputs ... SKIPPED
* checking PDF version of manual ... OK
* DONE
Status: 1 NOTE
See
‘/Users/biocbuild/bbs-3.15-bioc/meat/SeqArray.Rcheck/00check.log’
for details.
SeqArray.Rcheck/00install.out
############################################################################## ############################################################################## ### ### Running command: ### ### /Library/Frameworks/R.framework/Resources/bin/R CMD INSTALL SeqArray ### ############################################################################## ############################################################################## * installing to library ‘/Library/Frameworks/R.framework/Versions/4.2/Resources/library’ * installing *source* package ‘SeqArray’ ... ** using staged installation ** libs clang++ -mmacosx-version-min=10.13 -std=gnu++14 -I"/Library/Frameworks/R.framework/Resources/include" -DNDEBUG -DUSING_R -I'/Library/Frameworks/R.framework/Versions/4.2/Resources/library/gdsfmt/include' -I/usr/local/include -fPIC -Wall -g -O2 -c ConvGDS2VCF.cpp -o ConvGDS2VCF.o clang++ -mmacosx-version-min=10.13 -std=gnu++14 -I"/Library/Frameworks/R.framework/Resources/include" -DNDEBUG -DUSING_R -I'/Library/Frameworks/R.framework/Versions/4.2/Resources/library/gdsfmt/include' -I/usr/local/include -fPIC -Wall -g -O2 -c ConvToGDS.cpp -o ConvToGDS.o clang++ -mmacosx-version-min=10.13 -std=gnu++14 -I"/Library/Frameworks/R.framework/Resources/include" -DNDEBUG -DUSING_R -I'/Library/Frameworks/R.framework/Versions/4.2/Resources/library/gdsfmt/include' -I/usr/local/include -fPIC -Wall -g -O2 -c ConvVCF2GDS.cpp -o ConvVCF2GDS.o clang++ -mmacosx-version-min=10.13 -std=gnu++14 -I"/Library/Frameworks/R.framework/Resources/include" -DNDEBUG -DUSING_R -I'/Library/Frameworks/R.framework/Versions/4.2/Resources/library/gdsfmt/include' -I/usr/local/include -fPIC -Wall -g -O2 -c FileMerge.cpp -o FileMerge.o clang++ -mmacosx-version-min=10.13 -std=gnu++14 -I"/Library/Frameworks/R.framework/Resources/include" -DNDEBUG -DUSING_R -I'/Library/Frameworks/R.framework/Versions/4.2/Resources/library/gdsfmt/include' -I/usr/local/include -fPIC -Wall -g -O2 -c GetData.cpp -o GetData.o clang++ -mmacosx-version-min=10.13 -std=gnu++14 -I"/Library/Frameworks/R.framework/Resources/include" -DNDEBUG -DUSING_R -I'/Library/Frameworks/R.framework/Versions/4.2/Resources/library/gdsfmt/include' -I/usr/local/include -fPIC -Wall -g -O2 -c Index.cpp -o Index.o clang++ -mmacosx-version-min=10.13 -std=gnu++14 -I"/Library/Frameworks/R.framework/Resources/include" -DNDEBUG -DUSING_R -I'/Library/Frameworks/R.framework/Versions/4.2/Resources/library/gdsfmt/include' -I/usr/local/include -fPIC -Wall -g -O2 -c LinkSNPRelate.cpp -o LinkSNPRelate.o clang++ -mmacosx-version-min=10.13 -std=gnu++14 -I"/Library/Frameworks/R.framework/Resources/include" -DNDEBUG -DUSING_R -I'/Library/Frameworks/R.framework/Versions/4.2/Resources/library/gdsfmt/include' -I/usr/local/include -fPIC -Wall -g -O2 -c Methods.cpp -o Methods.o clang -mmacosx-version-min=10.13 -I"/Library/Frameworks/R.framework/Resources/include" -DNDEBUG -DUSING_R -I'/Library/Frameworks/R.framework/Versions/4.2/Resources/library/gdsfmt/include' -I/usr/local/include -fPIC -Wall -g -O2 -c R_SeqArray.c -o R_SeqArray.o clang++ -mmacosx-version-min=10.13 -std=gnu++14 -I"/Library/Frameworks/R.framework/Resources/include" -DNDEBUG -DUSING_R -I'/Library/Frameworks/R.framework/Versions/4.2/Resources/library/gdsfmt/include' -I/usr/local/include -fPIC -Wall -g -O2 -c ReadBySample.cpp -o ReadBySample.o clang++ -mmacosx-version-min=10.13 -std=gnu++14 -I"/Library/Frameworks/R.framework/Resources/include" -DNDEBUG -DUSING_R -I'/Library/Frameworks/R.framework/Versions/4.2/Resources/library/gdsfmt/include' -I/usr/local/include -fPIC -Wall -g -O2 -c ReadByUnit.cpp -o ReadByUnit.o clang++ -mmacosx-version-min=10.13 -std=gnu++14 -I"/Library/Frameworks/R.framework/Resources/include" -DNDEBUG -DUSING_R -I'/Library/Frameworks/R.framework/Versions/4.2/Resources/library/gdsfmt/include' -I/usr/local/include -fPIC -Wall -g -O2 -c ReadByVariant.cpp -o ReadByVariant.o clang++ -mmacosx-version-min=10.13 -std=gnu++14 -I"/Library/Frameworks/R.framework/Resources/include" -DNDEBUG -DUSING_R -I'/Library/Frameworks/R.framework/Versions/4.2/Resources/library/gdsfmt/include' -I/usr/local/include -fPIC -Wall -g -O2 -c SeqArray.cpp -o SeqArray.o clang++ -mmacosx-version-min=10.13 -std=gnu++14 -I"/Library/Frameworks/R.framework/Resources/include" -DNDEBUG -DUSING_R -I'/Library/Frameworks/R.framework/Versions/4.2/Resources/library/gdsfmt/include' -I/usr/local/include -fPIC -Wall -g -O2 -c pkg_test.cpp -o pkg_test.o clang -mmacosx-version-min=10.13 -I"/Library/Frameworks/R.framework/Resources/include" -DNDEBUG -DUSING_R -I'/Library/Frameworks/R.framework/Versions/4.2/Resources/library/gdsfmt/include' -I/usr/local/include -fPIC -Wall -g -O2 -c samtools_ext.c -o samtools_ext.o clang -mmacosx-version-min=10.13 -I"/Library/Frameworks/R.framework/Resources/include" -DNDEBUG -DUSING_R -I'/Library/Frameworks/R.framework/Versions/4.2/Resources/library/gdsfmt/include' -I/usr/local/include -fPIC -Wall -g -O2 -c vectorization.c -o vectorization.o clang++ -mmacosx-version-min=10.13 -std=gnu++14 -dynamiclib -Wl,-headerpad_max_install_names -undefined dynamic_lookup -single_module -multiply_defined suppress -L/Library/Frameworks/R.framework/Resources/lib -L/usr/local/lib -o SeqArray.so ConvGDS2VCF.o ConvToGDS.o ConvVCF2GDS.o FileMerge.o GetData.o Index.o LinkSNPRelate.o Methods.o R_SeqArray.o ReadBySample.o ReadByUnit.o ReadByVariant.o SeqArray.o pkg_test.o samtools_ext.o vectorization.o -F/Library/Frameworks/R.framework/.. -framework R -Wl,-framework -Wl,CoreFoundation installing to /Library/Frameworks/R.framework/Versions/4.2/Resources/library/00LOCK-SeqArray/00new/SeqArray/libs ** R ** data ** inst ** byte-compile and prepare package for lazy loading ** help *** installing help indices ** building package indices ** installing vignettes ** testing if installed package can be loaded from temporary location ** checking absolute paths in shared objects and dynamic libraries ** testing if installed package can be loaded from final location ** testing if installed package keeps a record of temporary installation path * DONE (SeqArray)
SeqArray.Rcheck/tests/test.Rout
R version 4.2.1 (2022-06-23) -- "Funny-Looking Kid"
Copyright (C) 2022 The R Foundation for Statistical Computing
Platform: x86_64-apple-darwin17.0 (64-bit)
R is free software and comes with ABSOLUTELY NO WARRANTY.
You are welcome to redistribute it under certain conditions.
Type 'license()' or 'licence()' for distribution details.
R is a collaborative project with many contributors.
Type 'contributors()' for more information and
'citation()' on how to cite R or R packages in publications.
Type 'demo()' for some demos, 'help()' for on-line help, or
'help.start()' for an HTML browser interface to help.
Type 'q()' to quit R.
> if (.Platform$OS.type != "windows")
+ BiocGenerics:::testPackage("SeqArray")
Loading required package: BiocGenerics
Attaching package: 'BiocGenerics'
The following objects are masked from 'package:stats':
IQR, mad, sd, var, xtabs
The following objects are masked from 'package:base':
Filter, Find, Map, Position, Reduce, anyDuplicated, append,
as.data.frame, basename, cbind, colnames, dirname, do.call,
duplicated, eval, evalq, get, grep, grepl, intersect, is.unsorted,
lapply, mapply, match, mget, order, paste, pmax, pmax.int, pmin,
pmin.int, rank, rbind, rownames, sapply, setdiff, sort, table,
tapply, union, unique, unsplit, which.max, which.min
Loading required package: MatrixGenerics
Loading required package: matrixStats
Attaching package: 'matrixStats'
The following object is masked from 'package:SeqArray':
rowRanges
Attaching package: 'MatrixGenerics'
The following objects are masked from 'package:matrixStats':
colAlls, colAnyNAs, colAnys, colAvgsPerRowSet, colCollapse,
colCounts, colCummaxs, colCummins, colCumprods, colCumsums,
colDiffs, colIQRDiffs, colIQRs, colLogSumExps, colMadDiffs,
colMads, colMaxs, colMeans2, colMedians, colMins, colOrderStats,
colProds, colQuantiles, colRanges, colRanks, colSdDiffs, colSds,
colSums2, colTabulates, colVarDiffs, colVars, colWeightedMads,
colWeightedMeans, colWeightedMedians, colWeightedSds,
colWeightedVars, rowAlls, rowAnyNAs, rowAnys, rowAvgsPerColSet,
rowCollapse, rowCounts, rowCummaxs, rowCummins, rowCumprods,
rowCumsums, rowDiffs, rowIQRDiffs, rowIQRs, rowLogSumExps,
rowMadDiffs, rowMads, rowMaxs, rowMeans2, rowMedians, rowMins,
rowOrderStats, rowProds, rowQuantiles, rowRanges, rowRanks,
rowSdDiffs, rowSds, rowSums2, rowTabulates, rowVarDiffs, rowVars,
rowWeightedMads, rowWeightedMeans, rowWeightedMedians,
rowWeightedSds, rowWeightedVars
The following object is masked from 'package:SeqArray':
rowRanges
Loading required package: GenomeInfoDb
Loading required package: S4Vectors
Loading required package: stats4
Attaching package: 'S4Vectors'
The following objects are masked from 'package:base':
I, expand.grid, unname
Loading required package: IRanges
Loading required package: GenomicRanges
Loading required package: SummarizedExperiment
Loading required package: Biobase
Welcome to Bioconductor
Vignettes contain introductory material; view with
'browseVignettes()'. To cite Bioconductor, see
'citation("Biobase")', and for packages 'citation("pkgname")'.
Attaching package: 'Biobase'
The following object is masked from 'package:MatrixGenerics':
rowMedians
The following objects are masked from 'package:matrixStats':
anyMissing, rowMedians
Attaching package: 'SummarizedExperiment'
The following object is masked from 'package:SeqArray':
colData
Loading required package: Rsamtools
Loading required package: Biostrings
Loading required package: XVector
Attaching package: 'Biostrings'
The following object is masked from 'package:base':
strsplit
Attaching package: 'VariantAnnotation'
The following objects are masked from 'package:SeqArray':
alt, filt, fixed, geno, header, info, qual, ref
The following object is masked from 'package:base':
tabulate
[W::bcf_hdr_check_sanity] GL should be declared as Number=G
# of selected variants: 898
[..................................................] 0%, ETC: ---
[==================================================] 100%, completed, 2s
[..................................................] 0%, ETC: ---
[==================================================] 100%, completed, 2s
[..................................................] 0%, ETC: ---
[=>................................................] 1%, ETC: 10.4m
[==================================================] 100%, completed, 7s
[..................................................] 0%, ETC: ---
[==================================================] 100%, completed, 1s
# of selected variants: 655
[..................................................] 0%, ETC: ---
[==================================================] 100%, completed, 1s
[..................................................] 0%, ETC: ---
[==================================================] 100%, completed, 1s
[..................................................] 0%, ETC: ---
[=>................................................] 2%, ETC: 10.0m
[==================================================] 100%, completed, 7s
[..................................................] 0%, ETC: ---
[==================================================] 100%, completed, 1s
Attaching package: 'Matrix'
The following object is masked from 'package:VariantAnnotation':
expand
The following object is masked from 'package:S4Vectors':
expand
# of selected samples: 90
# of selected variants: 1,348
# of selected samples: 90
# of selected variants: 1,348
# of selected samples: 90
# of selected variants: 1,348
# of selected samples: 90
# of selected variants: 1,348
RUNIT TEST PROTOCOL -- Wed Oct 19 08:00:03 2022
***********************************************
Number of test functions: 28
Number of errors: 0
Number of failures: 0
1 Test Suite :
SeqArray RUnit Tests - 28 test functions, 0 errors, 0 failures
Number of test functions: 28
Number of errors: 0
Number of failures: 0
There were 50 or more warnings (use warnings() to see the first 50)
>
> proc.time()
user system elapsed
102.762 21.847 131.182
SeqArray.Rcheck/SeqArray-Ex.timings
| name | user | system | elapsed | |
| SeqArray-package | 0.787 | 0.118 | 0.918 | |
| SeqVarGDSClass-class | 0.238 | 0.004 | 0.243 | |
| seqAddValue | 0.245 | 0.050 | 0.296 | |
| seqAlleleFreq | 0.098 | 0.006 | 0.105 | |
| seqApply | 0.214 | 0.028 | 0.242 | |
| seqAsVCF | 0.003 | 0.001 | 0.004 | |
| seqBED2GDS | 0.439 | 0.098 | 0.539 | |
| seqBlockApply | 0.122 | 0.011 | 0.133 | |
| seqCheck | 0.049 | 0.004 | 0.053 | |
| seqDelete | 0.188 | 0.009 | 0.197 | |
| seqDigest | 0.033 | 0.003 | 0.037 | |
| seqExampleFileName | 0.003 | 0.000 | 0.003 | |
| seqExport | 1.321 | 0.725 | 2.051 | |
| seqGDS2SNP | 0.095 | 0.057 | 0.152 | |
| seqGDS2VCF | 1.109 | 0.059 | 1.168 | |
| seqGet2bGeno | 0.017 | 0.002 | 0.019 | |
| seqGetData | 2.605 | 0.052 | 2.660 | |
| seqGetFilter | 0.104 | 0.005 | 0.109 | |
| seqMerge | 1.444 | 0.302 | 1.753 | |
| seqMissing | 0.131 | 0.005 | 0.136 | |
| seqNewVarData | 0.004 | 0.000 | 0.004 | |
| seqNumAllele | 0.004 | 0.001 | 0.005 | |
| seqOpen | 0.090 | 0.002 | 0.093 | |
| seqOptimize | 0.308 | 0.040 | 0.350 | |
| seqParallel | 0.285 | 0.335 | 0.440 | |
| seqParallelSetup | 0.149 | 0.063 | 0.193 | |
| seqRecompress | 0.460 | 0.236 | 0.699 | |
| seqResetVariantID | 0.034 | 0.036 | 0.069 | |
| seqSNP2GDS | 1.975 | 0.162 | 2.146 | |
| seqSetFilter | 0.148 | 0.023 | 0.172 | |
| seqSetFilterCond | 0.122 | 0.015 | 0.139 | |
| seqStorageOption | 1.098 | 0.181 | 1.283 | |
| seqSummary | 0.234 | 0.032 | 0.265 | |
| seqSystem | 0.000 | 0.000 | 0.001 | |
| seqTranspose | 0.377 | 0.036 | 0.416 | |
| seqUnitApply | 0.599 | 0.232 | 0.647 | |
| seqUnitFilterCond | 0.116 | 0.018 | 0.134 | |
| seqUnitSlidingWindows | 0.071 | 0.009 | 0.081 | |
| seqUnitSubset | 0.101 | 0.013 | 0.114 | |
| seqVCF2GDS | 1.022 | 0.400 | 1.283 | |
| seqVCF_Header | 0.181 | 0.020 | 0.201 | |
| seqVCF_SampID | 0.001 | 0.000 | 0.002 | |