| Back to Multiple platform build/check report for BioC 3.15 |
|
This page was generated on 2022-03-18 11:08:49 -0400 (Fri, 18 Mar 2022).
| Hostname | OS | Arch (*) | R version | Installed pkgs |
|---|---|---|---|---|
| nebbiolo1 | Linux (Ubuntu 20.04.4 LTS) | x86_64 | R Under development (unstable) (2022-02-17 r81757) -- "Unsuffered Consequences" | 4334 |
| riesling1 | Windows Server 2019 Standard | x64 | R Under development (unstable) (2021-11-21 r81221) -- "Unsuffered Consequences" | 4097 |
| palomino3 | Windows Server 2022 Datacenter | x64 | R Under development (unstable) (2022-02-17 r81757 ucrt) -- "Unsuffered Consequences" | 4083 |
| merida1 | macOS 10.14.6 Mojave | x86_64 | R Under development (unstable) (2022-03-02 r81842) -- "Unsuffered Consequences" | 4134 |
| Click on any hostname to see more info about the system (e.g. compilers) (*) as reported by 'uname -p', except on Windows and Mac OS X | ||||
|
To the developers/maintainers of the SWATH2stats package: - Please allow up to 24 hours (and sometimes 48 hours) for your latest push to git@git.bioconductor.org:packages/SWATH2stats.git to reflect on this report. See How and When does the builder pull? When will my changes propagate? here for more information. - Make sure to use the following settings in order to reproduce any error or warning you see on this page. |
| Package 1918/2090 | Hostname | OS / Arch | INSTALL | BUILD | CHECK | BUILD BIN | ||||||||
| SWATH2stats 1.25.0 (landing page) Peter Blattmann
| nebbiolo1 | Linux (Ubuntu 20.04.4 LTS) / x86_64 | OK | OK | OK | |||||||||
| riesling1 | Windows Server 2019 Standard / x64 | OK | OK | OK | OK | |||||||||
| palomino3 | Windows Server 2022 Datacenter / x64 | OK | OK | OK | OK | |||||||||
| merida1 | macOS 10.14.6 Mojave / x86_64 | OK | OK | OK | OK | |||||||||
| Package: SWATH2stats |
| Version: 1.25.0 |
| Command: D:\biocbuild\bbs-3.15-bioc\R\bin\R.exe CMD check --no-multiarch --install=check:SWATH2stats.install-out.txt --library=D:\biocbuild\bbs-3.15-bioc\R\library --no-vignettes --timings SWATH2stats_1.25.0.tar.gz |
| StartedAt: 2022-03-17 20:25:58 -0400 (Thu, 17 Mar 2022) |
| EndedAt: 2022-03-17 20:28:35 -0400 (Thu, 17 Mar 2022) |
| EllapsedTime: 156.8 seconds |
| RetCode: 0 |
| Status: OK |
| CheckDir: SWATH2stats.Rcheck |
| Warnings: 0 |
##############################################################################
##############################################################################
###
### Running command:
###
### D:\biocbuild\bbs-3.15-bioc\R\bin\R.exe CMD check --no-multiarch --install=check:SWATH2stats.install-out.txt --library=D:\biocbuild\bbs-3.15-bioc\R\library --no-vignettes --timings SWATH2stats_1.25.0.tar.gz
###
##############################################################################
##############################################################################
* using log directory 'D:/biocbuild/bbs-3.15-bioc/meat/SWATH2stats.Rcheck'
* using R Under development (unstable) (2021-11-21 r81221)
* using platform: x86_64-w64-mingw32 (64-bit)
* using session charset: ISO8859-1
* using option '--no-vignettes'
* checking for file 'SWATH2stats/DESCRIPTION' ... OK
* checking extension type ... Package
* this is package 'SWATH2stats' version '1.25.0'
* package encoding: UTF-8
* checking package namespace information ... OK
* checking package dependencies ... NOTE
Package which this enhances but not available for checking: 'aLFQ'
* checking if this is a source package ... OK
* checking if there is a namespace ... OK
* checking for hidden files and directories ... OK
* checking for portable file names ... OK
* checking whether package 'SWATH2stats' can be installed ... OK
* checking installed package size ... OK
* checking package directory ... OK
* checking 'build' directory ... OK
* checking DESCRIPTION meta-information ... OK
* checking top-level files ... OK
* checking for left-over files ... OK
* checking index information ... OK
* checking package subdirectories ... OK
* checking R files for non-ASCII characters ... OK
* checking R files for syntax errors ... OK
* checking whether the package can be loaded ... OK
* checking whether the package can be loaded with stated dependencies ... OK
* checking whether the package can be unloaded cleanly ... OK
* checking whether the namespace can be loaded with stated dependencies ... OK
* checking whether the namespace can be unloaded cleanly ... OK
* checking dependencies in R code ... OK
* checking S3 generic/method consistency ... OK
* checking replacement functions ... OK
* checking foreign function calls ... OK
* checking R code for possible problems ... OK
* checking Rd files ... OK
* checking Rd metadata ... OK
* checking Rd cross-references ... OK
* checking for missing documentation entries ... OK
* checking for code/documentation mismatches ... OK
* checking Rd \usage sections ... OK
* checking Rd contents ... OK
* checking for unstated dependencies in examples ... OK
* checking contents of 'data' directory ... OK
* checking data for non-ASCII characters ... OK
* checking data for ASCII and uncompressed saves ... OK
* checking files in 'vignettes' ... OK
* checking examples ... OK
Examples with CPU (user + system) or elapsed time > 5s
user system elapsed
load_mart 6.36 0.11 11.22
* checking for unstated dependencies in 'tests' ... OK
* checking tests ...
Running 'test-all.R'
OK
* checking for unstated dependencies in vignettes ... OK
* checking package vignettes in 'inst/doc' ... OK
* checking running R code from vignettes ... SKIPPED
* checking re-building of vignette outputs ... SKIPPED
* checking PDF version of manual ... OK
* DONE
Status: 1 NOTE
See
'D:/biocbuild/bbs-3.15-bioc/meat/SWATH2stats.Rcheck/00check.log'
for details.
SWATH2stats.Rcheck/00install.out
##############################################################################
##############################################################################
###
### Running command:
###
### D:\biocbuild\bbs-3.15-bioc\R\bin\R.exe CMD INSTALL SWATH2stats
###
##############################################################################
##############################################################################
* installing to library 'D:/biocbuild/bbs-3.15-bioc/R/library'
* installing *source* package 'SWATH2stats' ...
** using staged installation
** R
** data
** inst
** byte-compile and prepare package for lazy loading
** help
*** installing help indices
converting help for package 'SWATH2stats'
finding HTML links ... done
JPP_update html
MSstats_data html
OpenSWATH_data html
Spyogenes html
Study_design html
add_genesymbol html
assess_decoy_rate html
assess_fdr_byrun html
assess_fdr_overall html
convert4MSstats html
convert4PECA html
convert4aLFQ html
convert4mapDIA html
convert4pythonscript html
convert_protein_ids html
count_analytes html
disaggregate html
filter_all_peptides html
filter_mscore html
filter_mscore_condition html
filter_mscore_fdr html
filter_mscore_freqobs html
filter_on_max_peptides html
filter_on_min_peptides html
filter_proteotypic_peptides html
import_data html
load_mart html
mscore4assayfdr html
mscore4pepfdr html
mscore4protfdr html
plot.fdr_cube html
plot.fdr_table html
plot_correlation_between_samples html
plot_variation html
plot_variation_vs_total html
reduce_OpenSWATH_output html
removeDecoyProteins html
rmDecoyProt html
sample_annotation html
transform_MSstats_OpenSWATH html
unifyProteinGroupLabels html
validate_columns html
write_matrix_peptides html
write_matrix_proteins html
** building package indices
** installing vignettes
** testing if installed package can be loaded from temporary location
** testing if installed package can be loaded from final location
** testing if installed package keeps a record of temporary installation path
* DONE (SWATH2stats)
Making 'packages.html' ...Warning in packageDescription(i, lib.loc = lib, fields = "Title", encoding = "UTF-8") :
DESCRIPTION file of package 'TSCAN' is missing or broken
done
SWATH2stats.Rcheck/tests/test-all.Rout
R Under development (unstable) (2021-11-21 r81221) -- "Unsuffered Consequences"
Copyright (C) 2021 The R Foundation for Statistical Computing
Platform: x86_64-w64-mingw32/x64 (64-bit)
R is free software and comes with ABSOLUTELY NO WARRANTY.
You are welcome to redistribute it under certain conditions.
Type 'license()' or 'licence()' for distribution details.
R is a collaborative project with many contributors.
Type 'contributors()' for more information and
'citation()' on how to cite R or R packages in publications.
Type 'demo()' for some demos, 'help()' for on-line help, or
'help.start()' for an HTML browser interface to help.
Type 'q()' to quit R.
> library(testthat)
> test_check("SWATH2stats")
Loading required package: SWATH2stats
[1] "peterb_J131223_054"
[1] "peterb_L150425_011_SW"
[1] "peterb_L150514_002_SW"
[ FAIL 0 | WARN 74 | SKIP 0 | PASS 113 ]
[ FAIL 0 | WARN 74 | SKIP 0 | PASS 113 ]
>
> proc.time()
user system elapsed
16.43 0.81 25.03
SWATH2stats.Rcheck/SWATH2stats-Ex.timings
| name | user | system | elapsed | |
| JPP_update | 0.09 | 0.00 | 0.10 | |
| add_genesymbol | 0.02 | 0.00 | 0.01 | |
| assess_decoy_rate | 0.08 | 0.01 | 0.09 | |
| assess_fdr_byrun | 0.20 | 0.00 | 0.21 | |
| assess_fdr_overall | 0.44 | 0.00 | 0.43 | |
| convert4MSstats | 0.55 | 0.02 | 0.57 | |
| convert4PECA | 0.11 | 0.00 | 0.11 | |
| convert4aLFQ | 0.45 | 0.05 | 0.50 | |
| convert4mapDIA | 0.30 | 0.01 | 0.31 | |
| convert4pythonscript | 0.07 | 0.02 | 0.09 | |
| convert_protein_ids | 0 | 0 | 0 | |
| count_analytes | 0.08 | 0.04 | 0.13 | |
| disaggregate | 0.14 | 0.04 | 0.17 | |
| filter_all_peptides | 0.39 | 0.00 | 0.39 | |
| filter_mscore | 0.11 | 0.01 | 0.12 | |
| filter_mscore_condition | 0.08 | 0.03 | 0.11 | |
| filter_mscore_fdr | 0.25 | 0.05 | 0.30 | |
| filter_mscore_freqobs | 0.12 | 0.02 | 0.14 | |
| filter_on_max_peptides | 0.11 | 0.00 | 0.11 | |
| filter_on_min_peptides | 0.11 | 0.01 | 0.12 | |
| filter_proteotypic_peptides | 0.16 | 0.00 | 0.16 | |
| import_data | 0.56 | 0.06 | 0.67 | |
| load_mart | 6.36 | 0.11 | 11.22 | |
| mscore4assayfdr | 0.39 | 0.03 | 0.42 | |
| mscore4pepfdr | 0.26 | 0.08 | 0.34 | |
| mscore4protfdr | 0.18 | 0.03 | 0.21 | |
| plot.fdr_cube | 0.11 | 0.00 | 0.11 | |
| plot.fdr_table | 0.11 | 0.00 | 0.11 | |
| plot_correlation_between_samples | 0.3 | 0.0 | 0.3 | |
| plot_variation | 0.29 | 0.02 | 0.31 | |
| plot_variation_vs_total | 0.27 | 0.00 | 0.27 | |
| reduce_OpenSWATH_output | 0.09 | 0.00 | 0.09 | |
| removeDecoyProteins | 0.10 | 0.00 | 0.09 | |
| sample_annotation | 0.14 | 0.00 | 0.14 | |
| transform_MSstats_OpenSWATH | 0 | 0 | 0 | |
| unifyProteinGroupLabels | 0.09 | 0.00 | 0.10 | |
| validate_columns | 0.02 | 0.00 | 0.01 | |
| write_matrix_peptides | 0.08 | 0.00 | 0.08 | |
| write_matrix_proteins | 0.08 | 0.00 | 0.08 | |