Back to Multiple platform build/check report for BioC 3.15 |
|
This page was generated on 2022-10-19 13:20:57 -0400 (Wed, 19 Oct 2022).
Hostname | OS | Arch (*) | R version | Installed pkgs |
---|---|---|---|---|
nebbiolo1 | Linux (Ubuntu 20.04.5 LTS) | x86_64 | 4.2.1 (2022-06-23) -- "Funny-Looking Kid" | 4386 |
palomino3 | Windows Server 2022 Datacenter | x64 | 4.2.1 (2022-06-23 ucrt) -- "Funny-Looking Kid" | 4138 |
merida1 | macOS 10.14.6 Mojave | x86_64 | 4.2.1 (2022-06-23) -- "Funny-Looking Kid" | 4205 |
Click on any hostname to see more info about the system (e.g. compilers) (*) as reported by 'uname -p', except on Windows and Mac OS X |
To the developers/maintainers of the SWATH2stats package: - Please allow up to 24 hours (and sometimes 48 hours) for your latest push to git@git.bioconductor.org:packages/SWATH2stats.git to reflect on this report. See How and When does the builder pull? When will my changes propagate? for more information. - Make sure to use the following settings in order to reproduce any error or warning you see on this page. |
Package 1963/2140 | Hostname | OS / Arch | INSTALL | BUILD | CHECK | BUILD BIN | ||||||||
SWATH2stats 1.26.0 (landing page) Peter Blattmann
| nebbiolo1 | Linux (Ubuntu 20.04.5 LTS) / x86_64 | OK | OK | OK | ![]() | ||||||||
palomino3 | Windows Server 2022 Datacenter / x64 | OK | OK | OK | OK | ![]() | ||||||||
merida1 | macOS 10.14.6 Mojave / x86_64 | OK | OK | OK | OK | ![]() | ||||||||
Package: SWATH2stats |
Version: 1.26.0 |
Command: /home/biocbuild/bbs-3.15-bioc/R/bin/R CMD check --install=check:SWATH2stats.install-out.txt --library=/home/biocbuild/bbs-3.15-bioc/R/library --no-vignettes --timings SWATH2stats_1.26.0.tar.gz |
StartedAt: 2022-10-18 22:05:31 -0400 (Tue, 18 Oct 2022) |
EndedAt: 2022-10-18 22:08:30 -0400 (Tue, 18 Oct 2022) |
EllapsedTime: 179.7 seconds |
RetCode: 0 |
Status: OK |
CheckDir: SWATH2stats.Rcheck |
Warnings: 0 |
############################################################################## ############################################################################## ### ### Running command: ### ### /home/biocbuild/bbs-3.15-bioc/R/bin/R CMD check --install=check:SWATH2stats.install-out.txt --library=/home/biocbuild/bbs-3.15-bioc/R/library --no-vignettes --timings SWATH2stats_1.26.0.tar.gz ### ############################################################################## ############################################################################## * using log directory ‘/home/biocbuild/bbs-3.15-bioc/meat/SWATH2stats.Rcheck’ * using R version 4.2.1 (2022-06-23) * using platform: x86_64-pc-linux-gnu (64-bit) * using session charset: UTF-8 * using option ‘--no-vignettes’ * checking for file ‘SWATH2stats/DESCRIPTION’ ... OK * checking extension type ... Package * this is package ‘SWATH2stats’ version ‘1.26.0’ * package encoding: UTF-8 * checking package namespace information ... OK * checking package dependencies ... NOTE Package which this enhances but not available for checking: ‘aLFQ’ * checking if this is a source package ... OK * checking if there is a namespace ... OK * checking for hidden files and directories ... OK * checking for portable file names ... OK * checking for sufficient/correct file permissions ... OK * checking whether package ‘SWATH2stats’ can be installed ... OK * checking installed package size ... OK * checking package directory ... OK * checking ‘build’ directory ... OK * checking DESCRIPTION meta-information ... OK * checking top-level files ... OK * checking for left-over files ... OK * checking index information ... OK * checking package subdirectories ... OK * checking R files for non-ASCII characters ... OK * checking R files for syntax errors ... OK * checking whether the package can be loaded ... OK * checking whether the package can be loaded with stated dependencies ... OK * checking whether the package can be unloaded cleanly ... OK * checking whether the namespace can be loaded with stated dependencies ... OK * checking whether the namespace can be unloaded cleanly ... OK * checking dependencies in R code ... OK * checking S3 generic/method consistency ... OK * checking replacement functions ... OK * checking foreign function calls ... OK * checking R code for possible problems ... OK * checking Rd files ... OK * checking Rd metadata ... OK * checking Rd cross-references ... OK * checking for missing documentation entries ... OK * checking for code/documentation mismatches ... OK * checking Rd \usage sections ... OK * checking Rd contents ... OK * checking for unstated dependencies in examples ... OK * checking contents of ‘data’ directory ... OK * checking data for non-ASCII characters ... OK * checking data for ASCII and uncompressed saves ... OK * checking files in ‘vignettes’ ... OK * checking examples ... OK Examples with CPU (user + system) or elapsed time > 5s user system elapsed load_mart 2.059 0.14 21.79 * checking for unstated dependencies in ‘tests’ ... OK * checking tests ... Running ‘test-all.R’ OK * checking for unstated dependencies in vignettes ... OK * checking package vignettes in ‘inst/doc’ ... OK * checking running R code from vignettes ... SKIPPED * checking re-building of vignette outputs ... SKIPPED * checking PDF version of manual ... OK * DONE Status: 1 NOTE See ‘/home/biocbuild/bbs-3.15-bioc/meat/SWATH2stats.Rcheck/00check.log’ for details.
SWATH2stats.Rcheck/00install.out
############################################################################## ############################################################################## ### ### Running command: ### ### /home/biocbuild/bbs-3.15-bioc/R/bin/R CMD INSTALL SWATH2stats ### ############################################################################## ############################################################################## * installing to library ‘/home/biocbuild/bbs-3.15-bioc/R/library’ * installing *source* package ‘SWATH2stats’ ... ** using staged installation ** R ** data ** inst ** byte-compile and prepare package for lazy loading ** help *** installing help indices ** building package indices ** installing vignettes ** testing if installed package can be loaded from temporary location ** testing if installed package can be loaded from final location ** testing if installed package keeps a record of temporary installation path * DONE (SWATH2stats)
SWATH2stats.Rcheck/tests/test-all.Rout
R version 4.2.1 (2022-06-23) -- "Funny-Looking Kid" Copyright (C) 2022 The R Foundation for Statistical Computing Platform: x86_64-pc-linux-gnu (64-bit) R is free software and comes with ABSOLUTELY NO WARRANTY. You are welcome to redistribute it under certain conditions. Type 'license()' or 'licence()' for distribution details. R is a collaborative project with many contributors. Type 'contributors()' for more information and 'citation()' on how to cite R or R packages in publications. Type 'demo()' for some demos, 'help()' for on-line help, or 'help.start()' for an HTML browser interface to help. Type 'q()' to quit R. > library(testthat) > test_check("SWATH2stats") Loading required package: SWATH2stats [1] "peterb_J131223_054" [1] "peterb_L150425_011_SW" [1] "peterb_L150514_002_SW" [ FAIL 0 | WARN 74 | SKIP 0 | PASS 113 ] [ FAIL 0 | WARN 74 | SKIP 0 | PASS 113 ] > > proc.time() user system elapsed 14.574 0.857 37.447
SWATH2stats.Rcheck/SWATH2stats-Ex.timings
name | user | system | elapsed | |
JPP_update | 0.106 | 0.008 | 0.113 | |
add_genesymbol | 0.004 | 0.004 | 0.008 | |
assess_decoy_rate | 0.138 | 0.000 | 0.139 | |
assess_fdr_byrun | 0.236 | 0.008 | 0.244 | |
assess_fdr_overall | 0.468 | 0.068 | 0.536 | |
convert4MSstats | 0.560 | 0.012 | 0.572 | |
convert4PECA | 0.125 | 0.008 | 0.133 | |
convert4aLFQ | 0.590 | 0.016 | 0.606 | |
convert4mapDIA | 0.318 | 0.008 | 0.327 | |
convert4pythonscript | 0.117 | 0.000 | 0.117 | |
convert_protein_ids | 0 | 0 | 0 | |
count_analytes | 0.137 | 0.004 | 0.141 | |
disaggregate | 0.196 | 0.016 | 0.212 | |
filter_all_peptides | 0.122 | 0.003 | 0.126 | |
filter_mscore | 0.181 | 0.000 | 0.158 | |
filter_mscore_condition | 0.178 | 0.000 | 0.156 | |
filter_mscore_fdr | 0.299 | 0.004 | 0.302 | |
filter_mscore_freqobs | 0.145 | 0.000 | 0.133 | |
filter_on_max_peptides | 0.154 | 0.000 | 0.134 | |
filter_on_min_peptides | 0.146 | 0.004 | 0.137 | |
filter_proteotypic_peptides | 0.110 | 0.000 | 0.111 | |
import_data | 0.401 | 0.020 | 0.421 | |
load_mart | 2.059 | 0.140 | 21.790 | |
mscore4assayfdr | 0.319 | 0.016 | 0.336 | |
mscore4pepfdr | 0.241 | 0.000 | 0.241 | |
mscore4protfdr | 0.193 | 0.004 | 0.196 | |
plot.fdr_cube | 0.14 | 0.02 | 0.16 | |
plot.fdr_table | 0.146 | 0.000 | 0.145 | |
plot_correlation_between_samples | 0.786 | 0.040 | 0.827 | |
plot_variation | 0.393 | 0.016 | 0.409 | |
plot_variation_vs_total | 0.331 | 0.040 | 0.370 | |
reduce_OpenSWATH_output | 0.107 | 0.004 | 0.111 | |
removeDecoyProteins | 0.111 | 0.000 | 0.112 | |
sample_annotation | 0.137 | 0.016 | 0.153 | |
transform_MSstats_OpenSWATH | 0.003 | 0.000 | 0.003 | |
unifyProteinGroupLabels | 0.112 | 0.008 | 0.120 | |
validate_columns | 0.001 | 0.000 | 0.001 | |
write_matrix_peptides | 0.112 | 0.008 | 0.121 | |
write_matrix_proteins | 0.119 | 0.004 | 0.123 | |