| Back to Multiple platform build/check report for BioC 3.15 |
|
This page was generated on 2022-03-18 11:08:40 -0400 (Fri, 18 Mar 2022).
| Hostname | OS | Arch (*) | R version | Installed pkgs |
|---|---|---|---|---|
| nebbiolo1 | Linux (Ubuntu 20.04.4 LTS) | x86_64 | R Under development (unstable) (2022-02-17 r81757) -- "Unsuffered Consequences" | 4334 |
| riesling1 | Windows Server 2019 Standard | x64 | R Under development (unstable) (2021-11-21 r81221) -- "Unsuffered Consequences" | 4097 |
| palomino3 | Windows Server 2022 Datacenter | x64 | R Under development (unstable) (2022-02-17 r81757 ucrt) -- "Unsuffered Consequences" | 4083 |
| merida1 | macOS 10.14.6 Mojave | x86_64 | R Under development (unstable) (2022-03-02 r81842) -- "Unsuffered Consequences" | 4134 |
| Click on any hostname to see more info about the system (e.g. compilers) (*) as reported by 'uname -p', except on Windows and Mac OS X | ||||
|
To the developers/maintainers of the SELEX package: - Please allow up to 24 hours (and sometimes 48 hours) for your latest push to git@git.bioconductor.org:packages/SELEX.git to reflect on this report. See How and When does the builder pull? When will my changes propagate? here for more information. - Make sure to use the following settings in order to reproduce any error or warning you see on this page. |
| Package 1765/2090 | Hostname | OS / Arch | INSTALL | BUILD | CHECK | BUILD BIN | ||||||||
| SELEX 1.27.0 (landing page) Harmen J. Bussemaker
| nebbiolo1 | Linux (Ubuntu 20.04.4 LTS) / x86_64 | OK | OK | OK | |||||||||
| riesling1 | Windows Server 2019 Standard / x64 | OK | OK | OK | OK | |||||||||
| palomino3 | Windows Server 2022 Datacenter / x64 | OK | OK | OK | OK | |||||||||
| merida1 | macOS 10.14.6 Mojave / x86_64 | OK | OK | OK | OK | |||||||||
| Package: SELEX |
| Version: 1.27.0 |
| Command: rm -rf SELEX.buildbin-libdir && mkdir SELEX.buildbin-libdir && D:\biocbuild\bbs-3.15-bioc\R\bin\R.exe CMD INSTALL --build --library=SELEX.buildbin-libdir SELEX_1.27.0.tar.gz |
| StartedAt: 2022-03-17 21:38:41 -0400 (Thu, 17 Mar 2022) |
| EndedAt: 2022-03-17 21:40:50 -0400 (Thu, 17 Mar 2022) |
| EllapsedTime: 129.1 seconds |
| RetCode: 0 |
| Status: OK |
| PackageFile: SELEX_1.27.0.zip |
| PackageFileSize: 2.823 MiB |
##############################################################################
##############################################################################
###
### Running command:
###
### rm -rf SELEX.buildbin-libdir && mkdir SELEX.buildbin-libdir && D:\biocbuild\bbs-3.15-bioc\R\bin\R.exe CMD INSTALL --build --library=SELEX.buildbin-libdir SELEX_1.27.0.tar.gz
###
##############################################################################
##############################################################################
* installing *source* package 'SELEX' ...
** using staged installation
** R
** inst
** byte-compile and prepare package for lazy loading
** help
*** installing help indices
converting help for package 'SELEX'
finding HTML links ... done
SELEX html
REDIRECT:topic Previous alias or file overwritten by alias: D:/biocbuild/bbs-3.15-bioc/meat/SELEX.buildbin-libdir/00LOCK-SELEX/00new/SELEX/help/selex.html
selex.affinities html
selex.config html
selex.countSummary html
selex.counts html
selex.defineSample html
selex.exampledata html
selex.fastqPSFM html
selex.getAttributes html
selex.getRound0 html
selex.getSeqfilter html
selex.infogain html
selex.infogainSummary html
selex.jvmStatus html
selex.kmax html
selex.kmerPSFM html
selex.loadAnnotation html
selex.mm html
selex.mmProb html
selex.mmSummary html
selex.revcomp html
selex.run html
selex.sample html
selex.samplePSFM html
selex.sampleSummary html
selex.saveAnnotation html
selex.seqfilter html
selex.setwd html
selex.split html
selex.summary html
** building package indices
** installing vignettes
** testing if installed package can be loaded from temporary location
** testing if installed package can be loaded from final location
** testing if installed package keeps a record of temporary installation path
* MD5 sums
packaged installation of 'SELEX' as SELEX_1.27.0.zip
* DONE (SELEX)