| Back to Multiple platform build/check report for BioC 3.15 |
|
This page was generated on 2022-10-19 13:20:52 -0400 (Wed, 19 Oct 2022).
| Hostname | OS | Arch (*) | R version | Installed pkgs |
|---|---|---|---|---|
| nebbiolo1 | Linux (Ubuntu 20.04.5 LTS) | x86_64 | 4.2.1 (2022-06-23) -- "Funny-Looking Kid" | 4386 |
| palomino3 | Windows Server 2022 Datacenter | x64 | 4.2.1 (2022-06-23 ucrt) -- "Funny-Looking Kid" | 4138 |
| merida1 | macOS 10.14.6 Mojave | x86_64 | 4.2.1 (2022-06-23) -- "Funny-Looking Kid" | 4205 |
| Click on any hostname to see more info about the system (e.g. compilers) (*) as reported by 'uname -p', except on Windows and Mac OS X | ||||
|
To the developers/maintainers of the SELEX package: - Please allow up to 24 hours (and sometimes 48 hours) for your latest push to git@git.bioconductor.org:packages/SELEX.git to reflect on this report. See How and When does the builder pull? When will my changes propagate? for more information. - Make sure to use the following settings in order to reproduce any error or warning you see on this page. |
| Package 1804/2140 | Hostname | OS / Arch | INSTALL | BUILD | CHECK | BUILD BIN | ||||||||
| SELEX 1.28.0 (landing page) Harmen J. Bussemaker
| nebbiolo1 | Linux (Ubuntu 20.04.5 LTS) / x86_64 | OK | OK | OK | |||||||||
| palomino3 | Windows Server 2022 Datacenter / x64 | OK | OK | OK | OK | |||||||||
| merida1 | macOS 10.14.6 Mojave / x86_64 | OK | OK | OK | OK | |||||||||
| Package: SELEX |
| Version: 1.28.0 |
| Command: /home/biocbuild/bbs-3.15-bioc/R/bin/R CMD check --install=check:SELEX.install-out.txt --library=/home/biocbuild/bbs-3.15-bioc/R/library --no-vignettes --timings SELEX_1.28.0.tar.gz |
| StartedAt: 2022-10-18 21:46:45 -0400 (Tue, 18 Oct 2022) |
| EndedAt: 2022-10-18 21:48:16 -0400 (Tue, 18 Oct 2022) |
| EllapsedTime: 91.0 seconds |
| RetCode: 0 |
| Status: OK |
| CheckDir: SELEX.Rcheck |
| Warnings: 0 |
##############################################################################
##############################################################################
###
### Running command:
###
### /home/biocbuild/bbs-3.15-bioc/R/bin/R CMD check --install=check:SELEX.install-out.txt --library=/home/biocbuild/bbs-3.15-bioc/R/library --no-vignettes --timings SELEX_1.28.0.tar.gz
###
##############################################################################
##############################################################################
* using log directory ‘/home/biocbuild/bbs-3.15-bioc/meat/SELEX.Rcheck’
* using R version 4.2.1 (2022-06-23)
* using platform: x86_64-pc-linux-gnu (64-bit)
* using session charset: UTF-8
* using option ‘--no-vignettes’
* checking for file ‘SELEX/DESCRIPTION’ ... OK
* this is package ‘SELEX’ version ‘1.28.0’
* checking package namespace information ... OK
* checking package dependencies ... OK
* checking if this is a source package ... OK
* checking if there is a namespace ... OK
* checking for hidden files and directories ... OK
* checking for portable file names ... OK
* checking for sufficient/correct file permissions ... OK
* checking whether package ‘SELEX’ can be installed ... OK
* checking installed package size ... OK
* checking package directory ... OK
* checking ‘build’ directory ... OK
* checking DESCRIPTION meta-information ... OK
* checking top-level files ... OK
* checking for left-over files ... OK
* checking index information ... OK
* checking package subdirectories ... OK
* checking R files for non-ASCII characters ... OK
* checking R files for syntax errors ... OK
* checking whether the package can be loaded ... OK
* checking whether the package can be loaded with stated dependencies ... OK
* checking whether the package can be unloaded cleanly ... OK
* checking whether the namespace can be loaded with stated dependencies ... OK
* checking whether the namespace can be unloaded cleanly ... OK
* checking dependencies in R code ... OK
* checking S3 generic/method consistency ... OK
* checking replacement functions ... OK
* checking foreign function calls ... OK
* checking R code for possible problems ... OK
* checking Rd files ... OK
* checking Rd metadata ... OK
* checking Rd cross-references ... OK
* checking for missing documentation entries ... OK
* checking for code/documentation mismatches ... OK
* checking Rd \usage sections ... OK
* checking Rd contents ... OK
* checking for unstated dependencies in examples ... OK
* checking line endings in Makefiles ... OK
* checking for GNU extensions in Makefiles ... OK
* checking include directives in Makefiles ... OK
* checking files in ‘vignettes’ ... OK
* checking examples ... OK
Examples with CPU (user + system) or elapsed time > 5s
user system elapsed
SELEX 25.147 2.377 7.899
selex.seqfilter 8.321 0.428 2.235
* checking for unstated dependencies in vignettes ... OK
* checking package vignettes in ‘inst/doc’ ... OK
* checking running R code from vignettes ... SKIPPED
* checking re-building of vignette outputs ... SKIPPED
* checking PDF version of manual ... OK
* DONE
Status: OK
SELEX.Rcheck/00install.out
############################################################################## ############################################################################## ### ### Running command: ### ### /home/biocbuild/bbs-3.15-bioc/R/bin/R CMD INSTALL SELEX ### ############################################################################## ############################################################################## * installing to library ‘/home/biocbuild/bbs-3.15-bioc/R/library’ * installing *source* package ‘SELEX’ ... ** using staged installation ** R ** inst ** byte-compile and prepare package for lazy loading ** help *** installing help indices ** building package indices ** installing vignettes ** testing if installed package can be loaded from temporary location ** testing if installed package can be loaded from final location ** testing if installed package keeps a record of temporary installation path * DONE (SELEX)
SELEX.Rcheck/SELEX-Ex.timings
| name | user | system | elapsed | |
| SELEX | 25.147 | 2.377 | 7.899 | |
| selex.affinities | 0.656 | 0.058 | 0.329 | |
| selex.config | 0.098 | 0.005 | 0.027 | |
| selex.countSummary | 0.919 | 0.021 | 0.257 | |
| selex.counts | 1.109 | 0.019 | 0.402 | |
| selex.defineSample | 0.065 | 0.007 | 0.029 | |
| selex.exampledata | 0.065 | 0.007 | 0.021 | |
| selex.fastqPSFM | 0.867 | 0.023 | 0.361 | |
| selex.getAttributes | 0.142 | 0.003 | 0.047 | |
| selex.getRound0 | 0.162 | 0.009 | 0.078 | |
| selex.getSeqfilter | 0.076 | 0.002 | 0.023 | |
| selex.infogain | 1.209 | 0.029 | 0.353 | |
| selex.infogainSummary | 0.626 | 0.029 | 0.180 | |
| selex.jvmStatus | 0.072 | 0.004 | 0.025 | |
| selex.kmax | 1.591 | 0.177 | 0.632 | |
| selex.kmerPSFM | 0.503 | 0.032 | 0.173 | |
| selex.loadAnnotation | 0.406 | 0.008 | 0.088 | |
| selex.mm | 0.542 | 0.009 | 0.192 | |
| selex.mmProb | 0.455 | 0.020 | 0.166 | |
| selex.mmSummary | 0.340 | 0.043 | 0.211 | |
| selex.revcomp | 0.721 | 0.055 | 0.364 | |
| selex.run | 0.926 | 0.015 | 0.392 | |
| selex.sample | 0.138 | 0.009 | 0.070 | |
| selex.samplePSFM | 0.636 | 0.015 | 0.342 | |
| selex.sampleSummary | 0.156 | 0.011 | 0.064 | |
| selex.saveAnnotation | 0.033 | 0.004 | 0.036 | |
| selex.seqfilter | 8.321 | 0.428 | 2.235 | |
| selex.setwd | 0.075 | 0.000 | 0.015 | |
| selex.split | 0.279 | 0.009 | 0.129 | |
| selex.summary | 0.602 | 0.037 | 0.390 | |