| Back to Multiple platform build/check report for BioC 3.15 |
|
This page was generated on 2022-03-18 11:08:34 -0400 (Fri, 18 Mar 2022).
| Hostname | OS | Arch (*) | R version | Installed pkgs |
|---|---|---|---|---|
| nebbiolo1 | Linux (Ubuntu 20.04.4 LTS) | x86_64 | R Under development (unstable) (2022-02-17 r81757) -- "Unsuffered Consequences" | 4334 |
| riesling1 | Windows Server 2019 Standard | x64 | R Under development (unstable) (2021-11-21 r81221) -- "Unsuffered Consequences" | 4097 |
| palomino3 | Windows Server 2022 Datacenter | x64 | R Under development (unstable) (2022-02-17 r81757 ucrt) -- "Unsuffered Consequences" | 4083 |
| merida1 | macOS 10.14.6 Mojave | x86_64 | R Under development (unstable) (2022-03-02 r81842) -- "Unsuffered Consequences" | 4134 |
| Click on any hostname to see more info about the system (e.g. compilers) (*) as reported by 'uname -p', except on Windows and Mac OS X | ||||
|
To the developers/maintainers of the RUVcorr package: - Please allow up to 24 hours (and sometimes 48 hours) for your latest push to git@git.bioconductor.org:packages/RUVcorr.git to reflect on this report. See How and When does the builder pull? When will my changes propagate? here for more information. - Make sure to use the following settings in order to reproduce any error or warning you see on this page. |
| Package 1688/2090 | Hostname | OS / Arch | INSTALL | BUILD | CHECK | BUILD BIN | ||||||||
| RUVcorr 1.27.0 (landing page) Saskia Freytag
| nebbiolo1 | Linux (Ubuntu 20.04.4 LTS) / x86_64 | OK | OK | WARNINGS | |||||||||
| riesling1 | Windows Server 2019 Standard / x64 | OK | OK | WARNINGS | OK | |||||||||
| palomino3 | Windows Server 2022 Datacenter / x64 | OK | OK | WARNINGS | OK | |||||||||
| merida1 | macOS 10.14.6 Mojave / x86_64 | OK | OK | WARNINGS | OK | |||||||||
| Package: RUVcorr |
| Version: 1.27.0 |
| Command: rm -rf RUVcorr.buildbin-libdir && mkdir RUVcorr.buildbin-libdir && D:\biocbuild\bbs-3.15-bioc\R\bin\R.exe CMD INSTALL --build --library=RUVcorr.buildbin-libdir RUVcorr_1.27.0.tar.gz |
| StartedAt: 2022-03-17 21:36:30 -0400 (Thu, 17 Mar 2022) |
| EndedAt: 2022-03-17 21:37:58 -0400 (Thu, 17 Mar 2022) |
| EllapsedTime: 87.9 seconds |
| RetCode: 0 |
| Status: OK |
| PackageFile: RUVcorr_1.27.0.zip |
| PackageFileSize: 325.8 KiB |
##############################################################################
##############################################################################
###
### Running command:
###
### rm -rf RUVcorr.buildbin-libdir && mkdir RUVcorr.buildbin-libdir && D:\biocbuild\bbs-3.15-bioc\R\bin\R.exe CMD INSTALL --build --library=RUVcorr.buildbin-libdir RUVcorr_1.27.0.tar.gz
###
##############################################################################
##############################################################################
* installing *source* package 'RUVcorr' ...
** using staged installation
** R
** inst
** byte-compile and prepare package for lazy loading
** help
*** installing help indices
converting help for package 'RUVcorr'
finding HTML links ... done
ECDFPlot html
PCAPlot html
RLEPlot html
RUVNaiveRidge html
RUVcorr html
assessQuality html
background html
calculateThreshold html
compareRanks html
correlationPlot html
eigenvaluePlot html
empNegativeControls html
findIQR html
findMinmaxSamples html
findWeights html
funcPara html
funcThresh html
genePlot html
histogramPlot html
is.Threshold html
is.Weights html
is.optimizeParameters html
is.simulateGEdata html
makePosSemiDef html
makeRankedList html
mashUp html
optimizeParameters html
plot.optimizeParameters html
plotDesign html
plotThreshold html
print.simulateGEdata html
prioritise html
simulateGEdata html
splitByFactor html
wcor html
** building package indices
** installing vignettes
** testing if installed package can be loaded from temporary location
** testing if installed package can be loaded from final location
** testing if installed package keeps a record of temporary installation path
* MD5 sums
packaged installation of 'RUVcorr' as RUVcorr_1.27.0.zip
* DONE (RUVcorr)