| Back to Multiple platform build/check report for BioC 3.15 |
|
This page was generated on 2022-03-18 11:08:17 -0400 (Fri, 18 Mar 2022).
| Hostname | OS | Arch (*) | R version | Installed pkgs |
|---|---|---|---|---|
| nebbiolo1 | Linux (Ubuntu 20.04.4 LTS) | x86_64 | R Under development (unstable) (2022-02-17 r81757) -- "Unsuffered Consequences" | 4334 |
| riesling1 | Windows Server 2019 Standard | x64 | R Under development (unstable) (2021-11-21 r81221) -- "Unsuffered Consequences" | 4097 |
| palomino3 | Windows Server 2022 Datacenter | x64 | R Under development (unstable) (2022-02-17 r81757 ucrt) -- "Unsuffered Consequences" | 4083 |
| merida1 | macOS 10.14.6 Mojave | x86_64 | R Under development (unstable) (2022-03-02 r81842) -- "Unsuffered Consequences" | 4134 |
| Click on any hostname to see more info about the system (e.g. compilers) (*) as reported by 'uname -p', except on Windows and Mac OS X | ||||
|
To the developers/maintainers of the PFP package: - Please allow up to 24 hours (and sometimes 48 hours) for your latest push to git@git.bioconductor.org:packages/PFP.git to reflect on this report. See How and When does the builder pull? When will my changes propagate? here for more information. - Make sure to use the following settings in order to reproduce any error or warning you see on this page. |
| Package 1409/2090 | Hostname | OS / Arch | INSTALL | BUILD | CHECK | BUILD BIN | ||||||||
| PFP 1.3.0 (landing page) XC Zhang
| nebbiolo1 | Linux (Ubuntu 20.04.4 LTS) / x86_64 | OK | OK | OK | |||||||||
| riesling1 | Windows Server 2019 Standard / x64 | OK | OK | OK | OK | |||||||||
| palomino3 | Windows Server 2022 Datacenter / x64 | OK | OK | OK | OK | |||||||||
| merida1 | macOS 10.14.6 Mojave / x86_64 | OK | OK | OK | OK | |||||||||
| Package: PFP |
| Version: 1.3.0 |
| Command: rm -rf PFP.buildbin-libdir && mkdir PFP.buildbin-libdir && D:\biocbuild\bbs-3.15-bioc\R\bin\R.exe CMD INSTALL --build --library=PFP.buildbin-libdir PFP_1.3.0.tar.gz |
| StartedAt: 2022-03-17 21:28:04 -0400 (Thu, 17 Mar 2022) |
| EndedAt: 2022-03-17 21:29:26 -0400 (Thu, 17 Mar 2022) |
| EllapsedTime: 82.3 seconds |
| RetCode: 0 |
| Status: OK |
| PackageFile: PFP_1.3.0.zip |
| PackageFileSize: 1.372 MiB |
##############################################################################
##############################################################################
###
### Running command:
###
### rm -rf PFP.buildbin-libdir && mkdir PFP.buildbin-libdir && D:\biocbuild\bbs-3.15-bioc\R\bin\R.exe CMD INSTALL --build --library=PFP.buildbin-libdir PFP_1.3.0.tar.gz
###
##############################################################################
##############################################################################
* installing *source* package 'PFP' ...
** using staged installation
** R
** data
** inst
** byte-compile and prepare package for lazy loading
** help
*** installing help indices
converting help for package 'PFP'
finding HTML links ... done
PFP-class html
PFP html
PFPRefnet-class html
PFPRefnet_hsa html
PFPRefnet_mmu html
PFP_score-methods html
PFP_test1 html
PFP_test2 html
calc_PFP_score html
data_std html
gene_list_hsa html
genes_score-methods html
get_PFPRefnet html
get_asso_net html
get_bg_related_kegg html
get_exp_cor_edges html
get_pathway_info html
group-methods html
kegg_download html
net_info-methods html
net_names-methods html
network-methods html
pathway_info html
pathway_info_hsa html
pathways_score-methods html
plot_PFP-methods html
plot_PFPlist html
rank_PFP-methods html
refnet_info-methods html
refnet_names-methods html
result_PFP-methods html
show_PFP-methods html
show_net-methods html
stats_test-methods html
sub_PFP-methods html
subnet-methods html
trans_edges_id html
trans_graph2PFPRefnet html
finding level-2 HTML links ... done
trans_xml2graph html
** building package indices
** installing vignettes
** testing if installed package can be loaded from temporary location
** testing if installed package can be loaded from final location
** testing if installed package keeps a record of temporary installation path
* MD5 sums
packaged installation of 'PFP' as PFP_1.3.0.zip
* DONE (PFP)