| Back to Multiple platform build/check report for BioC 3.15 |
|
This page was generated on 2022-10-19 13:20:40 -0400 (Wed, 19 Oct 2022).
| Hostname | OS | Arch (*) | R version | Installed pkgs |
|---|---|---|---|---|
| nebbiolo1 | Linux (Ubuntu 20.04.5 LTS) | x86_64 | 4.2.1 (2022-06-23) -- "Funny-Looking Kid" | 4386 |
| palomino3 | Windows Server 2022 Datacenter | x64 | 4.2.1 (2022-06-23 ucrt) -- "Funny-Looking Kid" | 4138 |
| merida1 | macOS 10.14.6 Mojave | x86_64 | 4.2.1 (2022-06-23) -- "Funny-Looking Kid" | 4205 |
| Click on any hostname to see more info about the system (e.g. compilers) (*) as reported by 'uname -p', except on Windows and Mac OS X | ||||
|
To the developers/maintainers of the PFP package: - Please allow up to 24 hours (and sometimes 48 hours) for your latest push to git@git.bioconductor.org:packages/PFP.git to reflect on this report. See How and When does the builder pull? When will my changes propagate? for more information. - Make sure to use the following settings in order to reproduce any error or warning you see on this page. |
| Package 1439/2140 | Hostname | OS / Arch | INSTALL | BUILD | CHECK | BUILD BIN | ||||||||
| PFP 1.4.0 (landing page) XC Zhang
| nebbiolo1 | Linux (Ubuntu 20.04.5 LTS) / x86_64 | OK | OK | OK | |||||||||
| palomino3 | Windows Server 2022 Datacenter / x64 | OK | OK | OK | OK | |||||||||
| merida1 | macOS 10.14.6 Mojave / x86_64 | OK | OK | OK | OK | |||||||||
| Package: PFP |
| Version: 1.4.0 |
| Command: /home/biocbuild/bbs-3.15-bioc/R/bin/R CMD check --install=check:PFP.install-out.txt --library=/home/biocbuild/bbs-3.15-bioc/R/library --no-vignettes --timings PFP_1.4.0.tar.gz |
| StartedAt: 2022-10-18 21:06:24 -0400 (Tue, 18 Oct 2022) |
| EndedAt: 2022-10-18 21:09:49 -0400 (Tue, 18 Oct 2022) |
| EllapsedTime: 205.2 seconds |
| RetCode: 0 |
| Status: OK |
| CheckDir: PFP.Rcheck |
| Warnings: 0 |
##############################################################################
##############################################################################
###
### Running command:
###
### /home/biocbuild/bbs-3.15-bioc/R/bin/R CMD check --install=check:PFP.install-out.txt --library=/home/biocbuild/bbs-3.15-bioc/R/library --no-vignettes --timings PFP_1.4.0.tar.gz
###
##############################################################################
##############################################################################
* using log directory ‘/home/biocbuild/bbs-3.15-bioc/meat/PFP.Rcheck’
* using R version 4.2.1 (2022-06-23)
* using platform: x86_64-pc-linux-gnu (64-bit)
* using session charset: UTF-8
* using option ‘--no-vignettes’
* checking for file ‘PFP/DESCRIPTION’ ... OK
* checking extension type ... Package
* this is package ‘PFP’ version ‘1.4.0’
* package encoding: UTF-8
* checking package namespace information ... OK
* checking package dependencies ... OK
* checking if this is a source package ... OK
* checking if there is a namespace ... OK
* checking for hidden files and directories ... OK
* checking for portable file names ... OK
* checking for sufficient/correct file permissions ... OK
* checking whether package ‘PFP’ can be installed ... OK
* checking installed package size ... OK
* checking package directory ... OK
* checking ‘build’ directory ... OK
* checking DESCRIPTION meta-information ... OK
* checking top-level files ... OK
* checking for left-over files ... OK
* checking index information ... OK
* checking package subdirectories ... OK
* checking R files for non-ASCII characters ... OK
* checking R files for syntax errors ... OK
* checking whether the package can be loaded ... OK
* checking whether the package can be loaded with stated dependencies ... OK
* checking whether the package can be unloaded cleanly ... OK
* checking whether the namespace can be loaded with stated dependencies ... OK
* checking whether the namespace can be unloaded cleanly ... OK
* checking dependencies in R code ... OK
* checking S3 generic/method consistency ... OK
* checking replacement functions ... OK
* checking foreign function calls ... OK
* checking R code for possible problems ... OK
* checking Rd files ... OK
* checking Rd metadata ... OK
* checking Rd cross-references ... OK
* checking for missing documentation entries ... OK
* checking for code/documentation mismatches ... OK
* checking Rd \usage sections ... OK
* checking Rd contents ... OK
* checking for unstated dependencies in examples ... OK
* checking contents of ‘data’ directory ... OK
* checking data for non-ASCII characters ... OK
* checking data for ASCII and uncompressed saves ... OK
* checking files in ‘vignettes’ ... OK
* checking examples ... OK
Examples with CPU (user + system) or elapsed time > 5s
user system elapsed
calc_PFP_score 9.893 0.22 10.114
* checking for unstated dependencies in ‘tests’ ... OK
* checking tests ...
Running ‘testthat.R’
OK
* checking for unstated dependencies in vignettes ... OK
* checking package vignettes in ‘inst/doc’ ... OK
* checking running R code from vignettes ... SKIPPED
* checking re-building of vignette outputs ... SKIPPED
* checking PDF version of manual ... OK
* DONE
Status: OK
PFP.Rcheck/00install.out
############################################################################## ############################################################################## ### ### Running command: ### ### /home/biocbuild/bbs-3.15-bioc/R/bin/R CMD INSTALL PFP ### ############################################################################## ############################################################################## * installing to library ‘/home/biocbuild/bbs-3.15-bioc/R/library’ * installing *source* package ‘PFP’ ... ** using staged installation ** R ** data ** byte-compile and prepare package for lazy loading ** help *** installing help indices ** building package indices ** installing vignettes ** testing if installed package can be loaded from temporary location ** testing if installed package can be loaded from final location ** testing if installed package keeps a record of temporary installation path * DONE (PFP)
PFP.Rcheck/tests/testthat.Rout
R version 4.2.1 (2022-06-23) -- "Funny-Looking Kid"
Copyright (C) 2022 The R Foundation for Statistical Computing
Platform: x86_64-pc-linux-gnu (64-bit)
R is free software and comes with ABSOLUTELY NO WARRANTY.
You are welcome to redistribute it under certain conditions.
Type 'license()' or 'licence()' for distribution details.
R is a collaborative project with many contributors.
Type 'contributors()' for more information and
'citation()' on how to cite R or R packages in publications.
Type 'demo()' for some demos, 'help()' for on-line help, or
'help.start()' for an HTML browser interface to help.
Type 'q()' to quit R.
> library(testthat)
> library(PFP)
> test_check('PFP')
[ FAIL 0 | WARN 6 | SKIP 0 | PASS 31 ]
[ FAIL 0 | WARN 6 | SKIP 0 | PASS 31 ]
>
> proc.time()
user system elapsed
8.790 0.548 9.326
PFP.Rcheck/PFP-Ex.timings
| name | user | system | elapsed | |
| PFP-class | 0.112 | 0.072 | 0.184 | |
| PFPRefnet-class | 0.489 | 0.104 | 0.593 | |
| PFPRefnet_hsa | 0.281 | 0.000 | 0.281 | |
| PFPRefnet_mmu | 0.471 | 0.020 | 0.490 | |
| PFP_score-methods | 0.005 | 0.000 | 0.005 | |
| PFP_test1 | 0.004 | 0.000 | 0.004 | |
| PFP_test2 | 0.000 | 0.004 | 0.004 | |
| calc_PFP_score | 9.893 | 0.220 | 10.114 | |
| data_std | 0.010 | 0.000 | 0.009 | |
| gene_list_hsa | 0.001 | 0.000 | 0.001 | |
| genes_score-methods | 0.004 | 0.000 | 0.004 | |
| get_PFPRefnet | 0 | 0 | 0 | |
| get_asso_net | 2.487 | 0.056 | 2.542 | |
| get_bg_related_kegg | 1.407 | 0.008 | 1.415 | |
| get_exp_cor_edges | 0.125 | 0.012 | 0.137 | |
| get_pathway_info | 0.087 | 0.024 | 2.284 | |
| group-methods | 0.275 | 0.036 | 0.311 | |
| kegg_download | 0.001 | 0.000 | 0.001 | |
| net_info-methods | 0.295 | 0.012 | 0.308 | |
| net_names-methods | 0.295 | 0.012 | 0.307 | |
| network-methods | 0.295 | 0.008 | 0.304 | |
| pathway_info | 0.003 | 0.000 | 0.002 | |
| pathway_info_hsa | 0.002 | 0.000 | 0.002 | |
| pathways_score-methods | 0.004 | 0.000 | 0.004 | |
| plot_PFP-methods | 0.300 | 0.028 | 0.327 | |
| plot_PFPlist | 0.198 | 0.028 | 0.227 | |
| rank_PFP-methods | 0.101 | 0.072 | 0.174 | |
| refnet_info-methods | 0.004 | 0.000 | 0.004 | |
| refnet_names-methods | 0.004 | 0.000 | 0.004 | |
| result_PFP-methods | 0.005 | 0.000 | 0.005 | |
| show_PFP-methods | 0.007 | 0.004 | 0.011 | |
| show_net-methods | 0.285 | 0.016 | 0.301 | |
| stats_test-methods | 0.001 | 0.004 | 0.004 | |
| sub_PFP-methods | 0.106 | 0.064 | 0.169 | |
| subnet-methods | 0.301 | 0.012 | 0.313 | |
| trans_edges_id | 1.461 | 0.072 | 1.533 | |
| trans_graph2PFPRefnet | 0.483 | 0.096 | 0.578 | |
| trans_xml2graph | 0.001 | 0.000 | 0.000 | |