| Back to Multiple platform build/check report for BioC 3.15 | 
  | 
This page was generated on 2022-03-18 11:08:06 -0400 (Fri, 18 Mar 2022).
| Hostname | OS | Arch (*) | R version | Installed pkgs | 
|---|---|---|---|---|
| nebbiolo1 | Linux (Ubuntu 20.04.4 LTS) | x86_64 | R Under development (unstable) (2022-02-17 r81757) -- "Unsuffered Consequences" | 4334 | 
| riesling1 | Windows Server 2019 Standard | x64 | R Under development (unstable) (2021-11-21 r81221) -- "Unsuffered Consequences" | 4097 | 
| palomino3 | Windows Server 2022 Datacenter | x64 | R Under development (unstable) (2022-02-17 r81757 ucrt) -- "Unsuffered Consequences" | 4083 | 
| merida1 | macOS 10.14.6 Mojave | x86_64 | R Under development (unstable) (2022-03-02 r81842) -- "Unsuffered Consequences" | 4134 | 
| Click on any hostname to see more info about the system (e.g. compilers) (*) as reported by 'uname -p', except on Windows and Mac OS X | ||||
| 
To the developers/maintainers of the MsCoreUtils package: - Please allow up to 24 hours (and sometimes 48 hours) for your latest push to git@git.bioconductor.org:packages/MsCoreUtils.git to reflect on this report. See How and When does the builder pull? When will my changes propagate? here for more information. - Make sure to use the following settings in order to reproduce any error or warning you see on this page.  | 
| Package 1222/2090 | Hostname | OS / Arch | INSTALL | BUILD | CHECK | BUILD BIN | ||||||||
| MsCoreUtils 1.7.4  (landing page) RforMassSpectrometry Package Maintainer 
  | nebbiolo1 | Linux (Ubuntu 20.04.4 LTS) / x86_64 | OK | OK | OK | |||||||||
| riesling1 | Windows Server 2019 Standard / x64 | OK | OK | OK | OK | |||||||||
| palomino3 | Windows Server 2022 Datacenter / x64 | OK | OK | OK | OK | |||||||||
| merida1 | macOS 10.14.6 Mojave / x86_64 | OK | OK | OK | OK | |||||||||
| Package: MsCoreUtils | 
| Version: 1.7.4 | 
| Command: rm -rf MsCoreUtils.buildbin-libdir && mkdir MsCoreUtils.buildbin-libdir && D:\biocbuild\bbs-3.15-bioc\R\bin\R.exe CMD INSTALL --build --library=MsCoreUtils.buildbin-libdir MsCoreUtils_1.7.4.tar.gz | 
| StartedAt: 2022-03-17 21:23:05 -0400 (Thu, 17 Mar 2022) | 
| EndedAt: 2022-03-17 21:24:25 -0400 (Thu, 17 Mar 2022) | 
| EllapsedTime: 79.8 seconds | 
| RetCode: 0 | 
| Status: OK | 
| PackageFile: MsCoreUtils_1.7.4.zip | 
| PackageFileSize: 529.8 KiB | 
##############################################################################
##############################################################################
###
### Running command:
###
###   rm -rf MsCoreUtils.buildbin-libdir && mkdir MsCoreUtils.buildbin-libdir && D:\biocbuild\bbs-3.15-bioc\R\bin\R.exe CMD INSTALL --build --library=MsCoreUtils.buildbin-libdir MsCoreUtils_1.7.4.tar.gz
###
##############################################################################
##############################################################################
* installing *source* package 'MsCoreUtils' ...
** using staged installation
** libs
"C:/rtools40/mingw64/bin/"gcc  -I"D:/biocbuild/bbs-3.15-bioc/R/include" -DNDEBUG  -I'D:/biocbuild/bbs-3.15-bioc/R/library/Rcpp/include'   -I"C:/extsoft/include"     -O2 -Wall  -std=gnu99 -mfpmath=sse -msse2 -mstackrealign -fno-reorder-blocks-and-partition  -c closest.c -o closest.o
"C:/rtools40/mingw64/bin/"gcc  -I"D:/biocbuild/bbs-3.15-bioc/R/include" -DNDEBUG  -I'D:/biocbuild/bbs-3.15-bioc/R/library/Rcpp/include'   -I"C:/extsoft/include"     -O2 -Wall  -std=gnu99 -mfpmath=sse -msse2 -mstackrealign -fno-reorder-blocks-and-partition  -c impNeighbourAvg.c -o impNeighbourAvg.o
"C:/rtools40/mingw64/bin/"gcc  -I"D:/biocbuild/bbs-3.15-bioc/R/include" -DNDEBUG  -I'D:/biocbuild/bbs-3.15-bioc/R/library/Rcpp/include'   -I"C:/extsoft/include"     -O2 -Wall  -std=gnu99 -mfpmath=sse -msse2 -mstackrealign -fno-reorder-blocks-and-partition  -c init.c -o init.o
"C:/rtools40/mingw64/bin/"gcc  -I"D:/biocbuild/bbs-3.15-bioc/R/include" -DNDEBUG  -I'D:/biocbuild/bbs-3.15-bioc/R/library/Rcpp/include'   -I"C:/extsoft/include"     -O2 -Wall  -std=gnu99 -mfpmath=sse -msse2 -mstackrealign -fno-reorder-blocks-and-partition  -c join.c -o join.o
"C:/rtools40/mingw64/bin/"gcc  -I"D:/biocbuild/bbs-3.15-bioc/R/include" -DNDEBUG  -I'D:/biocbuild/bbs-3.15-bioc/R/library/Rcpp/include'   -I"C:/extsoft/include"     -O2 -Wall  -std=gnu99 -mfpmath=sse -msse2 -mstackrealign -fno-reorder-blocks-and-partition  -c localMaxima.c -o localMaxima.o
"C:/rtools40/mingw64/bin/"gcc  -I"D:/biocbuild/bbs-3.15-bioc/R/include" -DNDEBUG  -I'D:/biocbuild/bbs-3.15-bioc/R/library/Rcpp/include'   -I"C:/extsoft/include"     -O2 -Wall  -std=gnu99 -mfpmath=sse -msse2 -mstackrealign -fno-reorder-blocks-and-partition  -c which.c -o which.o
C:/rtools40/mingw64/bin/gcc -shared -s -static-libgcc -o MsCoreUtils.dll tmp.def closest.o impNeighbourAvg.o init.o join.o localMaxima.o which.o -LC:/extsoft/lib/x64 -LC:/extsoft/lib -LD:/biocbuild/bbs-3.15-bioc/R/bin/x64 -lR
installing to D:/biocbuild/bbs-3.15-bioc/meat/MsCoreUtils.buildbin-libdir/00LOCK-MsCoreUtils/00new/MsCoreUtils/libs/x64
** R
** inst
** byte-compile and prepare package for lazy loading
** help
*** installing help indices
  converting help for package 'MsCoreUtils'
    finding HTML links ... done
    aggregate                               html  
    binning                                 html  
    check                                   html  
    coerce                                  html  
    colCounts                               html  
    distance                                html  
    formatRt                                html  
    gnps                                    html  
    group                                   html  
    i2index                                 html  
    imputation                              html  
    localMaxima                             html  
    matching                                html  
    medianPolish                            html  
    noise                                   html  
    normalize                               html  
    peakRegionMask                          html  
    ppm                                     html  
    range                                   html  
    rbindFill                               html  
    refineCentroids                         html  
    rla                                     html  
    robustSummary                           html  
    smooth                                  html  
    validation                              html  
    valleys                                 html  
    vapply                                  html  
    which                                   html  
*** copying figures
** building package indices
** installing vignettes
** testing if installed package can be loaded from temporary location
** testing if installed package can be loaded from final location
** testing if installed package keeps a record of temporary installation path
* MD5 sums
packaged installation of 'MsCoreUtils' as MsCoreUtils_1.7.4.zip
* DONE (MsCoreUtils)