Back to Multiple platform build/check report for BioC 3.15 |
|
This page was generated on 2022-03-18 11:07:56 -0400 (Fri, 18 Mar 2022).
Hostname | OS | Arch (*) | R version | Installed pkgs |
---|---|---|---|---|
nebbiolo1 | Linux (Ubuntu 20.04.4 LTS) | x86_64 | R Under development (unstable) (2022-02-17 r81757) -- "Unsuffered Consequences" | 4334 |
riesling1 | Windows Server 2019 Standard | x64 | R Under development (unstable) (2021-11-21 r81221) -- "Unsuffered Consequences" | 4097 |
palomino3 | Windows Server 2022 Datacenter | x64 | R Under development (unstable) (2022-02-17 r81757 ucrt) -- "Unsuffered Consequences" | 4083 |
merida1 | macOS 10.14.6 Mojave | x86_64 | R Under development (unstable) (2022-03-02 r81842) -- "Unsuffered Consequences" | 4134 |
Click on any hostname to see more info about the system (e.g. compilers) (*) as reported by 'uname -p', except on Windows and Mac OS X |
To the developers/maintainers of the MassSpecWavelet package: - Please allow up to 24 hours (and sometimes 48 hours) for your latest push to git@git.bioconductor.org:packages/MassSpecWavelet.git to reflect on this report. See How and When does the builder pull? When will my changes propagate? here for more information. - Make sure to use the following settings in order to reproduce any error or warning you see on this page. |
Package 1058/2090 | Hostname | OS / Arch | INSTALL | BUILD | CHECK | BUILD BIN | ||||||||
MassSpecWavelet 1.61.0 (landing page) Pan Du
| nebbiolo1 | Linux (Ubuntu 20.04.4 LTS) / x86_64 | OK | OK | OK | |||||||||
riesling1 | Windows Server 2019 Standard / x64 | OK | OK | OK | OK | |||||||||
palomino3 | Windows Server 2022 Datacenter / x64 | OK | OK | OK | OK | |||||||||
merida1 | macOS 10.14.6 Mojave / x86_64 | OK | OK | OK | OK | |||||||||
Package: MassSpecWavelet |
Version: 1.61.0 |
Command: rm -rf MassSpecWavelet.buildbin-libdir && mkdir MassSpecWavelet.buildbin-libdir && D:\biocbuild\bbs-3.15-bioc\R\bin\R.exe CMD INSTALL --build --library=MassSpecWavelet.buildbin-libdir MassSpecWavelet_1.61.0.tar.gz |
StartedAt: 2022-03-17 21:18:58 -0400 (Thu, 17 Mar 2022) |
EndedAt: 2022-03-17 21:20:07 -0400 (Thu, 17 Mar 2022) |
EllapsedTime: 69.2 seconds |
RetCode: 0 |
Status: OK |
PackageFile: MassSpecWavelet_1.61.0.zip |
PackageFileSize: 1.171 MiB |
############################################################################## ############################################################################## ### ### Running command: ### ### rm -rf MassSpecWavelet.buildbin-libdir && mkdir MassSpecWavelet.buildbin-libdir && D:\biocbuild\bbs-3.15-bioc\R\bin\R.exe CMD INSTALL --build --library=MassSpecWavelet.buildbin-libdir MassSpecWavelet_1.61.0.tar.gz ### ############################################################################## ############################################################################## * installing *source* package 'MassSpecWavelet' ... ** using staged installation ** libs "C:/rtools40/mingw64/bin/"gcc -I"D:/biocbuild/bbs-3.15-bioc/R/include" -DNDEBUG -I"C:/extsoft/include" -O2 -Wall -std=gnu99 -mfpmath=sse -msse2 -mstackrealign -fno-reorder-blocks-and-partition -c convolve2.c -o convolve2.o C:/rtools40/mingw64/bin/gcc -shared -s -static-libgcc -o MassSpecWavelet.dll tmp.def convolve2.o -LC:/extsoft/lib/x64 -LC:/extsoft/lib -LD:/biocbuild/bbs-3.15-bioc/R/bin/x64 -lR installing to D:/biocbuild/bbs-3.15-bioc/meat/MassSpecWavelet.buildbin-libdir/00LOCK-MassSpecWavelet/00new/MassSpecWavelet/libs/x64 ** R ** data ** inst ** byte-compile and prepare package for lazy loading ** help *** installing help indices converting help for package 'MassSpecWavelet' finding HTML links ... done MassSpecWavelet.package html cwt html exampleMS html extendLength html extendNBase html getLocalMaximumCWT html getRidge html getRidgeLength html getRidgeValue html identifyMajorPeaks html localMaximum html mzInd2vRange html mzV2indRange html peakDetectionCWT html plotLocalMax html plotPeak html plotRidgeList html sav.gol html smoothDWT html tuneInPeakInfo html ** building package indices ** installing vignettes ** testing if installed package can be loaded from temporary location ** testing if installed package can be loaded from final location ** testing if installed package keeps a record of temporary installation path * MD5 sums packaged installation of 'MassSpecWavelet' as MassSpecWavelet_1.61.0.zip * DONE (MassSpecWavelet)