Back to Multiple platform build/check report for BioC 3.15
ABCDEFGHIJK[L]MNOPQRSTUVWXYZ

This page was generated on 2022-03-17 11:08:06 -0400 (Thu, 17 Mar 2022).

HostnameOSArch (*)R versionInstalled pkgs
nebbiolo1Linux (Ubuntu 20.04.4 LTS)x86_64R Under development (unstable) (2022-02-17 r81757) -- "Unsuffered Consequences" 4334
riesling1Windows Server 2019 Standardx64R Under development (unstable) (2021-11-21 r81221) -- "Unsuffered Consequences" 4060
palomino3Windows Server 2022 Datacenterx64R Under development (unstable) (2022-02-17 r81757 ucrt) -- "Unsuffered Consequences" 4083
merida1macOS 10.14.6 Mojavex86_64R Under development (unstable) (2022-03-02 r81842) -- "Unsuffered Consequences" 4134
Click on any hostname to see more info about the system (e.g. compilers)      (*) as reported by 'uname -p', except on Windows and Mac OS X

BUILD BIN results for LymphoSeq on riesling1


To the developers/maintainers of the LymphoSeq package:
- Please allow up to 24 hours (and sometimes 48 hours) for your latest push to git@git.bioconductor.org:packages/LymphoSeq.git to
reflect on this report. See How and When does the builder pull? When will my changes propagate? here for more information.
- Make sure to use the following settings in order to reproduce any error or warning you see on this page.

raw results

Package 1025/2090HostnameOS / ArchINSTALLBUILDCHECKBUILD BIN
LymphoSeq 1.23.0  (landing page)
David Coffey
Snapshot Date: 2022-03-16 13:55:23 -0400 (Wed, 16 Mar 2022)
git_url: https://git.bioconductor.org/packages/LymphoSeq
git_branch: master
git_last_commit: 5913728
git_last_commit_date: 2021-10-26 12:27:20 -0400 (Tue, 26 Oct 2021)
nebbiolo1Linux (Ubuntu 20.04.4 LTS) / x86_64  OK    OK    OK  UNNEEDED, same version is already published
riesling1Windows Server 2019 Standard / x64  OK    OK    OK    OK  
palomino3Windows Server 2022 Datacenter / x64  OK    OK    OK    OK  UNNEEDED, same version is already published
merida1macOS 10.14.6 Mojave / x86_64  OK    OK    OK    OK  UNNEEDED, same version is already published

Summary

Package: LymphoSeq
Version: 1.23.0
Command: rm -rf LymphoSeq.buildbin-libdir && mkdir LymphoSeq.buildbin-libdir && D:\biocbuild\bbs-3.15-bioc\R\bin\R.exe CMD INSTALL --build --library=LymphoSeq.buildbin-libdir LymphoSeq_1.23.0.tar.gz
StartedAt: 2022-03-16 21:09:49 -0400 (Wed, 16 Mar 2022)
EndedAt: 2022-03-16 21:11:00 -0400 (Wed, 16 Mar 2022)
EllapsedTime: 71.0 seconds
RetCode: 0
Status:   OK  
PackageFile: LymphoSeq_1.23.0.zip
PackageFileSize: 1.52 MiB

Command output

##############################################################################
##############################################################################
###
### Running command:
###
###   rm -rf LymphoSeq.buildbin-libdir && mkdir LymphoSeq.buildbin-libdir && D:\biocbuild\bbs-3.15-bioc\R\bin\R.exe CMD INSTALL --build --library=LymphoSeq.buildbin-libdir LymphoSeq_1.23.0.tar.gz
###
##############################################################################
##############################################################################


* installing *source* package 'LymphoSeq' ...
** using staged installation
** R
** inst
** byte-compile and prepare package for lazy loading
** help
*** installing help indices
  converting help for package 'LymphoSeq'
    finding HTML links ... done
    alignSeq                                html  
    bhattacharyyaCoefficient                html  
    bhattacharyyaMatrix                     html  
    chordDiagramVDJ                         html  
    clonalRelatedness                       html  
    clonality                               html  
    cloneTrack                              html  
    commonSeqs                              html  
    commonSeqsBar                           html  
    commonSeqsPlot                          html  
    commonSeqsVenn                          html  
    differentialAbundance                   html  
    exportFasta                             html  
    geneFreq                                html  
    lorenzCurve                             html  
    mergeFiles                              html  
    pairwisePlot                            html  
    phyloTree                               html  
    productive                              html  
    productiveSeq                           html  
    readImmunoSeq                           html  
    removeSeq                               html  
    searchPublished                         html  
    searchSeq                               html  
    seqMatrix                               html  
    similarityMatrix                        html  
    similarityScore                         html  
    topFreq                                 html  
    topSeqs                                 html  
    topSeqsPlot                             html  
    uniqueSeqs                              html  
** building package indices
** installing vignettes
** testing if installed package can be loaded from temporary location
** testing if installed package can be loaded from final location
** testing if installed package keeps a record of temporary installation path
* MD5 sums
packaged installation of 'LymphoSeq' as LymphoSeq_1.23.0.zip
* DONE (LymphoSeq)