| Back to Multiple platform build/check report for BioC 3.15 |
|
This page was generated on 2022-10-19 13:20:27 -0400 (Wed, 19 Oct 2022).
| Hostname | OS | Arch (*) | R version | Installed pkgs |
|---|---|---|---|---|
| nebbiolo1 | Linux (Ubuntu 20.04.5 LTS) | x86_64 | 4.2.1 (2022-06-23) -- "Funny-Looking Kid" | 4386 |
| palomino3 | Windows Server 2022 Datacenter | x64 | 4.2.1 (2022-06-23 ucrt) -- "Funny-Looking Kid" | 4138 |
| merida1 | macOS 10.14.6 Mojave | x86_64 | 4.2.1 (2022-06-23) -- "Funny-Looking Kid" | 4205 |
| Click on any hostname to see more info about the system (e.g. compilers) (*) as reported by 'uname -p', except on Windows and Mac OS X | ||||
|
To the developers/maintainers of the LymphoSeq package: - Please allow up to 24 hours (and sometimes 48 hours) for your latest push to git@git.bioconductor.org:packages/LymphoSeq.git to reflect on this report. See How and When does the builder pull? When will my changes propagate? for more information. - Make sure to use the following settings in order to reproduce any error or warning you see on this page. |
| Package 1047/2140 | Hostname | OS / Arch | INSTALL | BUILD | CHECK | BUILD BIN | ||||||||
| LymphoSeq 1.24.0 (landing page) David Coffey
| nebbiolo1 | Linux (Ubuntu 20.04.5 LTS) / x86_64 | OK | OK | OK | |||||||||
| palomino3 | Windows Server 2022 Datacenter / x64 | OK | OK | OK | OK | |||||||||
| merida1 | macOS 10.14.6 Mojave / x86_64 | OK | OK | OK | OK | |||||||||
| Package: LymphoSeq |
| Version: 1.24.0 |
| Command: /home/biocbuild/bbs-3.15-bioc/R/bin/R CMD check --install=check:LymphoSeq.install-out.txt --library=/home/biocbuild/bbs-3.15-bioc/R/library --no-vignettes --timings LymphoSeq_1.24.0.tar.gz |
| StartedAt: 2022-10-18 20:21:38 -0400 (Tue, 18 Oct 2022) |
| EndedAt: 2022-10-18 20:24:44 -0400 (Tue, 18 Oct 2022) |
| EllapsedTime: 186.1 seconds |
| RetCode: 0 |
| Status: OK |
| CheckDir: LymphoSeq.Rcheck |
| Warnings: 0 |
##############################################################################
##############################################################################
###
### Running command:
###
### /home/biocbuild/bbs-3.15-bioc/R/bin/R CMD check --install=check:LymphoSeq.install-out.txt --library=/home/biocbuild/bbs-3.15-bioc/R/library --no-vignettes --timings LymphoSeq_1.24.0.tar.gz
###
##############################################################################
##############################################################################
* using log directory ‘/home/biocbuild/bbs-3.15-bioc/meat/LymphoSeq.Rcheck’
* using R version 4.2.1 (2022-06-23)
* using platform: x86_64-pc-linux-gnu (64-bit)
* using session charset: UTF-8
* using option ‘--no-vignettes’
* checking for file ‘LymphoSeq/DESCRIPTION’ ... OK
* this is package ‘LymphoSeq’ version ‘1.24.0’
* checking package namespace information ... OK
* checking package dependencies ... OK
* checking if this is a source package ... OK
* checking if there is a namespace ... OK
* checking for hidden files and directories ... OK
* checking for portable file names ... OK
* checking for sufficient/correct file permissions ... OK
* checking whether package ‘LymphoSeq’ can be installed ... OK
* checking installed package size ... OK
* checking package directory ... OK
* checking ‘build’ directory ... OK
* checking DESCRIPTION meta-information ... OK
* checking top-level files ... OK
* checking for left-over files ... OK
* checking index information ... OK
* checking package subdirectories ... OK
* checking R files for non-ASCII characters ... OK
* checking R files for syntax errors ... OK
* checking whether the package can be loaded ... OK
* checking whether the package can be loaded with stated dependencies ... OK
* checking whether the package can be unloaded cleanly ... OK
* checking whether the namespace can be loaded with stated dependencies ... OK
* checking whether the namespace can be unloaded cleanly ... OK
* checking dependencies in R code ... OK
* checking S3 generic/method consistency ... OK
* checking replacement functions ... OK
* checking foreign function calls ... OK
* checking R code for possible problems ... OK
* checking Rd files ... OK
* checking Rd metadata ... OK
* checking Rd cross-references ... OK
* checking for missing documentation entries ... OK
* checking for code/documentation mismatches ... OK
* checking Rd \usage sections ... OK
* checking Rd contents ... OK
* checking for unstated dependencies in examples ... OK
* checking files in ‘vignettes’ ... OK
* checking examples ... OK
Examples with CPU (user + system) or elapsed time > 5s
user system elapsed
cloneTrack 27.495 1.492 28.991
productiveSeq 17.871 1.176 19.048
* checking for unstated dependencies in vignettes ... OK
* checking package vignettes in ‘inst/doc’ ... OK
* checking running R code from vignettes ... SKIPPED
* checking re-building of vignette outputs ... SKIPPED
* checking PDF version of manual ... OK
* DONE
Status: OK
LymphoSeq.Rcheck/00install.out
############################################################################## ############################################################################## ### ### Running command: ### ### /home/biocbuild/bbs-3.15-bioc/R/bin/R CMD INSTALL LymphoSeq ### ############################################################################## ############################################################################## * installing to library ‘/home/biocbuild/bbs-3.15-bioc/R/library’ * installing *source* package ‘LymphoSeq’ ... ** using staged installation ** R ** inst ** byte-compile and prepare package for lazy loading ** help *** installing help indices ** building package indices ** installing vignettes ** testing if installed package can be loaded from temporary location ** testing if installed package can be loaded from final location ** testing if installed package keeps a record of temporary installation path * DONE (LymphoSeq)
LymphoSeq.Rcheck/LymphoSeq-Ex.timings
| name | user | system | elapsed | |
| alignSeq | 0.740 | 0.031 | 0.783 | |
| bhattacharyyaCoefficient | 0.161 | 0.012 | 0.188 | |
| bhattacharyyaMatrix | 0.183 | 0.000 | 0.183 | |
| chordDiagramVDJ | 0.794 | 0.036 | 0.830 | |
| clonalRelatedness | 0.740 | 0.004 | 0.399 | |
| clonality | 0.542 | 0.068 | 0.610 | |
| cloneTrack | 27.495 | 1.492 | 28.991 | |
| commonSeqs | 0.15 | 0.02 | 0.17 | |
| commonSeqsBar | 0.718 | 0.140 | 0.858 | |
| commonSeqsPlot | 0.326 | 0.064 | 0.390 | |
| commonSeqsVenn | 0.674 | 0.116 | 0.791 | |
| differentialAbundance | 2.638 | 0.200 | 2.839 | |
| exportFasta | 0.200 | 0.024 | 0.225 | |
| geneFreq | 1.485 | 0.024 | 1.509 | |
| lorenzCurve | 1.955 | 0.048 | 2.002 | |
| mergeFiles | 0.081 | 0.000 | 0.081 | |
| pairwisePlot | 0.591 | 0.008 | 0.599 | |
| phyloTree | 4.806 | 0.052 | 4.859 | |
| productive | 0.059 | 0.000 | 0.059 | |
| productiveSeq | 17.871 | 1.176 | 19.048 | |
| readImmunoSeq | 0.047 | 0.004 | 0.051 | |
| removeSeq | 0.059 | 0.000 | 0.059 | |
| searchPublished | 0.169 | 0.004 | 0.173 | |
| searchSeq | 0.681 | 0.012 | 0.693 | |
| seqMatrix | 2.532 | 0.140 | 2.673 | |
| similarityMatrix | 0.145 | 0.000 | 0.145 | |
| similarityScore | 0.128 | 0.004 | 0.132 | |
| topFreq | 1.375 | 0.092 | 1.468 | |
| topSeqs | 0.964 | 0.032 | 0.995 | |
| topSeqsPlot | 0.332 | 0.008 | 0.340 | |
| uniqueSeqs | 0.183 | 0.008 | 0.191 | |