| Back to Multiple platform build/check report for BioC 3.15 | 
  | 
This page was generated on 2022-03-18 11:07:50 -0400 (Fri, 18 Mar 2022).
| Hostname | OS | Arch (*) | R version | Installed pkgs | 
|---|---|---|---|---|
| nebbiolo1 | Linux (Ubuntu 20.04.4 LTS) | x86_64 | R Under development (unstable) (2022-02-17 r81757) -- "Unsuffered Consequences" | 4334 | 
| riesling1 | Windows Server 2019 Standard | x64 | R Under development (unstable) (2021-11-21 r81221) -- "Unsuffered Consequences" | 4097 | 
| palomino3 | Windows Server 2022 Datacenter | x64 | R Under development (unstable) (2022-02-17 r81757 ucrt) -- "Unsuffered Consequences" | 4083 | 
| merida1 | macOS 10.14.6 Mojave | x86_64 | R Under development (unstable) (2022-03-02 r81842) -- "Unsuffered Consequences" | 4134 | 
| Click on any hostname to see more info about the system (e.g. compilers) (*) as reported by 'uname -p', except on Windows and Mac OS X | ||||
| 
To the developers/maintainers of the ISAnalytics package: - Please allow up to 24 hours (and sometimes 48 hours) for your latest push to git@git.bioconductor.org:packages/ISAnalytics.git to reflect on this report. See How and When does the builder pull? When will my changes propagate? here for more information. - Make sure to use the following settings in order to reproduce any error or warning you see on this page.  | 
| Package 959/2090 | Hostname | OS / Arch | INSTALL | BUILD | CHECK | BUILD BIN | ||||||||
| ISAnalytics 1.5.3  (landing page) Andrea Calabria 
  | nebbiolo1 | Linux (Ubuntu 20.04.4 LTS) / x86_64 | OK | OK | OK | |||||||||
| riesling1 | Windows Server 2019 Standard / x64 | OK | OK | OK | OK | |||||||||
| palomino3 | Windows Server 2022 Datacenter / x64 | OK | OK | OK | OK | |||||||||
| merida1 | macOS 10.14.6 Mojave / x86_64 | OK | OK | OK | OK | |||||||||
| Package: ISAnalytics | 
| Version: 1.5.3 | 
| Command: rm -rf ISAnalytics.buildbin-libdir && mkdir ISAnalytics.buildbin-libdir && D:\biocbuild\bbs-3.15-bioc\R\bin\R.exe CMD INSTALL --build --library=ISAnalytics.buildbin-libdir ISAnalytics_1.5.3.tar.gz | 
| StartedAt: 2022-03-17 21:16:12 -0400 (Thu, 17 Mar 2022) | 
| EndedAt: 2022-03-17 21:17:31 -0400 (Thu, 17 Mar 2022) | 
| EllapsedTime: 78.7 seconds | 
| RetCode: 0 | 
| Status: OK | 
| PackageFile: ISAnalytics_1.5.3.zip | 
| PackageFileSize: 4.244 MiB | 
##############################################################################
##############################################################################
###
### Running command:
###
###   rm -rf ISAnalytics.buildbin-libdir && mkdir ISAnalytics.buildbin-libdir && D:\biocbuild\bbs-3.15-bioc\R\bin\R.exe CMD INSTALL --build --library=ISAnalytics.buildbin-libdir ISAnalytics_1.5.3.tar.gz
###
##############################################################################
##############################################################################
* installing *source* package 'ISAnalytics' ...
** using staged installation
** R
** data
** inst
** byte-compile and prepare package for lazy loading
** help
*** installing help indices
  converting help for package 'ISAnalytics'
    finding HTML links ... done
    CIS_grubbs                              html  
    CIS_volcano_plot                        html  
    HSC_population_plot                     html  
    HSC_population_size_estimate            html  
    ISAnalytics-deprecated                  html  
    ISAnalytics                             html  
    aggregate_metadata                      html  
    aggregate_values_by_key                 html  
    annotation_IS_vars                      html  
    annotation_issues                       html  
    as_sparse_matrix                        html  
    association_file                        html  
    association_file_columns                html  
    available_outlier_tests                 html  
    blood_lineages_default                  html  
    circos_genomic_density                  html  
    clinical_relevant_suspicious_genes      html  
    comparison_matrix                       html  
    compute_abundance                       html  
    compute_near_integrations               html  
    cumulative_count_union                  html  
    cumulative_is                           html  
    date_columns_coll                       html  
    date_formats                            html  
    default_iss_file_prefixes               html  
    default_meta_agg                        html  
    default_report_path                     html  
    default_stats                           html  
    generate_Vispa2_launch_AF               html  
    generate_blank_association_file         html  
    import_Vispa2_stats                     html  
    import_association_file                 html  
    import_parallel_Vispa2Matrices          html  
    import_parallel_Vispa2Matrices_auto     html  
    import_parallel_Vispa2Matrices_interactive
                                            html  
    import_single_Vispa2Matrix              html  
    integration_alluvial_plot               html  
    integration_matrices                    html  
    is_sharing                              html  
    iss_source                              html  
    known_clinical_oncogenes                html  
    mandatory_IS_vars                       html  
    matching_options                        html  
    outlier_filter                          html  
    outliers_by_pool_fragments              html  
    proto_oncogenes                         html  
    purity_filter                           html  
    quantification_types                    html  
    realign_after_collisions                html  
    reduced_AF_columns                      html  
    refGene_table_cols                      html  
    refGenes_hg19                           html  
    remove_collisions                       html  
    sample_statistics                       html  
    separate_quant_matrices                 html  
    sharing_heatmap                         html  
    sharing_venn                            html  
    threshold_filter                        html  
    top_abund_tableGrob                     html  
    top_integrations                        html  
    unzip_file_system                       html  
*** copying figures
** building package indices
** installing vignettes
** testing if installed package can be loaded from temporary location
** testing if installed package can be loaded from final location
** testing if installed package keeps a record of temporary installation path
* MD5 sums
packaged installation of 'ISAnalytics' as ISAnalytics_1.5.3.zip
* DONE (ISAnalytics)