| Back to Multiple platform build/check report for BioC 3.15 |
|
This page was generated on 2022-10-19 13:20:25 -0400 (Wed, 19 Oct 2022).
| Hostname | OS | Arch (*) | R version | Installed pkgs |
|---|---|---|---|---|
| nebbiolo1 | Linux (Ubuntu 20.04.5 LTS) | x86_64 | 4.2.1 (2022-06-23) -- "Funny-Looking Kid" | 4386 |
| palomino3 | Windows Server 2022 Datacenter | x64 | 4.2.1 (2022-06-23 ucrt) -- "Funny-Looking Kid" | 4138 |
| merida1 | macOS 10.14.6 Mojave | x86_64 | 4.2.1 (2022-06-23) -- "Funny-Looking Kid" | 4205 |
| Click on any hostname to see more info about the system (e.g. compilers) (*) as reported by 'uname -p', except on Windows and Mac OS X | ||||
|
To the developers/maintainers of the ISAnalytics package: - Please allow up to 24 hours (and sometimes 48 hours) for your latest push to git@git.bioconductor.org:packages/ISAnalytics.git to reflect on this report. See How and When does the builder pull? When will my changes propagate? for more information. - Make sure to use the following settings in order to reproduce any error or warning you see on this page. |
| Package 981/2140 | Hostname | OS / Arch | INSTALL | BUILD | CHECK | BUILD BIN | ||||||||
| ISAnalytics 1.6.2 (landing page) Andrea Calabria
| nebbiolo1 | Linux (Ubuntu 20.04.5 LTS) / x86_64 | OK | OK | OK | |||||||||
| palomino3 | Windows Server 2022 Datacenter / x64 | OK | OK | OK | OK | |||||||||
| merida1 | macOS 10.14.6 Mojave / x86_64 | OK | OK | OK | OK | |||||||||
| Package: ISAnalytics |
| Version: 1.6.2 |
| Command: /home/biocbuild/bbs-3.15-bioc/R/bin/R CMD check --install=check:ISAnalytics.install-out.txt --library=/home/biocbuild/bbs-3.15-bioc/R/library --no-vignettes --timings ISAnalytics_1.6.2.tar.gz |
| StartedAt: 2022-10-18 20:15:00 -0400 (Tue, 18 Oct 2022) |
| EndedAt: 2022-10-18 20:19:51 -0400 (Tue, 18 Oct 2022) |
| EllapsedTime: 291.5 seconds |
| RetCode: 0 |
| Status: OK |
| CheckDir: ISAnalytics.Rcheck |
| Warnings: 0 |
##############################################################################
##############################################################################
###
### Running command:
###
### /home/biocbuild/bbs-3.15-bioc/R/bin/R CMD check --install=check:ISAnalytics.install-out.txt --library=/home/biocbuild/bbs-3.15-bioc/R/library --no-vignettes --timings ISAnalytics_1.6.2.tar.gz
###
##############################################################################
##############################################################################
* using log directory ‘/home/biocbuild/bbs-3.15-bioc/meat/ISAnalytics.Rcheck’
* using R version 4.2.1 (2022-06-23)
* using platform: x86_64-pc-linux-gnu (64-bit)
* using session charset: UTF-8
* using option ‘--no-vignettes’
* checking for file ‘ISAnalytics/DESCRIPTION’ ... OK
* this is package ‘ISAnalytics’ version ‘1.6.2’
* package encoding: UTF-8
* checking package namespace information ... OK
* checking package dependencies ... OK
* checking if this is a source package ... OK
* checking if there is a namespace ... OK
* checking for hidden files and directories ... OK
* checking for portable file names ... OK
* checking for sufficient/correct file permissions ... OK
* checking whether package ‘ISAnalytics’ can be installed ... OK
* checking installed package size ... OK
* checking package directory ... OK
* checking ‘build’ directory ... OK
* checking DESCRIPTION meta-information ... OK
* checking top-level files ... OK
* checking for left-over files ... OK
* checking index information ... OK
* checking package subdirectories ... OK
* checking R files for non-ASCII characters ... OK
* checking R files for syntax errors ... OK
* checking whether the package can be loaded ... OK
* checking whether the package can be loaded with stated dependencies ... OK
* checking whether the package can be unloaded cleanly ... OK
* checking whether the namespace can be loaded with stated dependencies ... OK
* checking whether the namespace can be unloaded cleanly ... OK
* checking dependencies in R code ... OK
* checking S3 generic/method consistency ... OK
* checking replacement functions ... OK
* checking foreign function calls ... OK
* checking R code for possible problems ... NOTE
.sh_row_permut: no visible global function definition for ‘.’
.sharing_multdf_mult_key: no visible binding for global variable ‘.’
.sharing_multdf_single_key: no visible binding for global variable ‘.’
.sharing_singledf_mult_key: no visible binding for global variable ‘.’
.sharing_singledf_single_key: no visible binding for global variable
‘.’
cumulative_is: no visible binding for global variable ‘is’
gene_frequency_fisher: no visible binding for global variable ‘.’
sharing_heatmap : plot_rel_heat: no visible binding for global variable
‘..fill..’
Undefined global functions or variables:
. ..fill.. is
Consider adding
importFrom("methods", "is")
to your NAMESPACE file (and ensure that your DESCRIPTION Imports field
contains 'methods').
* checking Rd files ... OK
* checking Rd metadata ... OK
* checking Rd cross-references ... OK
* checking for missing documentation entries ... OK
* checking for code/documentation mismatches ... OK
* checking Rd \usage sections ... OK
* checking Rd contents ... OK
* checking for unstated dependencies in examples ... OK
* checking contents of ‘data’ directory ... OK
* checking data for non-ASCII characters ... OK
* checking data for ASCII and uncompressed saves ... OK
* checking files in ‘vignettes’ ... OK
* checking examples ... OK
Examples with CPU (user + system) or elapsed time > 5s
user system elapsed
sharing_venn 27.424 0.380 27.782
compute_near_integrations 7.886 4.129 3.015
import_parallel_Vispa2Matrices 5.227 1.571 4.199
* checking for unstated dependencies in ‘tests’ ... OK
* checking tests ...
Running ‘testthat.R’
OK
* checking for unstated dependencies in vignettes ... OK
* checking package vignettes in ‘inst/doc’ ... OK
* checking running R code from vignettes ... SKIPPED
* checking re-building of vignette outputs ... SKIPPED
* checking PDF version of manual ... OK
* DONE
Status: 1 NOTE
See
‘/home/biocbuild/bbs-3.15-bioc/meat/ISAnalytics.Rcheck/00check.log’
for details.
ISAnalytics.Rcheck/00install.out
############################################################################## ############################################################################## ### ### Running command: ### ### /home/biocbuild/bbs-3.15-bioc/R/bin/R CMD INSTALL ISAnalytics ### ############################################################################## ############################################################################## * installing to library ‘/home/biocbuild/bbs-3.15-bioc/R/library’ * installing *source* package ‘ISAnalytics’ ... ** using staged installation ** R ** data ** inst ** byte-compile and prepare package for lazy loading ** help *** installing help indices *** copying figures ** building package indices ** installing vignettes ** testing if installed package can be loaded from temporary location ** testing if installed package can be loaded from final location ** testing if installed package keeps a record of temporary installation path * DONE (ISAnalytics)
ISAnalytics.Rcheck/tests/testthat.Rout
R version 4.2.1 (2022-06-23) -- "Funny-Looking Kid"
Copyright (C) 2022 The R Foundation for Statistical Computing
Platform: x86_64-pc-linux-gnu (64-bit)
R is free software and comes with ABSOLUTELY NO WARRANTY.
You are welcome to redistribute it under certain conditions.
Type 'license()' or 'licence()' for distribution details.
R is a collaborative project with many contributors.
Type 'contributors()' for more information and
'citation()' on how to cite R or R packages in publications.
Type 'demo()' for some demos, 'help()' for on-line help, or
'help.start()' for an HTML browser interface to help.
Type 'q()' to quit R.
> library(testthat)
> library(ISAnalytics)
Loading required package: magrittr
Attaching package: 'magrittr'
The following objects are masked from 'package:testthat':
equals, is_less_than, not
>
> test_check("ISAnalytics")
Loading required namespace: plotly
Loading required namespace: rmarkdown
Report correctly saved
i Report saved to: /tmp/RtmpziF1dc/file3e58426eae34e/2022-10-18_collision_removal_report.html
Report correctly saved
i Report saved to: /tmp/RtmpziF1dc/file3e58424f0a7b8a/2022-10-18_outlier_test_pool_fragments_report.html
[ FAIL 0 | WARN 926 | SKIP 0 | PASS 801 ]
[ FAIL 0 | WARN 926 | SKIP 0 | PASS 801 ]
Warning messages:
1: Using an external vector in selections was deprecated in tidyselect 1.1.0.
ℹ Please use `all_of()` or `any_of()` instead.
# Was:
data %>% select(key)
# Now:
data %>% select(all_of(key))
See <https://tidyselect.r-lib.org/reference/faq-external-vector.html>.
2: Use of .data in tidyselect expressions was deprecated in tidyselect 1.2.0.
ℹ Please use `all_of(var)` (or `any_of(var)`) instead of `.data[[var]]`
3: Use of .data in tidyselect expressions was deprecated in tidyselect 1.2.0.
ℹ Please use `"Found"` instead of `.data$Found`
>
> proc.time()
user system elapsed
164.630 22.639 157.432
ISAnalytics.Rcheck/ISAnalytics-Ex.timings
| name | user | system | elapsed | |
| CIS_grubbs | 1.474 | 0.020 | 1.495 | |
| CIS_volcano_plot | 1.871 | 0.008 | 1.879 | |
| HSC_population_plot | 1.803 | 0.286 | 1.527 | |
| HSC_population_size_estimate | 0.933 | 0.163 | 1.160 | |
| NGSdataExplorer | 0 | 0 | 0 | |
| aggregate_metadata | 0.609 | 0.124 | 0.158 | |
| aggregate_values_by_key | 0.093 | 0.000 | 0.094 | |
| annotation_issues | 0.039 | 0.000 | 0.039 | |
| as_sparse_matrix | 0.096 | 0.000 | 0.096 | |
| available_outlier_tests | 0.001 | 0.000 | 0.000 | |
| available_tags | 0.007 | 0.000 | 0.007 | |
| blood_lineages_default | 0.022 | 0.000 | 0.023 | |
| circos_genomic_density | 0 | 0 | 0 | |
| clinical_relevant_suspicious_genes | 0.012 | 0.000 | 0.012 | |
| comparison_matrix | 0.037 | 0.000 | 0.037 | |
| compute_abundance | 0.037 | 0.007 | 0.045 | |
| compute_near_integrations | 7.886 | 4.129 | 3.015 | |
| cumulative_count_union | 0.261 | 0.051 | 0.299 | |
| cumulative_is | 0.123 | 0.015 | 0.132 | |
| date_formats | 0.001 | 0.001 | 0.000 | |
| default_af_transform | 0.000 | 0.000 | 0.001 | |
| default_iss_file_prefixes | 0 | 0 | 0 | |
| default_meta_agg | 0.014 | 0.005 | 0.019 | |
| default_rec_agg_lambdas | 0.001 | 0.000 | 0.000 | |
| default_report_path | 0.008 | 0.000 | 0.009 | |
| default_stats | 0.001 | 0.000 | 0.000 | |
| fisher_scatterplot | 1.998 | 0.020 | 2.018 | |
| gene_frequency_fisher | 1.867 | 0.051 | 1.917 | |
| generate_Vispa2_launch_AF | 0.274 | 0.022 | 0.310 | |
| generate_blank_association_file | 0.016 | 0.000 | 0.017 | |
| generate_default_folder_structure | 0.631 | 0.093 | 0.687 | |
| import_Vispa2_stats | 1.638 | 0.319 | 1.679 | |
| import_association_file | 0.969 | 0.147 | 1.083 | |
| import_parallel_Vispa2Matrices | 5.227 | 1.571 | 4.199 | |
| import_single_Vispa2Matrix | 1.106 | 0.089 | 1.180 | |
| inspect_tags | 0.007 | 0.000 | 0.008 | |
| integration_alluvial_plot | 4.377 | 0.489 | 2.793 | |
| is_sharing | 1.025 | 0.015 | 1.035 | |
| iss_source | 2.808 | 0.259 | 2.128 | |
| known_clinical_oncogenes | 0.014 | 0.004 | 0.018 | |
| mandatory_IS_vars | 0.094 | 0.016 | 0.109 | |
| matching_options | 0 | 0 | 0 | |
| outlier_filter | 0.136 | 0.016 | 0.138 | |
| outliers_by_pool_fragments | 0.068 | 0.013 | 0.074 | |
| pcr_id_column | 0.026 | 0.003 | 0.030 | |
| purity_filter | 0.744 | 0.000 | 0.745 | |
| quantification_types | 0.000 | 0.000 | 0.001 | |
| realign_after_collisions | 1.204 | 0.537 | 0.992 | |
| reduced_AF_columns | 0.112 | 0.004 | 0.116 | |
| refGene_table_cols | 0.001 | 0.000 | 0.001 | |
| remove_collisions | 1.180 | 0.600 | 0.971 | |
| reset_mandatory_IS_vars | 0.021 | 0.000 | 0.020 | |
| sample_statistics | 1.433 | 0.221 | 1.654 | |
| separate_quant_matrices | 0.022 | 0.000 | 0.022 | |
| set_mandatory_IS_vars | 0.097 | 0.000 | 0.097 | |
| set_matrix_file_suffixes | 0.026 | 0.004 | 0.030 | |
| sharing_heatmap | 2.373 | 0.039 | 2.402 | |
| sharing_venn | 27.424 | 0.380 | 27.782 | |
| threshold_filter | 0.087 | 0.004 | 0.092 | |
| top_abund_tableGrob | 0.623 | 0.004 | 0.628 | |
| top_integrations | 0.034 | 0.000 | 0.034 | |
| top_targeted_genes | 0.534 | 0.010 | 0.530 | |
| transform_columns | 0.025 | 0.001 | 0.026 | |