| Back to Multiple platform build/check report for BioC 3.15 |
|
This page was generated on 2022-03-18 11:07:37 -0400 (Fri, 18 Mar 2022).
| Hostname | OS | Arch (*) | R version | Installed pkgs |
|---|---|---|---|---|
| nebbiolo1 | Linux (Ubuntu 20.04.4 LTS) | x86_64 | R Under development (unstable) (2022-02-17 r81757) -- "Unsuffered Consequences" | 4334 |
| riesling1 | Windows Server 2019 Standard | x64 | R Under development (unstable) (2021-11-21 r81221) -- "Unsuffered Consequences" | 4097 |
| palomino3 | Windows Server 2022 Datacenter | x64 | R Under development (unstable) (2022-02-17 r81757 ucrt) -- "Unsuffered Consequences" | 4083 |
| merida1 | macOS 10.14.6 Mojave | x86_64 | R Under development (unstable) (2022-03-02 r81842) -- "Unsuffered Consequences" | 4134 |
| Click on any hostname to see more info about the system (e.g. compilers) (*) as reported by 'uname -p', except on Windows and Mac OS X | ||||
|
To the developers/maintainers of the GenomicDataCommons package: - Please allow up to 24 hours (and sometimes 48 hours) for your latest push to git@git.bioconductor.org:packages/GenomicDataCommons.git to reflect on this report. See How and When does the builder pull? When will my changes propagate? here for more information. - Make sure to use the following settings in order to reproduce any error or warning you see on this page. |
| Package 751/2090 | Hostname | OS / Arch | INSTALL | BUILD | CHECK | BUILD BIN | ||||||||
| GenomicDataCommons 1.19.8 (landing page) Sean Davis
| nebbiolo1 | Linux (Ubuntu 20.04.4 LTS) / x86_64 | OK | OK | OK | |||||||||
| riesling1 | Windows Server 2019 Standard / x64 | OK | OK | OK | OK | |||||||||
| palomino3 | Windows Server 2022 Datacenter / x64 | OK | OK | OK | OK | |||||||||
| merida1 | macOS 10.14.6 Mojave / x86_64 | OK | OK | OK | OK | |||||||||
| Package: GenomicDataCommons |
| Version: 1.19.8 |
| Command: D:\biocbuild\bbs-3.15-bioc\R\bin\R.exe CMD check --no-multiarch --install=check:GenomicDataCommons.install-out.txt --library=D:\biocbuild\bbs-3.15-bioc\R\library --no-vignettes --timings GenomicDataCommons_1.19.8.tar.gz |
| StartedAt: 2022-03-17 19:10:41 -0400 (Thu, 17 Mar 2022) |
| EndedAt: 2022-03-17 19:12:33 -0400 (Thu, 17 Mar 2022) |
| EllapsedTime: 112.1 seconds |
| RetCode: 0 |
| Status: OK |
| CheckDir: GenomicDataCommons.Rcheck |
| Warnings: 0 |
############################################################################## ############################################################################## ### ### Running command: ### ### D:\biocbuild\bbs-3.15-bioc\R\bin\R.exe CMD check --no-multiarch --install=check:GenomicDataCommons.install-out.txt --library=D:\biocbuild\bbs-3.15-bioc\R\library --no-vignettes --timings GenomicDataCommons_1.19.8.tar.gz ### ############################################################################## ############################################################################## * using log directory 'D:/biocbuild/bbs-3.15-bioc/meat/GenomicDataCommons.Rcheck' * using R Under development (unstable) (2021-11-21 r81221) * using platform: x86_64-w64-mingw32 (64-bit) * using session charset: ISO8859-1 * using option '--no-vignettes' * checking for file 'GenomicDataCommons/DESCRIPTION' ... OK * checking extension type ... Package * this is package 'GenomicDataCommons' version '1.19.8' * package encoding: UTF-8 * checking package namespace information ... OK * checking package dependencies ... OK * checking if this is a source package ... OK * checking if there is a namespace ... OK * checking for hidden files and directories ... OK * checking for portable file names ... OK * checking whether package 'GenomicDataCommons' can be installed ... OK * checking installed package size ... OK * checking package directory ... OK * checking 'build' directory ... OK * checking DESCRIPTION meta-information ... OK * checking top-level files ... OK * checking for left-over files ... OK * checking index information ... OK * checking package subdirectories ... OK * checking R files for non-ASCII characters ... OK * checking R files for syntax errors ... OK * checking whether the package can be loaded ... OK * checking whether the package can be loaded with stated dependencies ... OK * checking whether the package can be unloaded cleanly ... OK * checking whether the namespace can be loaded with stated dependencies ... OK * checking whether the namespace can be unloaded cleanly ... OK * checking dependencies in R code ... NOTE Namespaces in Imports field not imported from: 'S4Vectors' 'SummarizedExperiment' All declared Imports should be used. * checking S3 generic/method consistency ... OK * checking replacement functions ... OK * checking foreign function calls ... OK * checking R code for possible problems ... OK * checking Rd files ... OK * checking Rd metadata ... OK * checking Rd cross-references ... OK * checking for missing documentation entries ... OK * checking for code/documentation mismatches ... OK * checking Rd \usage sections ... OK * checking Rd contents ... OK * checking for unstated dependencies in examples ... OK * checking R/sysdata.rda ... OK * checking files in 'vignettes' ... OK * checking examples ... OK * checking for unstated dependencies in 'tests' ... OK * checking tests ... Running 'testthat.R' OK * checking for unstated dependencies in vignettes ... OK * checking package vignettes in 'inst/doc' ... OK * checking running R code from vignettes ... SKIPPED * checking re-building of vignette outputs ... SKIPPED * checking PDF version of manual ... OK * DONE Status: 1 NOTE See 'D:/biocbuild/bbs-3.15-bioc/meat/GenomicDataCommons.Rcheck/00check.log' for details.
GenomicDataCommons.Rcheck/00install.out
##############################################################################
##############################################################################
###
### Running command:
###
### D:\biocbuild\bbs-3.15-bioc\R\bin\R.exe CMD INSTALL GenomicDataCommons
###
##############################################################################
##############################################################################
* installing to library 'D:/biocbuild/bbs-3.15-bioc/R/library'
* installing *source* package 'GenomicDataCommons' ...
** using staged installation
** R
** inst
** byte-compile and prepare package for lazy loading
** help
*** installing help indices
converting help for package 'GenomicDataCommons'
finding HTML links ... done
GenomicDataCommons html
aggregations html
available_expand html
available_fields html
available_values html
constants html
count html
default_fields html
entity_name html
expand html
faceting html
field_description html
filtering html
gdc_cache html
gdc_client html
gdc_clinical html
gdc_token html
gdcdata html
grep_fields html
id_field html
ids html
legacy html
make_filter html
manifest html
mapping html
query html
readDNAcopy html
readHTSeqFile html
response html
results html
results_all html
select html
slicing html
status html
transfer html
write_manifest html
** building package indices
** installing vignettes
** testing if installed package can be loaded from temporary location
** testing if installed package can be loaded from final location
** testing if installed package keeps a record of temporary installation path
* DONE (GenomicDataCommons)
Making 'packages.html' ...Warning in packageDescription(i, lib.loc = lib, fields = "Title", encoding = "UTF-8") :
DESCRIPTION file of package 'proBatch' is missing or broken
done
GenomicDataCommons.Rcheck/tests/testthat.Rout
R Under development (unstable) (2021-11-21 r81221) -- "Unsuffered Consequences"
Copyright (C) 2021 The R Foundation for Statistical Computing
Platform: x86_64-w64-mingw32/x64 (64-bit)
R is free software and comes with ABSOLUTELY NO WARRANTY.
You are welcome to redistribute it under certain conditions.
Type 'license()' or 'licence()' for distribution details.
R is a collaborative project with many contributors.
Type 'contributors()' for more information and
'citation()' on how to cite R or R packages in publications.
Type 'demo()' for some demos, 'help()' for on-line help, or
'help.start()' for an HTML browser interface to help.
Type 'q()' to quit R.
> library(testthat)
> library(GenomicDataCommons)
Loading required package: magrittr
Attaching package: 'magrittr'
The following objects are masked from 'package:testthat':
equals, is_less_than, not
Attaching package: 'GenomicDataCommons'
The following object is masked from 'package:stats':
filter
>
> test_check("GenomicDataCommons")
[ FAIL 0 | WARN 0 | SKIP 0 | PASS 48 ]
>
> proc.time()
user system elapsed
4.32 0.23 22.12
GenomicDataCommons.Rcheck/GenomicDataCommons-Ex.timings
| name | user | system | elapsed | |
| aggregations | 0.12 | 0.00 | 0.75 | |
| available_expand | 0.02 | 0.00 | 0.08 | |
| available_fields | 0.04 | 0.00 | 0.22 | |
| available_values | 0.05 | 0.00 | 0.52 | |
| constants | 0 | 0 | 0 | |
| count | 0.09 | 0.00 | 0.35 | |
| default_fields | 0.03 | 0.00 | 0.21 | |
| entity_name | 0.08 | 0.00 | 0.19 | |
| expand | 0.08 | 0.00 | 0.43 | |
| faceting | 0.06 | 0.00 | 0.30 | |
| field_description | 0.22 | 0.01 | 0.58 | |
| filtering | 0.61 | 0.02 | 2.19 | |
| gdc_cache | 0 | 0 | 0 | |
| gdc_client | 0.00 | 0.01 | 0.01 | |
| gdc_clinical | 0.86 | 0.00 | 1.45 | |
| gdc_token | 0.02 | 0.00 | 0.02 | |
| gdcdata | 0.48 | 0.00 | 1.67 | |
| grep_fields | 0.03 | 0.00 | 0.09 | |
| id_field | 0.06 | 0.00 | 0.13 | |
| ids | 0.25 | 0.00 | 1.11 | |
| legacy | 0.05 | 0.00 | 0.10 | |
| manifest | 0.10 | 0.02 | 0.32 | |
| mapping | 0.01 | 0.00 | 0.06 | |
| query | 0.09 | 0.00 | 0.23 | |
| readDNAcopy | 0.15 | 0.04 | 0.14 | |
| readHTSeqFile | 0.04 | 0.00 | 0.07 | |
| response | 0.08 | 0.00 | 0.22 | |
| results | 0.04 | 0.00 | 0.22 | |
| results_all | 0.08 | 0.00 | 0.38 | |
| select | 0.08 | 0.00 | 0.42 | |
| slicing | 0 | 0 | 0 | |
| status | 0.00 | 0.00 | 0.06 | |
| transfer | 0 | 0 | 0 | |
| write_manifest | 0.13 | 0.02 | 0.29 | |