| Back to Multiple platform build/check report for BioC 3.15 |
|
This page was generated on 2022-10-19 13:23:00 -0400 (Wed, 19 Oct 2022).
| Hostname | OS | Arch (*) | R version | Installed pkgs |
|---|---|---|---|---|
| nebbiolo1 | Linux (Ubuntu 20.04.5 LTS) | x86_64 | 4.2.1 (2022-06-23) -- "Funny-Looking Kid" | 4386 |
| palomino3 | Windows Server 2022 Datacenter | x64 | 4.2.1 (2022-06-23 ucrt) -- "Funny-Looking Kid" | 4138 |
| merida1 | macOS 10.14.6 Mojave | x86_64 | 4.2.1 (2022-06-23) -- "Funny-Looking Kid" | 4205 |
| Click on any hostname to see more info about the system (e.g. compilers) (*) as reported by 'uname -p', except on Windows and Mac OS X | ||||
|
To the developers/maintainers of the GenomicDataCommons package: - Please allow up to 24 hours (and sometimes 48 hours) for your latest push to git@git.bioconductor.org:packages/GenomicDataCommons.git to reflect on this report. See How and When does the builder pull? When will my changes propagate? for more information. - Make sure to use the following settings in order to reproduce any error or warning you see on this page. |
| Package 770/2140 | Hostname | OS / Arch | INSTALL | BUILD | CHECK | BUILD BIN | ||||||||
| GenomicDataCommons 1.20.3 (landing page) Sean Davis
| nebbiolo1 | Linux (Ubuntu 20.04.5 LTS) / x86_64 | OK | OK | OK | |||||||||
| palomino3 | Windows Server 2022 Datacenter / x64 | OK | OK | OK | OK | |||||||||
| merida1 | macOS 10.14.6 Mojave / x86_64 | OK | OK | OK | OK | |||||||||
| Package: GenomicDataCommons |
| Version: 1.20.3 |
| Command: /Library/Frameworks/R.framework/Resources/bin/R CMD check --install=check:GenomicDataCommons.install-out.txt --library=/Library/Frameworks/R.framework/Resources/library --no-vignettes --timings GenomicDataCommons_1.20.3.tar.gz |
| StartedAt: 2022-10-19 02:48:15 -0400 (Wed, 19 Oct 2022) |
| EndedAt: 2022-10-19 03:10:42 -0400 (Wed, 19 Oct 2022) |
| EllapsedTime: 1347.9 seconds |
| RetCode: 0 |
| Status: OK |
| CheckDir: GenomicDataCommons.Rcheck |
| Warnings: 0 |
##############################################################################
##############################################################################
###
### Running command:
###
### /Library/Frameworks/R.framework/Resources/bin/R CMD check --install=check:GenomicDataCommons.install-out.txt --library=/Library/Frameworks/R.framework/Resources/library --no-vignettes --timings GenomicDataCommons_1.20.3.tar.gz
###
##############################################################################
##############################################################################
* using log directory ‘/Users/biocbuild/bbs-3.15-bioc/meat/GenomicDataCommons.Rcheck’
* using R version 4.2.1 (2022-06-23)
* using platform: x86_64-apple-darwin17.0 (64-bit)
* using session charset: UTF-8
* using option ‘--no-vignettes’
* checking for file ‘GenomicDataCommons/DESCRIPTION’ ... OK
* checking extension type ... Package
* this is package ‘GenomicDataCommons’ version ‘1.20.3’
* package encoding: UTF-8
* checking package namespace information ... OK
* checking package dependencies ... OK
* checking if this is a source package ... OK
* checking if there is a namespace ... OK
* checking for hidden files and directories ... OK
* checking for portable file names ... OK
* checking for sufficient/correct file permissions ... OK
* checking whether package ‘GenomicDataCommons’ can be installed ... OK
* checking installed package size ... OK
* checking package directory ... OK
* checking ‘build’ directory ... OK
* checking DESCRIPTION meta-information ... OK
* checking top-level files ... OK
* checking for left-over files ... OK
* checking index information ... OK
* checking package subdirectories ... OK
* checking R files for non-ASCII characters ... OK
* checking R files for syntax errors ... OK
* checking whether the package can be loaded ... OK
* checking whether the package can be loaded with stated dependencies ... OK
* checking whether the package can be unloaded cleanly ... OK
* checking whether the namespace can be loaded with stated dependencies ... OK
* checking whether the namespace can be unloaded cleanly ... OK
* checking dependencies in R code ... OK
* checking S3 generic/method consistency ... OK
* checking replacement functions ... OK
* checking foreign function calls ... OK
* checking R code for possible problems ... OK
* checking Rd files ... OK
* checking Rd metadata ... OK
* checking Rd cross-references ... OK
* checking for missing documentation entries ... OK
* checking for code/documentation mismatches ... OK
* checking Rd \usage sections ... OK
* checking Rd contents ... OK
* checking for unstated dependencies in examples ... OK
* checking R/sysdata.rda ... OK
* checking files in ‘vignettes’ ... OK
* checking examples ... OK
Examples with CPU (user + system) or elapsed time > 5s
user system elapsed
manifest 20.081 1.696 284.736
write_manifest 19.278 1.310 299.878
* checking for unstated dependencies in ‘tests’ ... OK
* checking tests ...
Running ‘testthat.R’
OK
* checking for unstated dependencies in vignettes ... OK
* checking package vignettes in ‘inst/doc’ ... OK
* checking running R code from vignettes ... SKIPPED
* checking re-building of vignette outputs ... SKIPPED
* checking PDF version of manual ... OK
* DONE
Status: OK
GenomicDataCommons.Rcheck/00install.out
############################################################################## ############################################################################## ### ### Running command: ### ### /Library/Frameworks/R.framework/Resources/bin/R CMD INSTALL GenomicDataCommons ### ############################################################################## ############################################################################## * installing to library ‘/Library/Frameworks/R.framework/Versions/4.2/Resources/library’ * installing *source* package ‘GenomicDataCommons’ ... ** using staged installation ** R ** inst ** byte-compile and prepare package for lazy loading ** help *** installing help indices ** building package indices ** installing vignettes ** testing if installed package can be loaded from temporary location ** testing if installed package can be loaded from final location ** testing if installed package keeps a record of temporary installation path * DONE (GenomicDataCommons)
GenomicDataCommons.Rcheck/tests/testthat.Rout
R version 4.2.1 (2022-06-23) -- "Funny-Looking Kid"
Copyright (C) 2022 The R Foundation for Statistical Computing
Platform: x86_64-apple-darwin17.0 (64-bit)
R is free software and comes with ABSOLUTELY NO WARRANTY.
You are welcome to redistribute it under certain conditions.
Type 'license()' or 'licence()' for distribution details.
R is a collaborative project with many contributors.
Type 'contributors()' for more information and
'citation()' on how to cite R or R packages in publications.
Type 'demo()' for some demos, 'help()' for on-line help, or
'help.start()' for an HTML browser interface to help.
Type 'q()' to quit R.
> library(testthat)
> library(GenomicDataCommons)
Loading required package: magrittr
Attaching package: 'magrittr'
The following objects are masked from 'package:testthat':
equals, is_less_than, not
Attaching package: 'GenomicDataCommons'
The following object is masked from 'package:stats':
filter
>
> test_check("GenomicDataCommons")
[ FAIL 0 | WARN 0 | SKIP 0 | PASS 48 ]
>
> proc.time()
user system elapsed
48.438 3.378 610.229
GenomicDataCommons.Rcheck/GenomicDataCommons-Ex.timings
| name | user | system | elapsed | |
| aggregations | 0.119 | 0.012 | 0.620 | |
| available_expand | 0.024 | 0.000 | 0.065 | |
| available_fields | 0.042 | 0.001 | 0.145 | |
| available_values | 0.049 | 0.002 | 0.485 | |
| constants | 0.001 | 0.000 | 0.001 | |
| count | 0.087 | 0.003 | 0.270 | |
| default_fields | 0.044 | 0.001 | 0.144 | |
| entity_name | 0.058 | 0.001 | 0.141 | |
| expand | 0.129 | 0.004 | 0.346 | |
| faceting | 0.087 | 0.004 | 0.231 | |
| field_description | 0.222 | 0.007 | 0.457 | |
| filtering | 0.667 | 0.016 | 1.715 | |
| gdc_cache | 0.002 | 0.000 | 0.002 | |
| gdc_client | 0.004 | 0.005 | 0.010 | |
| gdc_clinical | 1.410 | 0.031 | 1.856 | |
| gdc_token | 0.001 | 0.000 | 0.001 | |
| gdcdata | 0.648 | 0.024 | 1.437 | |
| grep_fields | 0.100 | 0.002 | 0.143 | |
| id_field | 0.040 | 0.001 | 0.086 | |
| ids | 0.256 | 0.005 | 0.785 | |
| legacy | 0.041 | 0.001 | 0.085 | |
| manifest | 20.081 | 1.696 | 284.736 | |
| mapping | 0.031 | 0.002 | 0.121 | |
| query | 0.084 | 0.005 | 0.184 | |
| readDNAcopy | 0.245 | 0.013 | 0.256 | |
| readHTSeqFile | 0.126 | 0.008 | 0.144 | |
| response | 0.060 | 0.005 | 0.168 | |
| results | 0.061 | 0.006 | 0.175 | |
| results_all | 0.083 | 0.009 | 0.319 | |
| select | 0.118 | 0.013 | 0.342 | |
| slicing | 0.000 | 0.000 | 0.001 | |
| status | 0.014 | 0.002 | 0.054 | |
| transfer | 0.001 | 0.000 | 0.000 | |
| write_manifest | 19.278 | 1.310 | 299.878 | |