| Back to Multiple platform build/check report for BioC 3.15 |
|
This page was generated on 2022-10-19 13:21:32 -0400 (Wed, 19 Oct 2022).
| Hostname | OS | Arch (*) | R version | Installed pkgs |
|---|---|---|---|---|
| nebbiolo1 | Linux (Ubuntu 20.04.5 LTS) | x86_64 | 4.2.1 (2022-06-23) -- "Funny-Looking Kid" | 4386 |
| palomino3 | Windows Server 2022 Datacenter | x64 | 4.2.1 (2022-06-23 ucrt) -- "Funny-Looking Kid" | 4138 |
| merida1 | macOS 10.14.6 Mojave | x86_64 | 4.2.1 (2022-06-23) -- "Funny-Looking Kid" | 4205 |
| Click on any hostname to see more info about the system (e.g. compilers) (*) as reported by 'uname -p', except on Windows and Mac OS X | ||||
|
To the developers/maintainers of the GeneStructureTools package: - Please allow up to 24 hours (and sometimes 48 hours) for your latest push to git@git.bioconductor.org:packages/GeneStructureTools.git to reflect on this report. See How and When does the builder pull? When will my changes propagate? for more information. - Make sure to use the following settings in order to reproduce any error or warning you see on this page. |
| Package 757/2140 | Hostname | OS / Arch | INSTALL | BUILD | CHECK | BUILD BIN | ||||||||
| GeneStructureTools 1.16.0 (landing page) Beth Signal
| nebbiolo1 | Linux (Ubuntu 20.04.5 LTS) / x86_64 | OK | OK | OK | |||||||||
| palomino3 | Windows Server 2022 Datacenter / x64 | OK | OK | OK | OK | |||||||||
| merida1 | macOS 10.14.6 Mojave / x86_64 | OK | OK | OK | OK | |||||||||
| Package: GeneStructureTools |
| Version: 1.16.0 |
| Command: F:\biocbuild\bbs-3.15-bioc\R\bin\R.exe CMD check --no-multiarch --install=check:GeneStructureTools.install-out.txt --library=F:\biocbuild\bbs-3.15-bioc\R\library --no-vignettes --timings GeneStructureTools_1.16.0.tar.gz |
| StartedAt: 2022-10-19 00:30:34 -0400 (Wed, 19 Oct 2022) |
| EndedAt: 2022-10-19 00:37:24 -0400 (Wed, 19 Oct 2022) |
| EllapsedTime: 410.1 seconds |
| RetCode: 0 |
| Status: OK |
| CheckDir: GeneStructureTools.Rcheck |
| Warnings: 0 |
##############################################################################
##############################################################################
###
### Running command:
###
### F:\biocbuild\bbs-3.15-bioc\R\bin\R.exe CMD check --no-multiarch --install=check:GeneStructureTools.install-out.txt --library=F:\biocbuild\bbs-3.15-bioc\R\library --no-vignettes --timings GeneStructureTools_1.16.0.tar.gz
###
##############################################################################
##############################################################################
* using log directory 'F:/biocbuild/bbs-3.15-bioc/meat/GeneStructureTools.Rcheck'
* using R version 4.2.1 (2022-06-23 ucrt)
* using platform: x86_64-w64-mingw32 (64-bit)
* using session charset: UTF-8
* using option '--no-vignettes'
* checking for file 'GeneStructureTools/DESCRIPTION' ... OK
* checking extension type ... Package
* this is package 'GeneStructureTools' version '1.16.0'
* package encoding: UTF-8
* checking package namespace information ... OK
* checking package dependencies ... OK
* checking if this is a source package ... OK
* checking if there is a namespace ... OK
* checking for hidden files and directories ... OK
* checking for portable file names ... OK
* checking whether package 'GeneStructureTools' can be installed ... OK
* checking installed package size ... OK
* checking package directory ... OK
* checking 'build' directory ... OK
* checking DESCRIPTION meta-information ... OK
* checking top-level files ... OK
* checking for left-over files ... OK
* checking index information ... OK
* checking package subdirectories ... OK
* checking R files for non-ASCII characters ... OK
* checking R files for syntax errors ... OK
* checking whether the package can be loaded ... OK
* checking whether the package can be loaded with stated dependencies ... OK
* checking whether the package can be unloaded cleanly ... OK
* checking whether the namespace can be loaded with stated dependencies ... OK
* checking whether the namespace can be unloaded cleanly ... OK
* checking dependencies in R code ... OK
* checking S3 generic/method consistency ... OK
* checking replacement functions ... OK
* checking foreign function calls ... OK
* checking R code for possible problems ... OK
* checking Rd files ... OK
* checking Rd metadata ... OK
* checking Rd cross-references ... OK
* checking for missing documentation entries ... OK
* checking for code/documentation mismatches ... OK
* checking Rd \usage sections ... OK
* checking Rd contents ... OK
* checking for unstated dependencies in examples ... OK
* checking files in 'vignettes' ... OK
* checking examples ... OK
Examples with CPU (user + system) or elapsed time > 5s
user system elapsed
leafcutterTranscriptChangeSummary 22.89 1.47 24.52
whippetTranscriptChangeSummary 12.72 0.26 14.31
alternativeIntronUsage 4.97 0.06 5.03
replaceJunction 4.34 0.02 5.47
UTR2UTR53 3.23 0.16 5.35
* checking for unstated dependencies in vignettes ... OK
* checking package vignettes in 'inst/doc' ... OK
* checking running R code from vignettes ... SKIPPED
* checking re-building of vignette outputs ... SKIPPED
* checking PDF version of manual ... OK
* DONE
Status: OK
GeneStructureTools.Rcheck/00install.out
############################################################################## ############################################################################## ### ### Running command: ### ### F:\biocbuild\bbs-3.15-bioc\R\bin\R.exe CMD INSTALL GeneStructureTools ### ############################################################################## ############################################################################## * installing to library 'F:/biocbuild/bbs-3.15-bioc/R/library' * installing *source* package 'GeneStructureTools' ... ** using staged installation ** R ** inst ** byte-compile and prepare package for lazy loading ** help *** installing help indices ** building package indices ** installing vignettes ** testing if installed package can be loaded from temporary location ** testing if installed package can be loaded from final location ** testing if installed package keeps a record of temporary installation path * DONE (GeneStructureTools)
GeneStructureTools.Rcheck/GeneStructureTools-Ex.timings
| name | user | system | elapsed | |
| DEXSeqIdsToGeneIds | 0 | 0 | 0 | |
| UTR2UTR53 | 3.23 | 0.16 | 5.35 | |
| addBroadTypes | 0.27 | 0.02 | 0.28 | |
| addIntronInTranscript | 1.87 | 0.01 | 3.03 | |
| alternativeIntronUsage | 4.97 | 0.06 | 5.03 | |
| annotateGeneModel | 2.21 | 0.02 | 2.23 | |
| attrChangeAltSpliced | 1.24 | 0.03 | 2.33 | |
| coordinates-methods | 0.05 | 0.02 | 1.13 | |
| diffSplicingResults-methods | 0.06 | 0.01 | 1.11 | |
| exonsToTranscripts | 0.39 | 0.03 | 0.43 | |
| filterGtfOverlap | 0.39 | 0.00 | 0.39 | |
| filterWhippetEvents | 0.05 | 0.03 | 1.11 | |
| findDEXexonType | 3.00 | 0.04 | 3.07 | |
| findExonContainingTranscripts | 0.56 | 0.00 | 1.60 | |
| findIntronContainingTranscripts | 0.64 | 0.04 | 1.89 | |
| findJunctionPairs | 1.25 | 0.07 | 2.47 | |
| formatWhippetEvents | 0.02 | 0.00 | 0.14 | |
| getOrfs | 0.75 | 0.01 | 0.76 | |
| getUOrfs | 0.59 | 0.02 | 0.61 | |
| junctions-methods | 0.02 | 0.01 | 1.00 | |
| leafcutterTranscriptChangeSummary | 22.89 | 1.47 | 24.52 | |
| makeGeneModel | 0.23 | 0.00 | 0.23 | |
| maxLocation | 0.02 | 0.00 | 0.02 | |
| orfDiff | 1.56 | 0.08 | 3.12 | |
| orfSimilarity | 0 | 0 | 0 | |
| overlapTypes | 2.75 | 0.01 | 2.77 | |
| readCounts-methods | 0.03 | 0.07 | 1.28 | |
| readWhippetDIFFfiles | 0.02 | 0.01 | 0.14 | |
| readWhippetDataSet | 0.03 | 0.02 | 1.27 | |
| readWhippetJNCfiles | 0.01 | 0.01 | 0.48 | |
| readWhippetPSIfiles | 0.02 | 0.00 | 0.50 | |
| removeDuplicateTranscripts | 0.34 | 0.00 | 0.35 | |
| removeSameExon | 0.30 | 0.02 | 0.31 | |
| removeVersion | 0 | 0 | 0 | |
| reorderExonNumbers | 0.22 | 0.03 | 0.25 | |
| replaceJunction | 4.34 | 0.02 | 5.47 | |
| skipExonInTranscript | 1.51 | 0.03 | 2.63 | |
| summariseExonTypes | 2.85 | 0.01 | 2.86 | |
| transcriptChangeSummary | 1.95 | 0.10 | 3.09 | |
| whippetTranscriptChangeSummary | 12.72 | 0.26 | 14.31 | |