| Back to Multiple platform build/check report for BioC 3.15 |
|
This page was generated on 2022-10-19 13:20:18 -0400 (Wed, 19 Oct 2022).
| Hostname | OS | Arch (*) | R version | Installed pkgs |
|---|---|---|---|---|
| nebbiolo1 | Linux (Ubuntu 20.04.5 LTS) | x86_64 | 4.2.1 (2022-06-23) -- "Funny-Looking Kid" | 4386 |
| palomino3 | Windows Server 2022 Datacenter | x64 | 4.2.1 (2022-06-23 ucrt) -- "Funny-Looking Kid" | 4138 |
| merida1 | macOS 10.14.6 Mojave | x86_64 | 4.2.1 (2022-06-23) -- "Funny-Looking Kid" | 4205 |
| Click on any hostname to see more info about the system (e.g. compilers) (*) as reported by 'uname -p', except on Windows and Mac OS X | ||||
|
To the developers/maintainers of the GeneStructureTools package: - Please allow up to 24 hours (and sometimes 48 hours) for your latest push to git@git.bioconductor.org:packages/GeneStructureTools.git to reflect on this report. See How and When does the builder pull? When will my changes propagate? for more information. - Make sure to use the following settings in order to reproduce any error or warning you see on this page. |
| Package 757/2140 | Hostname | OS / Arch | INSTALL | BUILD | CHECK | BUILD BIN | ||||||||
| GeneStructureTools 1.16.0 (landing page) Beth Signal
| nebbiolo1 | Linux (Ubuntu 20.04.5 LTS) / x86_64 | OK | OK | OK | |||||||||
| palomino3 | Windows Server 2022 Datacenter / x64 | OK | OK | OK | OK | |||||||||
| merida1 | macOS 10.14.6 Mojave / x86_64 | OK | OK | OK | OK | |||||||||
| Package: GeneStructureTools |
| Version: 1.16.0 |
| Command: /home/biocbuild/bbs-3.15-bioc/R/bin/R CMD check --install=check:GeneStructureTools.install-out.txt --library=/home/biocbuild/bbs-3.15-bioc/R/library --no-vignettes --timings GeneStructureTools_1.16.0.tar.gz |
| StartedAt: 2022-10-18 19:51:50 -0400 (Tue, 18 Oct 2022) |
| EndedAt: 2022-10-18 19:57:53 -0400 (Tue, 18 Oct 2022) |
| EllapsedTime: 362.9 seconds |
| RetCode: 0 |
| Status: OK |
| CheckDir: GeneStructureTools.Rcheck |
| Warnings: 0 |
##############################################################################
##############################################################################
###
### Running command:
###
### /home/biocbuild/bbs-3.15-bioc/R/bin/R CMD check --install=check:GeneStructureTools.install-out.txt --library=/home/biocbuild/bbs-3.15-bioc/R/library --no-vignettes --timings GeneStructureTools_1.16.0.tar.gz
###
##############################################################################
##############################################################################
* using log directory ‘/home/biocbuild/bbs-3.15-bioc/meat/GeneStructureTools.Rcheck’
* using R version 4.2.1 (2022-06-23)
* using platform: x86_64-pc-linux-gnu (64-bit)
* using session charset: UTF-8
* using option ‘--no-vignettes’
* checking for file ‘GeneStructureTools/DESCRIPTION’ ... OK
* checking extension type ... Package
* this is package ‘GeneStructureTools’ version ‘1.16.0’
* package encoding: UTF-8
* checking package namespace information ... OK
* checking package dependencies ... OK
* checking if this is a source package ... OK
* checking if there is a namespace ... OK
* checking for hidden files and directories ... OK
* checking for portable file names ... OK
* checking for sufficient/correct file permissions ... OK
* checking whether package ‘GeneStructureTools’ can be installed ... OK
* checking installed package size ... OK
* checking package directory ... OK
* checking ‘build’ directory ... OK
* checking DESCRIPTION meta-information ... OK
* checking top-level files ... OK
* checking for left-over files ... OK
* checking index information ... OK
* checking package subdirectories ... OK
* checking R files for non-ASCII characters ... OK
* checking R files for syntax errors ... OK
* checking whether the package can be loaded ... OK
* checking whether the package can be loaded with stated dependencies ... OK
* checking whether the package can be unloaded cleanly ... OK
* checking whether the namespace can be loaded with stated dependencies ... OK
* checking whether the namespace can be unloaded cleanly ... OK
* checking dependencies in R code ... OK
* checking S3 generic/method consistency ... OK
* checking replacement functions ... OK
* checking foreign function calls ... OK
* checking R code for possible problems ... OK
* checking Rd files ... OK
* checking Rd metadata ... OK
* checking Rd cross-references ... OK
* checking for missing documentation entries ... OK
* checking for code/documentation mismatches ... OK
* checking Rd \usage sections ... OK
* checking Rd contents ... OK
* checking for unstated dependencies in examples ... OK
* checking files in ‘vignettes’ ... OK
* checking examples ... OK
Examples with CPU (user + system) or elapsed time > 5s
user system elapsed
leafcutterTranscriptChangeSummary 23.217 0.824 24.050
whippetTranscriptChangeSummary 11.651 0.224 11.876
* checking for unstated dependencies in vignettes ... OK
* checking package vignettes in ‘inst/doc’ ... OK
* checking running R code from vignettes ... SKIPPED
* checking re-building of vignette outputs ... SKIPPED
* checking PDF version of manual ... OK
* DONE
Status: OK
GeneStructureTools.Rcheck/00install.out
############################################################################## ############################################################################## ### ### Running command: ### ### /home/biocbuild/bbs-3.15-bioc/R/bin/R CMD INSTALL GeneStructureTools ### ############################################################################## ############################################################################## * installing to library ‘/home/biocbuild/bbs-3.15-bioc/R/library’ * installing *source* package ‘GeneStructureTools’ ... ** using staged installation ** R ** inst ** byte-compile and prepare package for lazy loading ** help *** installing help indices ** building package indices ** installing vignettes ** testing if installed package can be loaded from temporary location ** testing if installed package can be loaded from final location ** testing if installed package keeps a record of temporary installation path * DONE (GeneStructureTools)
GeneStructureTools.Rcheck/GeneStructureTools-Ex.timings
| name | user | system | elapsed | |
| DEXSeqIdsToGeneIds | 0.003 | 0.000 | 0.003 | |
| UTR2UTR53 | 4.100 | 0.452 | 4.554 | |
| addBroadTypes | 0.151 | 0.004 | 0.155 | |
| addIntronInTranscript | 1.897 | 0.125 | 2.022 | |
| alternativeIntronUsage | 3.944 | 0.136 | 4.082 | |
| annotateGeneModel | 0.790 | 0.028 | 0.818 | |
| attrChangeAltSpliced | 1.072 | 0.033 | 1.105 | |
| coordinates-methods | 0.061 | 0.025 | 0.086 | |
| diffSplicingResults-methods | 0.068 | 0.021 | 0.087 | |
| exonsToTranscripts | 0.259 | 0.004 | 0.264 | |
| filterGtfOverlap | 0.21 | 0.00 | 0.21 | |
| filterWhippetEvents | 0.072 | 0.024 | 0.095 | |
| findDEXexonType | 2.840 | 0.128 | 2.970 | |
| findExonContainingTranscripts | 0.378 | 0.039 | 0.416 | |
| findIntronContainingTranscripts | 0.590 | 0.031 | 0.619 | |
| findJunctionPairs | 1.209 | 0.039 | 1.248 | |
| formatWhippetEvents | 0.017 | 0.000 | 0.016 | |
| getOrfs | 0.631 | 0.028 | 0.659 | |
| getUOrfs | 0.495 | 0.020 | 0.514 | |
| junctions-methods | 0.054 | 0.015 | 0.076 | |
| leafcutterTranscriptChangeSummary | 23.217 | 0.824 | 24.050 | |
| makeGeneModel | 0.171 | 0.000 | 0.172 | |
| maxLocation | 0.002 | 0.000 | 0.003 | |
| orfDiff | 1.528 | 0.035 | 1.563 | |
| orfSimilarity | 0.001 | 0.000 | 0.000 | |
| overlapTypes | 2.731 | 0.012 | 2.742 | |
| readCounts-methods | 0.058 | 0.013 | 0.069 | |
| readWhippetDIFFfiles | 0.004 | 0.002 | 0.007 | |
| readWhippetDataSet | 0.056 | 0.013 | 0.067 | |
| readWhippetJNCfiles | 0.021 | 0.012 | 0.034 | |
| readWhippetPSIfiles | 0.014 | 0.005 | 0.019 | |
| removeDuplicateTranscripts | 0.234 | 0.008 | 0.242 | |
| removeSameExon | 0.191 | 0.004 | 0.194 | |
| removeVersion | 0.000 | 0.000 | 0.001 | |
| reorderExonNumbers | 0.156 | 0.012 | 0.168 | |
| replaceJunction | 3.913 | 0.061 | 3.974 | |
| skipExonInTranscript | 1.312 | 0.020 | 1.330 | |
| summariseExonTypes | 2.924 | 0.036 | 2.960 | |
| transcriptChangeSummary | 1.38 | 0.05 | 1.43 | |
| whippetTranscriptChangeSummary | 11.651 | 0.224 | 11.876 | |