| Back to Multiple platform build/check report for BioC 3.15 |
|
This page was generated on 2022-03-18 11:07:19 -0400 (Fri, 18 Mar 2022).
| Hostname | OS | Arch (*) | R version | Installed pkgs |
|---|---|---|---|---|
| nebbiolo1 | Linux (Ubuntu 20.04.4 LTS) | x86_64 | R Under development (unstable) (2022-02-17 r81757) -- "Unsuffered Consequences" | 4334 |
| riesling1 | Windows Server 2019 Standard | x64 | R Under development (unstable) (2021-11-21 r81221) -- "Unsuffered Consequences" | 4097 |
| palomino3 | Windows Server 2022 Datacenter | x64 | R Under development (unstable) (2022-02-17 r81757 ucrt) -- "Unsuffered Consequences" | 4083 |
| merida1 | macOS 10.14.6 Mojave | x86_64 | R Under development (unstable) (2022-03-02 r81842) -- "Unsuffered Consequences" | 4134 |
| Click on any hostname to see more info about the system (e.g. compilers) (*) as reported by 'uname -p', except on Windows and Mac OS X | ||||
|
To the developers/maintainers of the DEComplexDisease package: - Please allow up to 24 hours (and sometimes 48 hours) for your latest push to git@git.bioconductor.org:packages/DEComplexDisease.git to reflect on this report. See How and When does the builder pull? When will my changes propagate? here for more information. - Make sure to use the following settings in order to reproduce any error or warning you see on this page. |
| Package 469/2090 | Hostname | OS / Arch | INSTALL | BUILD | CHECK | BUILD BIN | ||||||||
| DEComplexDisease 1.15.0 (landing page) Guofeng Meng
| nebbiolo1 | Linux (Ubuntu 20.04.4 LTS) / x86_64 | OK | OK | OK | |||||||||
| riesling1 | Windows Server 2019 Standard / x64 | OK | OK | OK | OK | |||||||||
| palomino3 | Windows Server 2022 Datacenter / x64 | OK | OK | OK | OK | |||||||||
| merida1 | macOS 10.14.6 Mojave / x86_64 | OK | OK | OK | OK | |||||||||
| Package: DEComplexDisease |
| Version: 1.15.0 |
| Command: rm -rf DEComplexDisease.buildbin-libdir && mkdir DEComplexDisease.buildbin-libdir && D:\biocbuild\bbs-3.15-bioc\R\bin\R.exe CMD INSTALL --build --library=DEComplexDisease.buildbin-libdir DEComplexDisease_1.15.0.tar.gz |
| StartedAt: 2022-03-17 21:03:52 -0400 (Thu, 17 Mar 2022) |
| EndedAt: 2022-03-17 21:05:04 -0400 (Thu, 17 Mar 2022) |
| EllapsedTime: 71.8 seconds |
| RetCode: 0 |
| Status: OK |
| PackageFile: DEComplexDisease_1.15.0.zip |
| PackageFileSize: 1.925 MiB |
##############################################################################
##############################################################################
###
### Running command:
###
### rm -rf DEComplexDisease.buildbin-libdir && mkdir DEComplexDisease.buildbin-libdir && D:\biocbuild\bbs-3.15-bioc\R\bin\R.exe CMD INSTALL --build --library=DEComplexDisease.buildbin-libdir DEComplexDisease_1.15.0.tar.gz
###
##############################################################################
##############################################################################
* installing *source* package 'DEComplexDisease' ...
** using staged installation
** libs
"C:/rtools40/mingw64/bin/"g++ -std=gnu++11 -I"D:/biocbuild/bbs-3.15-bioc/R/include" -DNDEBUG -I'D:/biocbuild/bbs-3.15-bioc/R/library/Rcpp/include' -I"C:/extsoft/include" -O2 -Wall -mfpmath=sse -msse2 -mstackrealign -fno-reorder-blocks-and-partition -c RcppExports.cpp -o RcppExports.o
"C:/rtools40/mingw64/bin/"g++ -std=gnu++11 -I"D:/biocbuild/bbs-3.15-bioc/R/include" -DNDEBUG -I'D:/biocbuild/bbs-3.15-bioc/R/library/Rcpp/include' -I"C:/extsoft/include" -O2 -Wall -mfpmath=sse -msse2 -mstackrealign -fno-reorder-blocks-and-partition -c sig.cpp -o sig.o
C:/rtools40/mingw64/bin/g++ -std=gnu++11 -shared -s -static-libgcc -o DEComplexDisease.dll tmp.def RcppExports.o sig.o -LC:/extsoft/lib/x64 -LC:/extsoft/lib -LD:/biocbuild/bbs-3.15-bioc/R/bin/x64 -lR
installing to D:/biocbuild/bbs-3.15-bioc/meat/DEComplexDisease.buildbin-libdir/00LOCK-DEComplexDisease/00new/DEComplexDisease/libs/x64
** R
** data
*** moving datasets to lazyload DB
** inst
** byte-compile and prepare package for lazy loading
** help
*** installing help indices
converting help for package 'DEComplexDisease'
finding HTML links ... done
Plot.cluster.module html
Plot.deg html
Plot.deg.specific html
Plot.deg.specific.test html
Plot.seed.module html
ann.er html
bi.deg html
cl html
cluster.mod html
cluster.module html
deg html
deg.spc html
deg.specific html
exp html
module.compare html
module.curve html
module.exact html
module.modeling html
module.overlap html
module.screen html
res.mod1 html
res.mod2 html
seed.mod html
seed.module html
summarize.cluster.module html
summarize.deg.specific html
summarize.seed.module html
** building package indices
** installing vignettes
** testing if installed package can be loaded from temporary location
** testing if installed package can be loaded from final location
** testing if installed package keeps a record of temporary installation path
* MD5 sums
packaged installation of 'DEComplexDisease' as DEComplexDisease_1.15.0.zip
* DONE (DEComplexDisease)