| Back to Multiple platform build/check report for BioC 3.15 |
|
This page was generated on 2022-10-19 13:20:10 -0400 (Wed, 19 Oct 2022).
| Hostname | OS | Arch (*) | R version | Installed pkgs |
|---|---|---|---|---|
| nebbiolo1 | Linux (Ubuntu 20.04.5 LTS) | x86_64 | 4.2.1 (2022-06-23) -- "Funny-Looking Kid" | 4386 |
| palomino3 | Windows Server 2022 Datacenter | x64 | 4.2.1 (2022-06-23 ucrt) -- "Funny-Looking Kid" | 4138 |
| merida1 | macOS 10.14.6 Mojave | x86_64 | 4.2.1 (2022-06-23) -- "Funny-Looking Kid" | 4205 |
| Click on any hostname to see more info about the system (e.g. compilers) (*) as reported by 'uname -p', except on Windows and Mac OS X | ||||
|
To the developers/maintainers of the DEComplexDisease package: - Please allow up to 24 hours (and sometimes 48 hours) for your latest push to git@git.bioconductor.org:packages/DEComplexDisease.git to reflect on this report. See How and When does the builder pull? When will my changes propagate? for more information. - Make sure to use the following settings in order to reproduce any error or warning you see on this page. |
| Package 482/2140 | Hostname | OS / Arch | INSTALL | BUILD | CHECK | BUILD BIN | ||||||||
| DEComplexDisease 1.16.0 (landing page) Guofeng Meng
| nebbiolo1 | Linux (Ubuntu 20.04.5 LTS) / x86_64 | OK | OK | OK | |||||||||
| palomino3 | Windows Server 2022 Datacenter / x64 | OK | OK | OK | OK | |||||||||
| merida1 | macOS 10.14.6 Mojave / x86_64 | OK | OK | OK | OK | |||||||||
| Package: DEComplexDisease |
| Version: 1.16.0 |
| Command: /home/biocbuild/bbs-3.15-bioc/R/bin/R CMD check --install=check:DEComplexDisease.install-out.txt --library=/home/biocbuild/bbs-3.15-bioc/R/library --no-vignettes --timings DEComplexDisease_1.16.0.tar.gz |
| StartedAt: 2022-10-18 19:19:51 -0400 (Tue, 18 Oct 2022) |
| EndedAt: 2022-10-18 19:23:33 -0400 (Tue, 18 Oct 2022) |
| EllapsedTime: 221.2 seconds |
| RetCode: 0 |
| Status: OK |
| CheckDir: DEComplexDisease.Rcheck |
| Warnings: 0 |
##############################################################################
##############################################################################
###
### Running command:
###
### /home/biocbuild/bbs-3.15-bioc/R/bin/R CMD check --install=check:DEComplexDisease.install-out.txt --library=/home/biocbuild/bbs-3.15-bioc/R/library --no-vignettes --timings DEComplexDisease_1.16.0.tar.gz
###
##############################################################################
##############################################################################
* using log directory ‘/home/biocbuild/bbs-3.15-bioc/meat/DEComplexDisease.Rcheck’
* using R version 4.2.1 (2022-06-23)
* using platform: x86_64-pc-linux-gnu (64-bit)
* using session charset: UTF-8
* using option ‘--no-vignettes’
* checking for file ‘DEComplexDisease/DESCRIPTION’ ... OK
* checking extension type ... Package
* this is package ‘DEComplexDisease’ version ‘1.16.0’
* checking package namespace information ... OK
* checking package dependencies ... OK
* checking if this is a source package ... OK
* checking if there is a namespace ... OK
* checking for hidden files and directories ... OK
* checking for portable file names ... OK
* checking for sufficient/correct file permissions ... OK
* checking whether package ‘DEComplexDisease’ can be installed ... OK
* checking installed package size ... OK
* checking package directory ... OK
* checking ‘build’ directory ... OK
* checking DESCRIPTION meta-information ... OK
* checking top-level files ... OK
* checking for left-over files ... OK
* checking index information ... OK
* checking package subdirectories ... OK
* checking R files for non-ASCII characters ... OK
* checking R files for syntax errors ... OK
* checking whether the package can be loaded ... OK
* checking whether the package can be loaded with stated dependencies ... OK
* checking whether the package can be unloaded cleanly ... OK
* checking whether the namespace can be loaded with stated dependencies ... OK
* checking whether the namespace can be unloaded cleanly ... OK
* checking dependencies in R code ... OK
* checking S3 generic/method consistency ... OK
* checking replacement functions ... OK
* checking foreign function calls ... OK
* checking R code for possible problems ... OK
* checking Rd files ... NOTE
prepare_Rd: Plot.cluster.module.Rd:53-55: Dropping empty section \references
prepare_Rd: Plot.deg.specific.test.Rd:43-45: Dropping empty section \references
prepare_Rd: module.curve.Rd:27-29: Dropping empty section \references
prepare_Rd: summarize.cluster.module.Rd:30-32: Dropping empty section \references
prepare_Rd: summarize.seed.module.Rd:31-33: Dropping empty section \references
* checking Rd metadata ... OK
* checking Rd cross-references ... OK
* checking for missing documentation entries ... OK
* checking for code/documentation mismatches ... OK
* checking Rd \usage sections ... OK
* checking Rd contents ... OK
* checking for unstated dependencies in examples ... OK
* checking contents of ‘data’ directory ... OK
* checking data for non-ASCII characters ... OK
* checking LazyData ... OK
* checking data for ASCII and uncompressed saves ... OK
* checking line endings in C/C++/Fortran sources/headers ... OK
* checking compiled code ... NOTE
Note: information on .o files is not available
* checking installed files from ‘inst/doc’ ... OK
* checking files in ‘vignettes’ ... OK
* checking examples ... OK
Examples with CPU (user + system) or elapsed time > 5s
user system elapsed
bi.deg 19.625 0.948 20.576
seed.module 5.011 0.146 5.157
* checking for unstated dependencies in vignettes ... OK
* checking package vignettes in ‘inst/doc’ ... OK
* checking running R code from vignettes ... SKIPPED
* checking re-building of vignette outputs ... SKIPPED
* checking PDF version of manual ... OK
* DONE
Status: 2 NOTEs
See
‘/home/biocbuild/bbs-3.15-bioc/meat/DEComplexDisease.Rcheck/00check.log’
for details.
DEComplexDisease.Rcheck/00install.out
############################################################################## ############################################################################## ### ### Running command: ### ### /home/biocbuild/bbs-3.15-bioc/R/bin/R CMD INSTALL DEComplexDisease ### ############################################################################## ############################################################################## * installing to library ‘/home/biocbuild/bbs-3.15-bioc/R/library’ * installing *source* package ‘DEComplexDisease’ ... ** using staged installation ** libs g++ -std=gnu++14 -I"/home/biocbuild/bbs-3.15-bioc/R/include" -DNDEBUG -I'/home/biocbuild/bbs-3.15-bioc/R/library/Rcpp/include' -I/usr/local/include -fpic -g -O2 -Wall -c RcppExports.cpp -o RcppExports.o g++ -std=gnu++14 -I"/home/biocbuild/bbs-3.15-bioc/R/include" -DNDEBUG -I'/home/biocbuild/bbs-3.15-bioc/R/library/Rcpp/include' -I/usr/local/include -fpic -g -O2 -Wall -c sig.cpp -o sig.o g++ -std=gnu++14 -shared -L/home/biocbuild/bbs-3.15-bioc/R/lib -L/usr/local/lib -o DEComplexDisease.so RcppExports.o sig.o -L/home/biocbuild/bbs-3.15-bioc/R/lib -lR installing to /home/biocbuild/bbs-3.15-bioc/R/library/00LOCK-DEComplexDisease/00new/DEComplexDisease/libs ** R ** data *** moving datasets to lazyload DB ** inst ** byte-compile and prepare package for lazy loading ** help *** installing help indices ** building package indices ** installing vignettes ** testing if installed package can be loaded from temporary location ** checking absolute paths in shared objects and dynamic libraries ** testing if installed package can be loaded from final location ** testing if installed package keeps a record of temporary installation path * DONE (DEComplexDisease)
DEComplexDisease.Rcheck/DEComplexDisease-Ex.timings
| name | user | system | elapsed | |
| Plot.cluster.module | 4.027 | 0.228 | 4.256 | |
| Plot.deg | 0.664 | 0.000 | 0.663 | |
| Plot.deg.specific | 0.408 | 0.000 | 0.409 | |
| Plot.deg.specific.test | 0.427 | 0.024 | 0.451 | |
| Plot.seed.module | 0.313 | 0.000 | 0.312 | |
| bi.deg | 19.625 | 0.948 | 20.576 | |
| cluster.module | 2.120 | 0.164 | 2.285 | |
| deg.specific | 1.983 | 0.016 | 1.999 | |
| module.compare | 0.154 | 0.012 | 0.166 | |
| module.curve | 0.019 | 0.000 | 0.019 | |
| module.exact | 0.001 | 0.000 | 0.002 | |
| module.modeling | 1.525 | 0.095 | 1.620 | |
| module.overlap | 0.325 | 0.004 | 0.329 | |
| module.screen | 0.398 | 0.000 | 0.398 | |
| seed.module | 5.011 | 0.146 | 5.157 | |
| summarize.cluster.module | 0.003 | 0.001 | 0.004 | |
| summarize.deg.specific | 0.007 | 0.000 | 0.007 | |
| summarize.seed.module | 0.005 | 0.000 | 0.005 | |