| Back to Multiple platform build/check report for BioC 3.15 | 
  | 
This page was generated on 2021-12-09 12:34:36 -0500 (Thu, 09 Dec 2021).
| 
To the developers/maintainers of the ClassifyR package: - Please allow up to 24 hours (and sometimes 48 hours) for your latest push to git@git.bioconductor.org:packages/ClassifyR.git to reflect on this report. See How and When does the builder pull? When will my changes propagate? here for more information. - Make sure to use the following settings in order to reproduce any error or warning you see on this page.  | 
| Package 320/2069 | Hostname | OS / Arch | INSTALL | BUILD | CHECK | BUILD BIN | ||||||||
| ClassifyR 2.15.1  (landing page) Dario Strbenac 
  | nebbiolo1 | Linux (Ubuntu 20.04.3 LTS) / x86_64 | OK | OK | OK | |||||||||
| riesling1 | Windows Server 2019 Standard / x64 | OK | OK | OK | OK | |||||||||
| merida1 | macOS 10.14.6 Mojave / x86_64 | OK | OK | OK | OK | |||||||||
| Package: ClassifyR | 
| Version: 2.15.1 | 
| Command: rm -rf ClassifyR.buildbin-libdir && mkdir ClassifyR.buildbin-libdir && D:\biocbuild\bbs-3.15-bioc\R\bin\R.exe CMD INSTALL --build --library=ClassifyR.buildbin-libdir ClassifyR_2.15.1.tar.gz | 
| StartedAt: 2021-12-08 21:45:51 -0500 (Wed, 08 Dec 2021) | 
| EndedAt: 2021-12-08 21:46:46 -0500 (Wed, 08 Dec 2021) | 
| EllapsedTime: 54.3 seconds | 
| RetCode: 0 | 
| Status: OK | 
| PackageFile: ClassifyR_2.15.1.zip | 
| PackageFileSize: 2.189 MiB | 
##############################################################################
##############################################################################
###
### Running command:
###
###   rm -rf ClassifyR.buildbin-libdir && mkdir ClassifyR.buildbin-libdir && D:\biocbuild\bbs-3.15-bioc\R\bin\R.exe CMD INSTALL --build --library=ClassifyR.buildbin-libdir ClassifyR_2.15.1.tar.gz
###
##############################################################################
##############################################################################
* installing *source* package 'ClassifyR' ...
** using staged installation
** R
** data
** inst
** byte-compile and prepare package for lazy loading
** help
*** installing help indices
  converting help for package 'ClassifyR'
    finding HTML links ... done
    ClassifyResult-class                    html  
    finding level-2 HTML links ... done
    DLDAinterface                           html  
    DMDselection                            html  
    EasyHardClassifier-class                html  
    FeatureSetCollection-class              html  
    FeatureSetCollectionOrNULL-class        html  
    KolmogorovSmirnovSelection              html  
    KullbackLeiblerSelection                html  
    MixModelsListsSet-class                 html  
    NSCpredictInterface                     html  
    NSCselectionInterface                   html  
    NSCtrainInterface                       html  
    PredictParams-class                     html  
    ROCplot                                 html  
    ResubstituteParams-class                html  
    SVMinterface                            html  
    SelectParams-class                      html  
    SelectResult-class                      html  
    TrainParams-class                       html  
    TransformParams-class                   html  
    asthmaDataset                           html  
    bartlettSelection                       html  
    calcPerformance                         html  
    characterOrDataFrame-class              html  
    classifyInterface                       html  
    differentMeansSelection                 html  
    distribution                            html  
    dlda-class                              html  
    easyHardClassifier                      html  
REDIRECT:topic	 Previous alias or file overwritten by alias: D:/biocbuild/bbs-3.15-bioc/meat/ClassifyR.buildbin-libdir/00LOCK-ClassifyR/00new/ClassifyR/help/easyHardClassifier.html
    easyHardFeatures                        html  
    edgeRselection                          html  
    edgesToHubNetworks                      html  
    elasticNetFeatures                      html  
    elasticNetGLMinterface                  html  
    featureSetSummary                       html  
    fisherDiscriminant                      html  
    forestFeatures                          html  
    functionOrList-class                    html  
    functionOrNULL-class                    html  
    getLocationsAndScales                   html  
    integerOrNumeric-class                  html  
    interactorDifferences                   html  
    kTSPclassifier                          html  
    knnInterface                            html  
    leveneSelection                         html  
    likelihoodRatioSelection                html  
    limmaSelection                          html  
    listOrCharacterOrNULL-class             html  
    listOrNULL-class                        html  
    mixmodels                               html  
    multnet-class                           html  
    naiveBayesKernel                        html  
    networkCorrelationsSelection            html  
    pairsDifferencesSelection               html  
    pamrtrained-class                       html  
    performancePlot                         html  
    plotFeatureClasses                      html  
    previousSelection                       html  
    previousTrained                         html  
    randomForest-class                      html  
    randomForestInterface                   html  
    rankingPlot                             html  
    runTest                                 html  
    runTests                                html  
    samplesMetricMap                        html  
    selectionPlot                           html  
    subtractFromLocation                    html  
    svm-class                               html  
** building package indices
** installing vignettes
** testing if installed package can be loaded from temporary location
** testing if installed package can be loaded from final location
** testing if installed package keeps a record of temporary installation path
* MD5 sums
packaged installation of 'ClassifyR' as ClassifyR_2.15.1.zip
* DONE (ClassifyR)