| Back to Multiple platform build/check report for BioC 3.15 |
|
This page was generated on 2022-03-18 11:07:11 -0400 (Fri, 18 Mar 2022).
| Hostname | OS | Arch (*) | R version | Installed pkgs |
|---|---|---|---|---|
| nebbiolo1 | Linux (Ubuntu 20.04.4 LTS) | x86_64 | R Under development (unstable) (2022-02-17 r81757) -- "Unsuffered Consequences" | 4334 |
| riesling1 | Windows Server 2019 Standard | x64 | R Under development (unstable) (2021-11-21 r81221) -- "Unsuffered Consequences" | 4097 |
| palomino3 | Windows Server 2022 Datacenter | x64 | R Under development (unstable) (2022-02-17 r81757 ucrt) -- "Unsuffered Consequences" | 4083 |
| merida1 | macOS 10.14.6 Mojave | x86_64 | R Under development (unstable) (2022-03-02 r81842) -- "Unsuffered Consequences" | 4134 |
| Click on any hostname to see more info about the system (e.g. compilers) (*) as reported by 'uname -p', except on Windows and Mac OS X | ||||
|
To the developers/maintainers of the ClassifyR package: - Please allow up to 24 hours (and sometimes 48 hours) for your latest push to git@git.bioconductor.org:packages/ClassifyR.git to reflect on this report. See How and When does the builder pull? When will my changes propagate? here for more information. - Make sure to use the following settings in order to reproduce any error or warning you see on this page. |
| Package 322/2090 | Hostname | OS / Arch | INSTALL | BUILD | CHECK | BUILD BIN | ||||||||
| ClassifyR 2.15.4 (landing page) Dario Strbenac
| nebbiolo1 | Linux (Ubuntu 20.04.4 LTS) / x86_64 | OK | OK | OK | |||||||||
| riesling1 | Windows Server 2019 Standard / x64 | OK | ERROR | skipped | skipped | |||||||||
| palomino3 | Windows Server 2022 Datacenter / x64 | OK | ERROR | skipped | skipped | |||||||||
| merida1 | macOS 10.14.6 Mojave / x86_64 | OK | OK | OK | OK | |||||||||
| Package: ClassifyR |
| Version: 2.15.4 |
| Command: D:\biocbuild\bbs-3.15-bioc\R\bin\R.exe CMD INSTALL ClassifyR |
| StartedAt: 2022-03-17 15:58:26 -0400 (Thu, 17 Mar 2022) |
| EndedAt: 2022-03-17 15:59:53 -0400 (Thu, 17 Mar 2022) |
| EllapsedTime: 87.5 seconds |
| RetCode: 0 |
| Status: OK |
##############################################################################
##############################################################################
###
### Running command:
###
### D:\biocbuild\bbs-3.15-bioc\R\bin\R.exe CMD INSTALL ClassifyR
###
##############################################################################
##############################################################################
* installing to library 'D:/biocbuild/bbs-3.15-bioc/R/library'
* installing *source* package 'ClassifyR' ...
** using staged installation
** R
** data
** inst
** byte-compile and prepare package for lazy loading
** help
*** installing help indices
converting help for package 'ClassifyR'
finding HTML links ... done
BiocParallelParamOrMissing html
ClassifyResult-class html
finding level-2 HTML links ... done
CrossValParams-class html
DLDAinterface html
DMDranking html
DataFrameOrNULL html
FeatureSetCollection-class html
FeatureSetCollectionOrNULL-class html
HuRIdataset html
KolmogorovSmirnovRanking html
KullbackLeiblerRanking html
MixModelsListsSet-class html
ModellingParams-class html
NSCfeatures html
NSCpredictInterface html
NSCtrainInterface html
PredictParams-class html
PredictParamsOrNULL html
ROCplot html
SVMinterface html
SelectParams-class html
SelectParamsOrNULL html
StageParams html
StageParamsOrMissing html
StageParamsOrMissingOrNULL html
TrainParams-class html
TransformParams-class html
TransformParamsOrNULL html
asthmaDataset html
bartlettRanking html
calcPerformance html
characterOrDataFrame-class html
characterOrMissing html
classifyInterface html
differentMeansRanking html
distribution html
dlda-class html
edgeRranking html
edgesToHubNetworks html
elasticNetFeatures html
elasticNetGLMinterface html
featureSetSummary html
fisherDiscriminant html
forestFeatures html
functionOrList-class html
functionOrNULL-class html
getLocationsAndScales html
interactorDifferences html
kTSPclassifier html
knnInterface html
leveneRanking html
likelihoodRatioRanking html
limmaRanking html
listOrNULL-class html
mixmodels html
multnet-class html
naiveBayesKernel html
numericOrMissing html
numericOrNULL html
pairsDifferencesRanking html
pamrtrained-class html
performancePlot html
plotFeatureClasses html
previousSelection html
previousTrained html
quickClassify html
randomForest-class html
randomForestInterface html
rankingPlot html
runTest html
runTests html
samplesMetricMap html
selectionPlot html
subtractFromLocation html
svm-class html
** building package indices
** installing vignettes
** testing if installed package can be loaded from temporary location
** testing if installed package can be loaded from final location
** testing if installed package keeps a record of temporary installation path
* DONE (ClassifyR)
Making 'packages.html' ...Warning in packageDescription(i, lib.loc = lib, fields = "Title", encoding = "UTF-8") :
DESCRIPTION file of package 'slalom' is missing or broken
done