| Back to Multiple platform build/check report for BioC 3.15 |
|
This page was generated on 2022-03-18 11:07:17 -0400 (Fri, 18 Mar 2022).
| Hostname | OS | Arch (*) | R version | Installed pkgs |
|---|---|---|---|---|
| nebbiolo1 | Linux (Ubuntu 20.04.4 LTS) | x86_64 | R Under development (unstable) (2022-02-17 r81757) -- "Unsuffered Consequences" | 4334 |
| riesling1 | Windows Server 2019 Standard | x64 | R Under development (unstable) (2021-11-21 r81221) -- "Unsuffered Consequences" | 4097 |
| palomino3 | Windows Server 2022 Datacenter | x64 | R Under development (unstable) (2022-02-17 r81757 ucrt) -- "Unsuffered Consequences" | 4083 |
| merida1 | macOS 10.14.6 Mojave | x86_64 | R Under development (unstable) (2022-03-02 r81842) -- "Unsuffered Consequences" | 4134 |
| Click on any hostname to see more info about the system (e.g. compilers) (*) as reported by 'uname -p', except on Windows and Mac OS X | ||||
|
To the developers/maintainers of the CSSP package: - Please allow up to 24 hours (and sometimes 48 hours) for your latest push to git@git.bioconductor.org:packages/CSSP.git to reflect on this report. See How and When does the builder pull? When will my changes propagate? here for more information. - Make sure to use the following settings in order to reproduce any error or warning you see on this page. |
| Package 430/2090 | Hostname | OS / Arch | INSTALL | BUILD | CHECK | BUILD BIN | ||||||||
| CSSP 1.33.0 (landing page) Chandler Zuo
| nebbiolo1 | Linux (Ubuntu 20.04.4 LTS) / x86_64 | OK | OK | OK | |||||||||
| riesling1 | Windows Server 2019 Standard / x64 | OK | OK | OK | OK | |||||||||
| palomino3 | Windows Server 2022 Datacenter / x64 | OK | OK | OK | OK | |||||||||
| merida1 | macOS 10.14.6 Mojave / x86_64 | OK | OK | OK | OK | |||||||||
| Package: CSSP |
| Version: 1.33.0 |
| Command: D:\biocbuild\bbs-3.15-bioc\R\bin\R.exe CMD check --no-multiarch --install=check:CSSP.install-out.txt --library=D:\biocbuild\bbs-3.15-bioc\R\library --no-vignettes --timings CSSP_1.33.0.tar.gz |
| StartedAt: 2022-03-17 18:50:31 -0400 (Thu, 17 Mar 2022) |
| EndedAt: 2022-03-17 18:51:26 -0400 (Thu, 17 Mar 2022) |
| EllapsedTime: 55.3 seconds |
| RetCode: 0 |
| Status: OK |
| CheckDir: CSSP.Rcheck |
| Warnings: 0 |
##############################################################################
##############################################################################
###
### Running command:
###
### D:\biocbuild\bbs-3.15-bioc\R\bin\R.exe CMD check --no-multiarch --install=check:CSSP.install-out.txt --library=D:\biocbuild\bbs-3.15-bioc\R\library --no-vignettes --timings CSSP_1.33.0.tar.gz
###
##############################################################################
##############################################################################
* using log directory 'D:/biocbuild/bbs-3.15-bioc/meat/CSSP.Rcheck'
* using R Under development (unstable) (2021-11-21 r81221)
* using platform: x86_64-w64-mingw32 (64-bit)
* using session charset: ISO8859-1
* using option '--no-vignettes'
* checking for file 'CSSP/DESCRIPTION' ... OK
* checking extension type ... Package
* this is package 'CSSP' version '1.33.0'
* checking package namespace information ... OK
* checking package dependencies ... OK
* checking if this is a source package ... OK
* checking if there is a namespace ... OK
* checking for hidden files and directories ... OK
* checking for portable file names ... OK
* checking whether package 'CSSP' can be installed ... OK
* checking installed package size ... OK
* checking package directory ... OK
* checking 'build' directory ... OK
* checking DESCRIPTION meta-information ... OK
* checking top-level files ... OK
* checking for left-over files ... OK
* checking index information ... OK
* checking package subdirectories ... OK
* checking R files for non-ASCII characters ... OK
* checking R files for syntax errors ... OK
* checking whether the package can be loaded ... OK
* checking whether the package can be loaded with stated dependencies ... OK
* checking whether the package can be unloaded cleanly ... OK
* checking whether the namespace can be loaded with stated dependencies ... OK
* checking whether the namespace can be unloaded cleanly ... OK
* checking dependencies in R code ... NOTE
Namespaces in Imports field not imported from:
'methods' 'stats' 'utils'
All declared Imports should be used.
* checking S3 generic/method consistency ... OK
* checking replacement functions ... OK
* checking foreign function calls ... OK
* checking R code for possible problems ... NOTE
.allFit: no visible global function definition for 'quantile'
.allFit: no visible global function definition for 'model.matrix'
.allFit: no visible global function definition for 'glm'
.csspfit : pval.nb.cont.trunc: no visible global function definition
for 'runif'
.csspfit : pval.nb.cont.trunc: no visible global function definition
for 'pnbinom'
.csspfit : pval.nb.cont: no visible global function definition for
'runif'
.csspfit : pval.nb.cont: no visible global function definition for
'pnbinom'
.csspfit : pval.mod.w: no visible global function definition for
'dnbinom'
.csspfit: no visible global function definition for 'pnbinom'
.csspfit: no visible global function definition for 'dnbinom'
.csspfit: no visible global function definition for 'weighted.mean'
.csspfit: no visible global function definition for 'na.omit'
.csspfit: no visible global function definition for 'new'
.gridFit: no visible global function definition for 'quantile'
.gridFit: no visible global function definition for 'model.matrix'
.gridFit: no visible global function definition for 'glm'
.gridFit: no visible global function definition for 'predict.glm'
.nonpaFit: no visible global function definition for 'quantile'
.nonpaFit: no visible global function definition for 'weighted.mean'
createBinData: no visible global function definition for 'read.table'
createBinData: no visible global function definition for 'new'
createBinData: no visible global function definition for 'na.omit'
readBinFile: no visible global function definition for 'read.table'
callpeak,CSSPFit: no visible global function definition for 'pnbinom'
callpeak,CSSPFit: no visible global function definition for 'pgamma'
cssp.power,CSSPFit: no visible global function definition for 'rgamma'
cssp.power,CSSPFit: no visible global function definition for 'rbinom'
cssp.power,CSSPFit: no visible global function definition for 'rpois'
cssp.power,CSSPFit: no visible global function definition for 'pnbinom'
cssp.power,CSSPFit: no visible global function definition for 'na.omit'
cssp.power,CSSPFit: no visible global function definition for 'pgamma'
cssp.power,CSSPFit: no visible global function definition for 'qnbinom'
cssp.power,CSSPFit: no visible global function definition for 'qgamma'
cssp.power,CSSPFit: no visible global function definition for 'runif'
cssp.power,CSSPFit: no visible global function definition for
'weighted.mean'
cssp.sim,CSSPFit: no visible global function definition for 'rgamma'
cssp.sim,CSSPFit: no visible global function definition for 'rbinom'
cssp.sim,CSSPFit: no visible global function definition for 'runif'
fit.freq,CSSPFit: no visible global function definition for 'quantile'
fit.freq,CSSPFit : <anonymous>: no visible global function definition
for 'dnbinom'
pBBT,CSSPFit: no visible global function definition for 'pgamma'
qBBT,CSSPFit: no visible global function definition for 'quantile'
qBBT,CSSPFit: no visible global function definition for 'uniroot'
show,CSSPFit: no visible global function definition for 'showClass'
Undefined global functions or variables:
dnbinom glm model.matrix na.omit new pgamma pnbinom predict.glm
qgamma qnbinom quantile rbinom read.table rgamma rpois runif
showClass uniroot weighted.mean
Consider adding
importFrom("methods", "new", "showClass")
importFrom("stats", "dnbinom", "glm", "model.matrix", "na.omit",
"pgamma", "pnbinom", "predict.glm", "qgamma", "qnbinom",
"quantile", "rbinom", "rgamma", "rpois", "runif", "uniroot",
"weighted.mean")
importFrom("utils", "read.table")
to your NAMESPACE file (and ensure that your DESCRIPTION Imports field
contains 'methods').
* checking Rd files ... OK
* checking Rd metadata ... OK
* checking Rd cross-references ... OK
* checking for missing documentation entries ... OK
* checking for code/documentation mismatches ... OK
* checking Rd \usage sections ... OK
* checking Rd contents ... OK
* checking for unstated dependencies in examples ... OK
* checking contents of 'data' directory ... OK
* checking data for non-ASCII characters ... OK
* checking data for ASCII and uncompressed saves ... OK
* checking line endings in C/C++/Fortran sources/headers ... OK
* checking compiled code ... NOTE
File 'CSSP/libs/x64/CSSP.dll':
Found 'rand', possibly from 'rand' (C)
Object: 'gridSample.o'
Found 'srand', possibly from 'srand' (C)
Object: 'gridSample.o'
Compiled code should not call entry points which might terminate R nor
write to stdout/stderr instead of to the console, nor use Fortran I/O
nor system RNGs.
See 'Writing portable packages' in the 'Writing R Extensions' manual.
* checking files in 'vignettes' ... OK
* checking examples ... OK
Examples with CPU (user + system) or elapsed time > 5s
user system elapsed
cssp.power-methods 13.75 1.3 15.05
* checking for unstated dependencies in 'tests' ... OK
* checking tests ...
Running 'run_tests.R'
OK
* checking for unstated dependencies in vignettes ... OK
* checking package vignettes in 'inst/doc' ... OK
* checking running R code from vignettes ... SKIPPED
* checking re-building of vignette outputs ... SKIPPED
* checking PDF version of manual ... OK
* DONE
Status: 3 NOTEs
See
'D:/biocbuild/bbs-3.15-bioc/meat/CSSP.Rcheck/00check.log'
for details.
CSSP.Rcheck/00install.out
##############################################################################
##############################################################################
###
### Running command:
###
### D:\biocbuild\bbs-3.15-bioc\R\bin\R.exe CMD INSTALL CSSP
###
##############################################################################
##############################################################################
* installing to library 'D:/biocbuild/bbs-3.15-bioc/R/library'
* installing *source* package 'CSSP' ...
** using staged installation
** libs
"C:/rtools40/mingw64/bin/"gcc -I"D:/biocbuild/bbs-3.15-bioc/R/include" -DNDEBUG -I"C:/extsoft/include" -O2 -Wall -std=gnu99 -mfpmath=sse -msse2 -mstackrealign -fno-reorder-blocks-and-partition -c bincount.c -o bincount.o
"C:/rtools40/mingw64/bin/"gcc -I"D:/biocbuild/bbs-3.15-bioc/R/include" -DNDEBUG -I"C:/extsoft/include" -O2 -Wall -std=gnu99 -mfpmath=sse -msse2 -mstackrealign -fno-reorder-blocks-and-partition -c binpower.c -o binpower.o
"C:/rtools40/mingw64/bin/"gcc -I"D:/biocbuild/bbs-3.15-bioc/R/include" -DNDEBUG -I"C:/extsoft/include" -O2 -Wall -std=gnu99 -mfpmath=sse -msse2 -mstackrealign -fno-reorder-blocks-and-partition -c gridLogMean.c -o gridLogMean.o
"C:/rtools40/mingw64/bin/"gcc -I"D:/biocbuild/bbs-3.15-bioc/R/include" -DNDEBUG -I"C:/extsoft/include" -O2 -Wall -std=gnu99 -mfpmath=sse -msse2 -mstackrealign -fno-reorder-blocks-and-partition -c gridMGC.c -o gridMGC.o
"C:/rtools40/mingw64/bin/"gcc -I"D:/biocbuild/bbs-3.15-bioc/R/include" -DNDEBUG -I"C:/extsoft/include" -O2 -Wall -std=gnu99 -mfpmath=sse -msse2 -mstackrealign -fno-reorder-blocks-and-partition -c gridMean.c -o gridMean.o
gridMean.c: In function 'gridMGCmean_c':
gridMean.c:10:63: warning: unused variable 'counter' [-Wunused-variable]
R_len_t ng=REAL(ngrid)[0],k,i,j,l,ind[4],n=length(map),newG,counter;
^~~~~~~
gridMean.c: In function 'gridMmean_c':
gridMean.c:177:63: warning: unused variable 'counter' [-Wunused-variable]
R_len_t ng=REAL(ngrid)[0],k,i,j,l,ind[2],n=length(map),newG,counter;
^~~~~~~
"C:/rtools40/mingw64/bin/"gcc -I"D:/biocbuild/bbs-3.15-bioc/R/include" -DNDEBUG -I"C:/extsoft/include" -O2 -Wall -std=gnu99 -mfpmath=sse -msse2 -mstackrealign -fno-reorder-blocks-and-partition -c gridMode.c -o gridMode.o
"C:/rtools40/mingw64/bin/"gcc -I"D:/biocbuild/bbs-3.15-bioc/R/include" -DNDEBUG -I"C:/extsoft/include" -O2 -Wall -std=gnu99 -mfpmath=sse -msse2 -mstackrealign -fno-reorder-blocks-and-partition -c gridNonpa.c -o gridNonpa.o
"C:/rtools40/mingw64/bin/"gcc -I"D:/biocbuild/bbs-3.15-bioc/R/include" -DNDEBUG -I"C:/extsoft/include" -O2 -Wall -std=gnu99 -mfpmath=sse -msse2 -mstackrealign -fno-reorder-blocks-and-partition -c gridSample.c -o gridSample.o
"C:/rtools40/mingw64/bin/"gcc -I"D:/biocbuild/bbs-3.15-bioc/R/include" -DNDEBUG -I"C:/extsoft/include" -O2 -Wall -std=gnu99 -mfpmath=sse -msse2 -mstackrealign -fno-reorder-blocks-and-partition -c tag2bin.c -o tag2bin.o
C:/rtools40/mingw64/bin/gcc -shared -s -static-libgcc -o CSSP.dll tmp.def bincount.o binpower.o gridLogMean.o gridMGC.o gridMean.o gridMode.o gridNonpa.o gridSample.o tag2bin.o -LC:/extsoft/lib/x64 -LC:/extsoft/lib -LD:/biocbuild/bbs-3.15-bioc/R/bin/x64 -lR
installing to D:/biocbuild/bbs-3.15-bioc/R/library/00LOCK-CSSP/00new/CSSP/libs/x64
** R
** data
** inst
** byte-compile and prepare package for lazy loading
** help
*** installing help indices
converting help for package 'CSSP'
finding HTML links ... done
BinData-class html
CSSPFit-class html
bin.data html
bindata.chr1 html
bindcount html
bindcount.chr html
bindpos html
callpeak-methods html
createBinData html
cssp.fit-methods html
cssp.power-methods html
cssp.sim-methods html
fit.freq-methods html
pBBT-methods html
peakcount html
peakcount.chr html
peakpos html
qBBT-methods html
readBinFile html
sampleFit html
tag2bin html
tag2bin.chr html
tagdat_chip html
tagdat_input html
** building package indices
** installing vignettes
** testing if installed package can be loaded from temporary location
** testing if installed package can be loaded from final location
** testing if installed package keeps a record of temporary installation path
* DONE (CSSP)
Making 'packages.html' ...Warning in packageDescription(i, lib.loc = lib, fields = "Title", encoding = "UTF-8") :
DESCRIPTION file of package 'Rsubread' is missing or broken
done
CSSP.Rcheck/tests/run_tests.Rout
R Under development (unstable) (2021-11-21 r81221) -- "Unsuffered Consequences" Copyright (C) 2021 The R Foundation for Statistical Computing Platform: x86_64-w64-mingw32/x64 (64-bit) R is free software and comes with ABSOLUTELY NO WARRANTY. You are welcome to redistribute it under certain conditions. Type 'license()' or 'licence()' for distribution details. R is a collaborative project with many contributors. Type 'contributors()' for more information and 'citation()' on how to cite R or R packages in publications. Type 'demo()' for some demos, 'help()' for on-line help, or 'help.start()' for an HTML browser interface to help. Type 'q()' to quit R. > # -------------------------------------------------------------- > # © 2011 Winged Foot Capital Research, LLC - All rights reserved > # author: Suraj Gupta <suraj@wingedfootcapital.com> > # -------------------------------------------------------------- > > library( "testthat" ) > > # convert all warnings to errors > options( warn = 1 ) > > # run tests > # test_package( "CSSP" ) > test_check( "CSSP" ) Loading required package: CSSP [ FAIL 0 | WARN 6 | SKIP 0 | PASS 56 ] [ FAIL 0 | WARN 6 | SKIP 0 | PASS 56 ] > > proc.time() user system elapsed 3.10 0.23 3.48
CSSP.Rcheck/CSSP-Ex.timings
| name | user | system | elapsed | |
| CSSPFit-class | 0 | 0 | 0 | |
| bindcount | 0.1 | 0.0 | 0.1 | |
| bindcount.chr | 0.02 | 0.00 | 0.02 | |
| callpeak-methods | 0.01 | 0.00 | 0.01 | |
| createBinData | 0.25 | 0.04 | 0.33 | |
| cssp.fit-methods | 3.05 | 0.11 | 3.15 | |
| cssp.power-methods | 13.75 | 1.30 | 15.05 | |
| cssp.sim-methods | 0.00 | 0.02 | 0.02 | |
| fit.freq-methods | 0.15 | 0.03 | 0.18 | |
| pBBT-methods | 0 | 0 | 0 | |
| peakcount | 0.1 | 0.0 | 0.1 | |
| peakcount.chr | 0.01 | 0.00 | 0.01 | |
| qBBT-methods | 0.02 | 0.00 | 0.02 | |
| readBinFile | 0.01 | 0.00 | 0.03 | |
| tag2bin | 0.02 | 0.00 | 0.02 | |
| tag2bin.chr | 0 | 0 | 0 | |