| Back to Multiple platform build/check report for BioC 3.15 | 
 | 
This page was generated on 2022-10-19 13:20:09 -0400 (Wed, 19 Oct 2022).
| Hostname | OS | Arch (*) | R version | Installed pkgs | 
|---|---|---|---|---|
| nebbiolo1 | Linux (Ubuntu 20.04.5 LTS) | x86_64 | 4.2.1 (2022-06-23) -- "Funny-Looking Kid" | 4386 | 
| palomino3 | Windows Server 2022 Datacenter | x64 | 4.2.1 (2022-06-23 ucrt) -- "Funny-Looking Kid" | 4138 | 
| merida1 | macOS 10.14.6 Mojave | x86_64 | 4.2.1 (2022-06-23) -- "Funny-Looking Kid" | 4205 | 
| Click on any hostname to see more info about the system (e.g. compilers) (*) as reported by 'uname -p', except on Windows and Mac OS X | ||||
| To the developers/maintainers of the CSSP package: - Please allow up to 24 hours (and sometimes 48 hours) for your latest push to git@git.bioconductor.org:packages/CSSP.git to reflect on this report. See How and When does the builder pull? When will my changes propagate? for more information. - Make sure to use the following settings in order to reproduce any error or warning you see on this page. | 
| Package 442/2140 | Hostname | OS / Arch | INSTALL | BUILD | CHECK | BUILD BIN | ||||||||
| CSSP 1.34.0  (landing page) Chandler Zuo 
 | nebbiolo1 | Linux (Ubuntu 20.04.5 LTS) / x86_64 | OK | OK | OK |  | ||||||||
| palomino3 | Windows Server 2022 Datacenter / x64 | OK | OK | OK | OK |  | ||||||||
| merida1 | macOS 10.14.6 Mojave / x86_64 | OK | OK | OK | OK |  | ||||||||
| Package: CSSP | 
| Version: 1.34.0 | 
| Command: /home/biocbuild/bbs-3.15-bioc/R/bin/R CMD INSTALL CSSP | 
| StartedAt: 2022-10-18 15:12:39 -0400 (Tue, 18 Oct 2022) | 
| EndedAt: 2022-10-18 15:12:49 -0400 (Tue, 18 Oct 2022) | 
| EllapsedTime: 10.5 seconds | 
| RetCode: 0 | 
| Status: OK | 
##############################################################################
##############################################################################
###
### Running command:
###
###   /home/biocbuild/bbs-3.15-bioc/R/bin/R CMD INSTALL CSSP
###
##############################################################################
##############################################################################
* installing to library ‘/home/biocbuild/bbs-3.15-bioc/R/library’
* installing *source* package ‘CSSP’ ...
** using staged installation
** libs
gcc -I"/home/biocbuild/bbs-3.15-bioc/R/include" -DNDEBUG   -I/usr/local/include   -fpic  -g -O2  -Wall -c bincount.c -o bincount.o
gcc -I"/home/biocbuild/bbs-3.15-bioc/R/include" -DNDEBUG   -I/usr/local/include   -fpic  -g -O2  -Wall -c binpower.c -o binpower.o
gcc -I"/home/biocbuild/bbs-3.15-bioc/R/include" -DNDEBUG   -I/usr/local/include   -fpic  -g -O2  -Wall -c gridLogMean.c -o gridLogMean.o
gcc -I"/home/biocbuild/bbs-3.15-bioc/R/include" -DNDEBUG   -I/usr/local/include   -fpic  -g -O2  -Wall -c gridMGC.c -o gridMGC.o
gcc -I"/home/biocbuild/bbs-3.15-bioc/R/include" -DNDEBUG   -I/usr/local/include   -fpic  -g -O2  -Wall -c gridMean.c -o gridMean.o
gridMean.c: In function ‘gridMGCmean_c’:
gridMean.c:10:63: warning: unused variable ‘counter’ [-Wunused-variable]
   10 |   R_len_t ng=REAL(ngrid)[0],k,i,j,l,ind[4],n=length(map),newG,counter;
      |                                                               ^~~~~~~
gridMean.c: In function ‘gridMmean_c’:
gridMean.c:177:63: warning: unused variable ‘counter’ [-Wunused-variable]
  177 |   R_len_t ng=REAL(ngrid)[0],k,i,j,l,ind[2],n=length(map),newG,counter;
      |                                                               ^~~~~~~
gcc -I"/home/biocbuild/bbs-3.15-bioc/R/include" -DNDEBUG   -I/usr/local/include   -fpic  -g -O2  -Wall -c gridMode.c -o gridMode.o
gcc -I"/home/biocbuild/bbs-3.15-bioc/R/include" -DNDEBUG   -I/usr/local/include   -fpic  -g -O2  -Wall -c gridNonpa.c -o gridNonpa.o
gcc -I"/home/biocbuild/bbs-3.15-bioc/R/include" -DNDEBUG   -I/usr/local/include   -fpic  -g -O2  -Wall -c gridSample.c -o gridSample.o
gcc -I"/home/biocbuild/bbs-3.15-bioc/R/include" -DNDEBUG   -I/usr/local/include   -fpic  -g -O2  -Wall -c tag2bin.c -o tag2bin.o
gcc -shared -L/home/biocbuild/bbs-3.15-bioc/R/lib -L/usr/local/lib -o CSSP.so bincount.o binpower.o gridLogMean.o gridMGC.o gridMean.o gridMode.o gridNonpa.o gridSample.o tag2bin.o -L/home/biocbuild/bbs-3.15-bioc/R/lib -lR
installing to /home/biocbuild/bbs-3.15-bioc/R/library/00LOCK-CSSP/00new/CSSP/libs
** R
** data
** inst
** byte-compile and prepare package for lazy loading
** help
*** installing help indices
** building package indices
** installing vignettes
** testing if installed package can be loaded from temporary location
** checking absolute paths in shared objects and dynamic libraries
** testing if installed package can be loaded from final location
** testing if installed package keeps a record of temporary installation path
* DONE (CSSP)