Back to Multiple platform build/check report for BioC 3.15 |
|
This page was generated on 2022-03-18 11:06:55 -0400 (Fri, 18 Mar 2022).
Hostname | OS | Arch (*) | R version | Installed pkgs |
---|---|---|---|---|
nebbiolo1 | Linux (Ubuntu 20.04.4 LTS) | x86_64 | R Under development (unstable) (2022-02-17 r81757) -- "Unsuffered Consequences" | 4334 |
riesling1 | Windows Server 2019 Standard | x64 | R Under development (unstable) (2021-11-21 r81221) -- "Unsuffered Consequences" | 4097 |
palomino3 | Windows Server 2022 Datacenter | x64 | R Under development (unstable) (2022-02-17 r81757 ucrt) -- "Unsuffered Consequences" | 4083 |
merida1 | macOS 10.14.6 Mojave | x86_64 | R Under development (unstable) (2022-03-02 r81842) -- "Unsuffered Consequences" | 4134 |
Click on any hostname to see more info about the system (e.g. compilers) (*) as reported by 'uname -p', except on Windows and Mac OS X |
To the developers/maintainers of the AnnotationDbi package: - Please allow up to 24 hours (and sometimes 48 hours) for your latest push to git@git.bioconductor.org:packages/AnnotationDbi.git to reflect on this report. See How and When does the builder pull? When will my changes propagate? here for more information. - Make sure to use the following settings in order to reproduce any error or warning you see on this page. |
Package 57/2090 | Hostname | OS / Arch | INSTALL | BUILD | CHECK | BUILD BIN | ||||||||
AnnotationDbi 1.57.1 (landing page) Bioconductor Package Maintainer
| nebbiolo1 | Linux (Ubuntu 20.04.4 LTS) / x86_64 | OK | OK | OK | ![]() | ||||||||
riesling1 | Windows Server 2019 Standard / x64 | OK | OK | OK | OK | |||||||||
palomino3 | Windows Server 2022 Datacenter / x64 | OK | OK | OK | OK | ![]() | ||||||||
merida1 | macOS 10.14.6 Mojave / x86_64 | OK | OK | OK | OK | ![]() | ||||||||
Package: AnnotationDbi |
Version: 1.57.1 |
Command: D:\biocbuild\bbs-3.15-bioc\R\bin\R.exe CMD check --no-multiarch --install=check:AnnotationDbi.install-out.txt --library=D:\biocbuild\bbs-3.15-bioc\R\library --no-vignettes --timings AnnotationDbi_1.57.1.tar.gz |
StartedAt: 2022-03-17 18:26:22 -0400 (Thu, 17 Mar 2022) |
EndedAt: 2022-03-17 18:29:46 -0400 (Thu, 17 Mar 2022) |
EllapsedTime: 203.7 seconds |
RetCode: 0 |
Status: OK |
CheckDir: AnnotationDbi.Rcheck |
Warnings: 0 |
############################################################################## ############################################################################## ### ### Running command: ### ### D:\biocbuild\bbs-3.15-bioc\R\bin\R.exe CMD check --no-multiarch --install=check:AnnotationDbi.install-out.txt --library=D:\biocbuild\bbs-3.15-bioc\R\library --no-vignettes --timings AnnotationDbi_1.57.1.tar.gz ### ############################################################################## ############################################################################## * using log directory 'D:/biocbuild/bbs-3.15-bioc/meat/AnnotationDbi.Rcheck' * using R Under development (unstable) (2021-11-21 r81221) * using platform: x86_64-w64-mingw32 (64-bit) * using session charset: ISO8859-1 * using option '--no-vignettes' * checking for file 'AnnotationDbi/DESCRIPTION' ... OK * this is package 'AnnotationDbi' version '1.57.1' * package encoding: UTF-8 * checking package namespace information ... OK * checking package dependencies ... OK * checking if this is a source package ... OK * checking if there is a namespace ... OK * checking for hidden files and directories ... OK * checking for portable file names ... OK * checking whether package 'AnnotationDbi' can be installed ... OK * checking installed package size ... NOTE installed size is 8.9Mb sub-directories of 1Mb or more: extdata 6.0Mb * checking package directory ... OK * checking 'build' directory ... OK * checking DESCRIPTION meta-information ... OK * checking top-level files ... OK * checking for left-over files ... OK * checking index information ... OK * checking package subdirectories ... OK * checking R files for non-ASCII characters ... OK * checking R files for syntax errors ... OK * checking whether the package can be loaded ... OK * checking whether the package can be loaded with stated dependencies ... OK * checking whether the package can be unloaded cleanly ... OK * checking whether the namespace can be loaded with stated dependencies ... OK * checking whether the namespace can be unloaded cleanly ... OK * checking dependencies in R code ... OK * checking S3 generic/method consistency ... OK * checking replacement functions ... OK * checking foreign function calls ... OK * checking R code for possible problems ... NOTE createORGANISMSeeds: no visible global function definition for 'makeAnnDbMapSeeds' Undefined global functions or variables: makeAnnDbMapSeeds * checking Rd files ... OK * checking Rd metadata ... OK * checking Rd cross-references ... OK * checking for missing documentation entries ... OK * checking for code/documentation mismatches ... OK * checking Rd \usage sections ... OK * checking Rd contents ... OK * checking for unstated dependencies in examples ... OK * checking files in 'vignettes' ... OK * checking examples ... OK Examples with CPU (user + system) or elapsed time > 5s user system elapsed AnnDbPkg-checker 31.9 1.08 35.03 * checking for unstated dependencies in 'tests' ... OK * checking tests ... Running 'AnnotationDbi_unit_tests.R' OK * checking for unstated dependencies in vignettes ... OK * checking package vignettes in 'inst/doc' ... OK * checking running R code from vignettes ... SKIPPED * checking re-building of vignette outputs ... SKIPPED * checking PDF version of manual ... OK * DONE Status: 2 NOTEs See 'D:/biocbuild/bbs-3.15-bioc/meat/AnnotationDbi.Rcheck/00check.log' for details.
AnnotationDbi.Rcheck/00install.out
############################################################################## ############################################################################## ### ### Running command: ### ### D:\biocbuild\bbs-3.15-bioc\R\bin\R.exe CMD INSTALL AnnotationDbi ### ############################################################################## ############################################################################## * installing to library 'D:/biocbuild/bbs-3.15-bioc/R/library' * installing *source* package 'AnnotationDbi' ... ** using staged installation ** R ** inst ** byte-compile and prepare package for lazy loading Creating a new generic function for 'packageName' in package 'AnnotationDbi' Creating a generic function for 'ls' from package 'base' in package 'AnnotationDbi' Creating a generic function for 'eapply' from package 'base' in package 'AnnotationDbi' Creating a generic function for 'exists' from package 'base' in package 'AnnotationDbi' Creating a generic function for 'sample' from package 'base' in package 'AnnotationDbi' ** help *** installing help indices converting help for package 'AnnotationDbi' finding HTML links ... done AnnDbObj-class html AnnDbPkg-checker html AnnotationDb-class html AnnotationDbi-internals html Bimap-direction html Bimap-envirAPI html Bimap-keys html Bimap-toTable html Bimap html BimapFiltering html BimapFormatting html GOColsAndKeytypes html GOFrame html GOTerms-class html REDIRECT:topic Previous alias or file overwritten by alias: D:/biocbuild/bbs-3.15-bioc/R/library/00LOCK-AnnotationDbi/00new/AnnotationDbi/help/Term.html REDIRECT:topic Previous alias or file overwritten by alias: D:/biocbuild/bbs-3.15-bioc/R/library/00LOCK-AnnotationDbi/00new/AnnotationDbi/help/Ontology.html REDIRECT:topic Previous alias or file overwritten by alias: D:/biocbuild/bbs-3.15-bioc/R/library/00LOCK-AnnotationDbi/00new/AnnotationDbi/help/Definition.html KEGGFrame html colsAndKeytypes html createSimpleBimap html inpIDMapper html makeGOGraph html make_eg_to_go_map html orgPackageName html organismKEGGFrame html print.probetable html toSQLStringSet html unlist2 html ** building package indices ** installing vignettes ** testing if installed package can be loaded from temporary location ** testing if installed package can be loaded from final location ** testing if installed package keeps a record of temporary installation path * DONE (AnnotationDbi) Making 'packages.html' ... done
AnnotationDbi.Rcheck/tests/AnnotationDbi_unit_tests.Rout
R Under development (unstable) (2021-11-21 r81221) -- "Unsuffered Consequences" Copyright (C) 2021 The R Foundation for Statistical Computing Platform: x86_64-w64-mingw32/x64 (64-bit) R is free software and comes with ABSOLUTELY NO WARRANTY. You are welcome to redistribute it under certain conditions. Type 'license()' or 'licence()' for distribution details. R is a collaborative project with many contributors. Type 'contributors()' for more information and 'citation()' on how to cite R or R packages in publications. Type 'demo()' for some demos, 'help()' for on-line help, or 'help.start()' for an HTML browser interface to help. Type 'q()' to quit R. > require("AnnotationDbi") || stop("unable to load AnnotationDbi package") Loading required package: AnnotationDbi Loading required package: stats4 Loading required package: BiocGenerics Attaching package: 'BiocGenerics' The following objects are masked from 'package:stats': IQR, mad, sd, var, xtabs The following objects are masked from 'package:base': Filter, Find, Map, Position, Reduce, anyDuplicated, append, as.data.frame, basename, cbind, colnames, dirname, do.call, duplicated, eval, evalq, get, grep, grepl, intersect, is.unsorted, lapply, mapply, match, mget, order, paste, pmax, pmax.int, pmin, pmin.int, rank, rbind, rownames, sapply, setdiff, sort, table, tapply, union, unique, unsplit, which.max, which.min Loading required package: Biobase Welcome to Bioconductor Vignettes contain introductory material; view with 'browseVignettes()'. To cite Bioconductor, see 'citation("Biobase")', and for packages 'citation("pkgname")'. Loading required package: IRanges Loading required package: S4Vectors Attaching package: 'S4Vectors' The following objects are masked from 'package:base': I, expand.grid, unname Attaching package: 'IRanges' The following object is masked from 'package:grDevices': windows [1] TRUE > > AnnotationDbi:::.test() Loading required package: org.Hs.eg.db 'select()' returned 1:1 mapping between keys and columns 'select()' returned 1:many mapping between keys and columns 'select()' returned 1:1 mapping between keys and columns 'select()' returned 1:many mapping between keys and columns 'select()' returned 1:many mapping between keys and columns 'select()' returned 1:many mapping between keys and columns 'select()' returned 1:many mapping between keys and columns 'select()' returned 1:many mapping between keys and columns 'select()' returned 1:many mapping between keys and columns 'select()' returned 1:many mapping between keys and columns Loading required package: RSQLite Loading required package: org.At.tair.db Loading required package: org.Sc.sgd.db Loading required package: GO.db Loading required package: hgu95av2.db 'select()' returned many:many mapping between keys and columns 'select()' returned 1:many mapping between keys and columns 'select()' returned 1:1 mapping between keys and columns 'select()' returned 1:1 mapping between keys and columns 'select()' returned many:1 mapping between keys and columns 'select()' returned 1:1 mapping between keys and columns 'select()' returned many:1 mapping between keys and columns 'select()' returned 1:1 mapping between keys and columns 'select()' returned many:1 mapping between keys and columns 'select()' returned 1:many mapping between keys and columns 'select()' returned 1:many mapping between keys and columns 'select()' returned 1:many mapping between keys and columns 'select()' returned 1:many mapping between keys and columns 'select()' returned 1:1 mapping between keys and columns 'select()' returned 1:1 mapping between keys and columns 'select()' returned 1:1 mapping between keys and columns 'select()' returned 1:1 mapping between keys and columns 'select()' returned 1:1 mapping between keys and columns 'select()' returned 1:1 mapping between keys and columns 'select()' returned 1:many mapping between keys and columns 'select()' returned 1:many mapping between keys and columns 'select()' returned 1:many mapping between keys and columns 'select()' returned 1:many mapping between keys and columns 'select()' returned 1:many mapping between keys and columns 'select()' returned 1:1 mapping between keys and columns Warning: You have selected the following columns that can have a many to one relationship with the primary key: ACCNUM, ALIAS, ENSEMBL, ENSEMBLPROT, ENSEMBLTRANS, ENZYME, EVIDENCE, EVIDENCEALL, GO, GOALL, IPI, MAP, OMIM, ONTOLOGY, ONTOLOGYALL, PATH, PFAM, PMID, PROSITE, REFSEQ, UCSCKG, UNIPROT . Because you have selected more than a few such columns there is a risk that this selection may balloon up into a very large result as the number of rows returned multiplies accordingly. To experience smaller/more manageable results and faster retrieval times, you might want to consider selecting these columns separately. 'select()' returned 1:many mapping between keys and columns 'select()' returned 1:1 mapping between keys and columns 'select()' returned 1:many mapping between keys and columns 'select()' returned 1:many mapping between keys and columns 'select()' returned 1:many mapping between keys and columns 'select()' returned 1:1 mapping between keys and columns 'select()' returned many:1 mapping between keys and columns 'select()' returned 1:many mapping between keys and columns 'select()' returned many:1 mapping between keys and columns 'select()' returned 1:1 mapping between keys and columns 'select()' returned many:many mapping between keys and columns 'select()' returned 1:1 mapping between keys and columns 'select()' returned 1:1 mapping between keys and columns 'select()' returned 1:many mapping between keys and columns 'select()' returned 1:1 mapping between keys and columns 'select()' returned 1:1 mapping between keys and columns 'select()' returned 1:1 mapping between keys and columns 'select()' returned 1:many mapping between keys and columns Loading required package: reactome.db 'select()' returned 1:many mapping between keys and columns 'select()' returned 1:1 mapping between keys and columns 'select()' returned 1:1 mapping between keys and columns 'select()' returned 1:many mapping between keys and columns 'select()' returned 1:many mapping between keys and columns RUNIT TEST PROTOCOL -- Thu Mar 17 18:29:35 2022 *********************************************** Number of test functions: 63 Number of errors: 0 Number of failures: 0 1 Test Suite : AnnotationDbi RUnit Tests - 63 test functions, 0 errors, 0 failures Number of test functions: 63 Number of errors: 0 Number of failures: 0 Warning messages: 1: In .local(x, ...) : returned vector has duplicated names 2: In .local(x, ...) : returned vector has duplicated names 3: call dbDisconnect() when finished working with a connection 4: In .deprecatedColsMessage() : Accessing gene location information via 'CHR','CHRLOC','CHRLOCEND' is deprecated. Please use a range based accessor like genes(), or select() with columns values like TXCHROM and TXSTART on a TxDb or OrganismDb object instead. 5: In .deprecatedColsMessage() : Accessing gene location information via 'CHR','CHRLOC','CHRLOCEND' is deprecated. Please use a range based accessor like genes(), or select() with columns values like TXCHROM and TXSTART on a TxDb or OrganismDb object instead. 6: In .deprecatedColsMessage() : Accessing gene location information via 'CHR','CHRLOC','CHRLOCEND' is deprecated. Please use a range based accessor like genes(), or select() with columns values like TXCHROM and TXSTART on a TxDb or OrganismDb object instead. > > proc.time() user system elapsed 44.62 5.21 55.57
AnnotationDbi.Rcheck/AnnotationDbi-Ex.timings
name | user | system | elapsed | |
AnnDbObj-class | 0.27 | 0.03 | 0.30 | |
AnnDbPkg-checker | 31.90 | 1.08 | 35.03 | |
AnnotationDb-class | 1.45 | 0.34 | 1.80 | |
Bimap-direction | 2.05 | 1.18 | 3.22 | |
Bimap-envirAPI | 0.5 | 0.4 | 0.9 | |
Bimap-keys | 0.50 | 0.06 | 0.56 | |
Bimap-toTable | 1.49 | 0.21 | 1.88 | |
Bimap | 1.18 | 0.51 | 1.70 | |
BimapFiltering | 0.11 | 0.00 | 0.11 | |
BimapFormatting | 0.21 | 0.02 | 0.22 | |
GOColsAndKeytypes | 0.11 | 0.00 | 0.11 | |
GOFrame | 1.00 | 0.55 | 1.55 | |
GOTerms-class | 0 | 0 | 0 | |
KEGGFrame | 0.22 | 0.00 | 2.04 | |
colsAndKeytypes | 0.09 | 0.03 | 0.13 | |
createSimpleBimap | 0.06 | 0.00 | 0.07 | |
inpIDMapper | 0 | 0 | 0 | |
makeGOGraph | 0.16 | 0.02 | 0.17 | |
make_eg_to_go_map | 0.09 | 0.01 | 0.11 | |
organismKEGGFrame | 0.02 | 0.03 | 3.75 | |
print.probetable | 0.36 | 0.25 | 0.61 | |
toSQLStringSet | 0 | 0 | 0 | |
unlist2 | 0.09 | 0.02 | 0.11 | |