| Back to Multiple platform build/check report for BioC 3.15 |
|
This page was generated on 2022-03-18 11:06:55 -0400 (Fri, 18 Mar 2022).
| Hostname | OS | Arch (*) | R version | Installed pkgs |
|---|---|---|---|---|
| nebbiolo1 | Linux (Ubuntu 20.04.4 LTS) | x86_64 | R Under development (unstable) (2022-02-17 r81757) -- "Unsuffered Consequences" | 4334 |
| riesling1 | Windows Server 2019 Standard | x64 | R Under development (unstable) (2021-11-21 r81221) -- "Unsuffered Consequences" | 4097 |
| palomino3 | Windows Server 2022 Datacenter | x64 | R Under development (unstable) (2022-02-17 r81757 ucrt) -- "Unsuffered Consequences" | 4083 |
| merida1 | macOS 10.14.6 Mojave | x86_64 | R Under development (unstable) (2022-03-02 r81842) -- "Unsuffered Consequences" | 4134 |
| Click on any hostname to see more info about the system (e.g. compilers) (*) as reported by 'uname -p', except on Windows and Mac OS X | ||||
|
To the developers/maintainers of the AnnotationDbi package: - Please allow up to 24 hours (and sometimes 48 hours) for your latest push to git@git.bioconductor.org:packages/AnnotationDbi.git to reflect on this report. See How and When does the builder pull? When will my changes propagate? here for more information. - Make sure to use the following settings in order to reproduce any error or warning you see on this page. |
| Package 57/2090 | Hostname | OS / Arch | INSTALL | BUILD | CHECK | BUILD BIN | ||||||||
| AnnotationDbi 1.57.1 (landing page) Bioconductor Package Maintainer
| nebbiolo1 | Linux (Ubuntu 20.04.4 LTS) / x86_64 | OK | OK | OK | |||||||||
| riesling1 | Windows Server 2019 Standard / x64 | OK | OK | OK | OK | |||||||||
| palomino3 | Windows Server 2022 Datacenter / x64 | OK | OK | OK | OK | |||||||||
| merida1 | macOS 10.14.6 Mojave / x86_64 | OK | OK | OK | OK | |||||||||
| Package: AnnotationDbi |
| Version: 1.57.1 |
| Command: rm -rf AnnotationDbi.buildbin-libdir && mkdir AnnotationDbi.buildbin-libdir && D:\biocbuild\bbs-3.15-bioc\R\bin\R.exe CMD INSTALL --build --library=AnnotationDbi.buildbin-libdir AnnotationDbi_1.57.1.tar.gz |
| StartedAt: 2022-03-17 20:51:57 -0400 (Thu, 17 Mar 2022) |
| EndedAt: 2022-03-17 20:53:45 -0400 (Thu, 17 Mar 2022) |
| EllapsedTime: 108.0 seconds |
| RetCode: 0 |
| Status: OK |
| PackageFile: AnnotationDbi_1.57.1.zip |
| PackageFileSize: 5.139 MiB |
##############################################################################
##############################################################################
###
### Running command:
###
### rm -rf AnnotationDbi.buildbin-libdir && mkdir AnnotationDbi.buildbin-libdir && D:\biocbuild\bbs-3.15-bioc\R\bin\R.exe CMD INSTALL --build --library=AnnotationDbi.buildbin-libdir AnnotationDbi_1.57.1.tar.gz
###
##############################################################################
##############################################################################
* installing *source* package 'AnnotationDbi' ...
** using staged installation
** R
** inst
** byte-compile and prepare package for lazy loading
Creating a new generic function for 'packageName' in package 'AnnotationDbi'
Creating a generic function for 'ls' from package 'base' in package 'AnnotationDbi'
Creating a generic function for 'eapply' from package 'base' in package 'AnnotationDbi'
Creating a generic function for 'exists' from package 'base' in package 'AnnotationDbi'
Creating a generic function for 'sample' from package 'base' in package 'AnnotationDbi'
** help
*** installing help indices
converting help for package 'AnnotationDbi'
finding HTML links ... done
AnnDbObj-class html
AnnDbPkg-checker html
AnnotationDb-class html
AnnotationDbi-internals html
Bimap-direction html
Bimap-envirAPI html
Bimap-keys html
Bimap-toTable html
Bimap html
BimapFiltering html
BimapFormatting html
GOColsAndKeytypes html
GOFrame html
GOTerms-class html
REDIRECT:topic Previous alias or file overwritten by alias: D:/biocbuild/bbs-3.15-bioc/meat/AnnotationDbi.buildbin-libdir/00LOCK-AnnotationDbi/00new/AnnotationDbi/help/Term.html
REDIRECT:topic Previous alias or file overwritten by alias: D:/biocbuild/bbs-3.15-bioc/meat/AnnotationDbi.buildbin-libdir/00LOCK-AnnotationDbi/00new/AnnotationDbi/help/Ontology.html
REDIRECT:topic Previous alias or file overwritten by alias: D:/biocbuild/bbs-3.15-bioc/meat/AnnotationDbi.buildbin-libdir/00LOCK-AnnotationDbi/00new/AnnotationDbi/help/Definition.html
KEGGFrame html
colsAndKeytypes html
createSimpleBimap html
inpIDMapper html
makeGOGraph html
make_eg_to_go_map html
orgPackageName html
organismKEGGFrame html
print.probetable html
toSQLStringSet html
unlist2 html
** building package indices
** installing vignettes
** testing if installed package can be loaded from temporary location
** testing if installed package can be loaded from final location
** testing if installed package keeps a record of temporary installation path
* MD5 sums
packaged installation of 'AnnotationDbi' as AnnotationDbi_1.57.1.zip
* DONE (AnnotationDbi)