Back to Workflows build report for BioC 3.14 |
This page was generated on 2022-04-11 21:00:10 -0400 (Mon, 11 Apr 2022).
Hostname | OS | Arch (*) | R version | Installed pkgs |
---|---|---|---|---|
nebbiolo2 | Linux (Ubuntu 20.04.4 LTS) | x86_64 | 4.1.3 (2022-03-10) -- "One Push-Up" | 4323 |
riesling1 | Windows Server 2019 Standard | x64 | 4.1.2 (2021-11-01) -- "Bird Hippie" | 4108 |
machv2 | macOS 10.14.6 Mojave | x86_64 | 4.1.3 (2022-03-10) -- "One Push-Up" | 4136 |
Click on any hostname to see more info about the system (e.g. compilers) (*) as reported by 'uname -p', except on Windows and Mac OS X |
To the developers/maintainers of the SingscoreAMLMutations package: Make sure to use the following settings in order to reproduce any error or warning you see on this page. |
Package 27/29 | Hostname | OS / Arch | INSTALL | BUILD | ||||||||
SingscoreAMLMutations 1.10.0 (landing page) Dharmesh D. Bhuva
| nebbiolo2 | Linux (Ubuntu 20.04.4 LTS) / x86_64 | OK | ERROR | ||||||||
riesling1 | Windows Server 2019 Standard / x64 | OK | ERROR | |||||||||
machv2 | macOS 10.14.6 Mojave / x86_64 | OK | ERROR | |||||||||
Package: SingscoreAMLMutations |
Version: 1.10.0 |
Command: C:\cygwin\bin\curl.exe -O http://155.52.207.166/BBS/3.14/workflows/src/contrib/SingscoreAMLMutations_1.10.0.tar.gz && rm -rf SingscoreAMLMutations.buildbin-libdir && mkdir SingscoreAMLMutations.buildbin-libdir && D:\biocbuild\bbs-3.14-bioc\R\bin\R.exe CMD INSTALL --merge-multiarch --build --library=SingscoreAMLMutations.buildbin-libdir SingscoreAMLMutations_1.10.0.tar.gz && D:\biocbuild\bbs-3.14-bioc\R\bin\R.exe CMD INSTALL SingscoreAMLMutations_1.10.0.zip && rm SingscoreAMLMutations_1.10.0.tar.gz SingscoreAMLMutations_1.10.0.zip |
StartedAt: 2022-04-11 15:01:36 -0400 (Mon, 11 Apr 2022) |
EndedAt: 2022-04-11 15:02:09 -0400 (Mon, 11 Apr 2022) |
EllapsedTime: 33.4 seconds |
RetCode: 0 |
Status: OK |
############################################################################## ############################################################################## ### ### Running command: ### ### C:\cygwin\bin\curl.exe -O http://155.52.207.166/BBS/3.14/workflows/src/contrib/SingscoreAMLMutations_1.10.0.tar.gz && rm -rf SingscoreAMLMutations.buildbin-libdir && mkdir SingscoreAMLMutations.buildbin-libdir && D:\biocbuild\bbs-3.14-bioc\R\bin\R.exe CMD INSTALL --merge-multiarch --build --library=SingscoreAMLMutations.buildbin-libdir SingscoreAMLMutations_1.10.0.tar.gz && D:\biocbuild\bbs-3.14-bioc\R\bin\R.exe CMD INSTALL SingscoreAMLMutations_1.10.0.zip && rm SingscoreAMLMutations_1.10.0.tar.gz SingscoreAMLMutations_1.10.0.zip ### ############################################################################## ############################################################################## % Total % Received % Xferd Average Speed Time Time Time Current Dload Upload Total Spent Left Speed 0 0 0 0 0 0 0 0 --:--:-- --:--:-- --:--:-- 0 100 56471 100 56471 0 0 330k 0 --:--:-- --:--:-- --:--:-- 330k install for i386 * installing *source* package 'SingscoreAMLMutations' ... ** using staged installation It is recommended to use 'given' instead of 'middle'. It is recommended to use 'given' instead of 'middle'. It is recommended to use 'given' instead of 'middle'. It is recommended to use 'given' instead of 'middle'. ** R ** data ** byte-compile and prepare package for lazy loading ** help *** installing help indices converting help for package 'SingscoreAMLMutations' finding HTML links ... done AMLPatientMutationsTCGA html SingscoreAMLMutations-package html ** building package indices ** installing vignettes ** testing if installed package can be loaded from temporary location ** testing if installed package can be loaded from final location ** testing if installed package keeps a record of temporary installation path install for x64 * installing *source* package 'SingscoreAMLMutations' ... ** testing if installed package can be loaded * MD5 sums packaged installation of 'SingscoreAMLMutations' as SingscoreAMLMutations_1.10.0.zip * DONE (SingscoreAMLMutations) * installing to library 'D:/biocbuild/bbs-3.14-bioc/R/library' package 'SingscoreAMLMutations' successfully unpacked and MD5 sums checked